BEGIN:VCALENDAR
VERSION:2.0
PRODID:-//Granada Hills Community Church - ECPv6.15.20//NONSGML v1.0//EN
CALSCALE:GREGORIAN
METHOD:PUBLISH
X-ORIGINAL-URL:https://www.ghcc4u.org
X-WR-CALDESC:Events for Granada Hills Community Church
REFRESH-INTERVAL;VALUE=DURATION:PT1H
X-Robots-Tag:noindex
X-PUBLISHED-TTL:PT1H
BEGIN:VTIMEZONE
TZID:America/Los_Angeles
BEGIN:DAYLIGHT
TZOFFSETFROM:-0800
TZOFFSETTO:-0700
TZNAME:PDT
DTSTART:20250309T100000
END:DAYLIGHT
BEGIN:STANDARD
TZOFFSETFROM:-0700
TZOFFSETTO:-0800
TZNAME:PST
DTSTART:20251102T090000
END:STANDARD
BEGIN:DAYLIGHT
TZOFFSETFROM:-0800
TZOFFSETTO:-0700
TZNAME:PDT
DTSTART:20260308T100000
END:DAYLIGHT
BEGIN:STANDARD
TZOFFSETFROM:-0700
TZOFFSETTO:-0800
TZNAME:PST
DTSTART:20261101T090000
END:STANDARD
BEGIN:DAYLIGHT
TZOFFSETFROM:-0800
TZOFFSETTO:-0700
TZNAME:PDT
DTSTART:20270314T100000
END:DAYLIGHT
BEGIN:STANDARD
TZOFFSETFROM:-0700
TZOFFSETTO:-0800
TZNAME:PST
DTSTART:20271107T090000
END:STANDARD
END:VTIMEZONE
BEGIN:VEVENT
DTSTART;TZID=America/Los_Angeles:20260204T180000
DTEND;TZID=America/Los_Angeles:20260204T200000
DTSTAMP:20260423T104929
CREATED:20260218T233607Z
LAST-MODIFIED:20260218T233624Z
UID:31597-1770228000-1770235200@www.ghcc4u.org
SUMMARY:Wednesday Night Youth Group
DESCRIPTION:Please join us for a great evening of fun activities\, pizza\, and study in God’s word!
URL:https://www.ghcc4u.org/event/wednesday-night-youth-group-2026-04/
LOCATION:Granada Hills Community Church\, 11263 Balboa Blvd\, Granada Hills\, CA\, 91344\, United States
CATEGORIES:Youth Ministry
ATTACH;FMTTYPE=image/jpeg:https://www.ghcc4u.org/wp-content/uploads/2022/09/youth.jpg
END:VEVENT
BEGIN:VEVENT
DTSTART;TZID=America/Los_Angeles:20260204T183000
DTEND;TZID=America/Los_Angeles:20260204T200000
DTSTAMP:20260423T104929
CREATED:20260218T233214Z
LAST-MODIFIED:20260218T233227Z
UID:31581-1770229800-1770235200@www.ghcc4u.org
SUMMARY:Wednesday Night Women's Winter Bible Study
DESCRIPTION:“A Woman’s Walk with God” is an invitation to experience the joys of moment-by-moment living in the Lord’s power–and producing the fruit of the Spirit in every circumstance! Elizabeth George gives practical help with making this possible in this study of the fruit of the Spirit.\nDiscover love\, joy\, and peace that changes hearts\, families\, and friendships; patience\, kindness\, and goodness that seeks the best for everyone; faithfulness\, gentleness\, and self-control that brings spiritual victory in life”s more challenging moments.
URL:https://www.ghcc4u.org/event/wednesday-night-womens-winter-bible-study-2026-05/
LOCATION:Granada Hills Community Church\, 11263 Balboa Blvd\, Granada Hills\, CA\, 91344\, United States
CATEGORIES:Women's Ministry
ATTACH;FMTTYPE=image/jpeg:https://www.ghcc4u.org/wp-content/uploads/2026/01/george.jpg
END:VEVENT
BEGIN:VEVENT
DTSTART;TZID=America/Los_Angeles:20260205T094500
DTEND;TZID=America/Los_Angeles:20260205T113000
DTSTAMP:20260423T104929
CREATED:20260218T233416Z
LAST-MODIFIED:20260218T233429Z
UID:31589-1770284700-1770291000@www.ghcc4u.org
SUMMARY:Thursday Morning Women's Winter Bible Study
DESCRIPTION:“A Woman’s Walk with God” is an invitation to experience the joys of moment-by-moment living in the Lord’s power–and producing the fruit of the Spirit in every circumstance! Elizabeth George gives practical help with making this possible in this study of the fruit of the Spirit.\nDiscover love\, joy\, and peace that changes hearts\, families\, and friendships; patience\, kindness\, and goodness that seeks the best for everyone; faithfulness\, gentleness\, and self-control that brings spiritual victory in life”s more challenging moments.
URL:https://www.ghcc4u.org/event/thursday-morning-womens-winter-bible-study-2026-05/
LOCATION:Granada Hills Community Church\, 11263 Balboa Blvd\, Granada Hills\, CA\, 91344\, United States
CATEGORIES:Women's Ministry
ATTACH;FMTTYPE=image/jpeg:https://www.ghcc4u.org/wp-content/uploads/2026/01/george.jpg
END:VEVENT
BEGIN:VEVENT
DTSTART;TZID=America/Los_Angeles:20260211T180000
DTEND;TZID=America/Los_Angeles:20260211T200000
DTSTAMP:20260423T104929
CREATED:20260218T233723Z
LAST-MODIFIED:20260218T233735Z
UID:31599-1770832800-1770840000@www.ghcc4u.org
SUMMARY:Wednesday Night Youth Group
DESCRIPTION:Please join us for a great evening of fun activities\, pizza\, and study in God’s word!
URL:https://www.ghcc4u.org/event/wednesday-night-youth-group-2026-05/
LOCATION:Granada Hills Community Church\, 11263 Balboa Blvd\, Granada Hills\, CA\, 91344\, United States
CATEGORIES:Youth Ministry
ATTACH;FMTTYPE=image/jpeg:https://www.ghcc4u.org/wp-content/uploads/2022/09/youth.jpg
END:VEVENT
BEGIN:VEVENT
DTSTART;TZID=America/Los_Angeles:20260211T183000
DTEND;TZID=America/Los_Angeles:20260211T200000
DTSTAMP:20260423T104929
CREATED:20260218T233244Z
LAST-MODIFIED:20260218T233254Z
UID:31583-1770834600-1770840000@www.ghcc4u.org
SUMMARY:Wednesday Night Women's Winter Bible Study
DESCRIPTION:“A Woman’s Walk with God” is an invitation to experience the joys of moment-by-moment living in the Lord’s power–and producing the fruit of the Spirit in every circumstance! Elizabeth George gives practical help with making this possible in this study of the fruit of the Spirit.\nDiscover love\, joy\, and peace that changes hearts\, families\, and friendships; patience\, kindness\, and goodness that seeks the best for everyone; faithfulness\, gentleness\, and self-control that brings spiritual victory in life”s more challenging moments.
URL:https://www.ghcc4u.org/event/wednesday-night-womens-winter-bible-study-2026-06/
LOCATION:Granada Hills Community Church\, 11263 Balboa Blvd\, Granada Hills\, CA\, 91344\, United States
CATEGORIES:Women's Ministry
ATTACH;FMTTYPE=image/jpeg:https://www.ghcc4u.org/wp-content/uploads/2026/01/george.jpg
END:VEVENT
BEGIN:VEVENT
DTSTART;TZID=America/Los_Angeles:20260212T094500
DTEND;TZID=America/Los_Angeles:20260212T113000
DTSTAMP:20260423T104929
CREATED:20260218T233445Z
LAST-MODIFIED:20260218T233454Z
UID:31591-1770889500-1770895800@www.ghcc4u.org
SUMMARY:Thursday Morning Women's Winter Bible Study
DESCRIPTION:“A Woman’s Walk with God” is an invitation to experience the joys of moment-by-moment living in the Lord’s power–and producing the fruit of the Spirit in every circumstance! Elizabeth George gives practical help with making this possible in this study of the fruit of the Spirit.\nDiscover love\, joy\, and peace that changes hearts\, families\, and friendships; patience\, kindness\, and goodness that seeks the best for everyone; faithfulness\, gentleness\, and self-control that brings spiritual victory in life”s more challenging moments.
URL:https://www.ghcc4u.org/event/thursday-morning-womens-winter-bible-study-2026-06/
LOCATION:Granada Hills Community Church\, 11263 Balboa Blvd\, Granada Hills\, CA\, 91344\, United States
CATEGORIES:Women's Ministry
ATTACH;FMTTYPE=image/jpeg:https://www.ghcc4u.org/wp-content/uploads/2026/01/george.jpg
END:VEVENT
BEGIN:VEVENT
DTSTART;TZID=America/Los_Angeles:20260214T080000
DTEND;TZID=America/Los_Angeles:20260214T090000
DTSTAMP:20260423T104929
CREATED:20260218T233849Z
LAST-MODIFIED:20260218T233901Z
UID:31605-1771056000-1771059600@www.ghcc4u.org
SUMMARY:Men's Bible Study
DESCRIPTION:Join us for faith and fellowship as we gather to talk about what genuine discipleship looks like in our lives as Christian men.\nWe meet at 8:00am in the Family Life Center (FLC) on the GHCC campus.
URL:https://www.ghcc4u.org/event/mens-bible-study-2026-03/
LOCATION:Granada Hills Community Church\, 11263 Balboa Blvd\, Granada Hills\, CA\, 91344\, United States
CATEGORIES:Men's Ministry
ATTACH;FMTTYPE=image/jpeg:https://www.ghcc4u.org/wp-content/uploads/2022/09/mens-bible-study.jpg
END:VEVENT
BEGIN:VEVENT
DTSTART;VALUE=DATE:20260216
DTEND;VALUE=DATE:20260217
DTSTAMP:20260423T104929
CREATED:20260218T234050Z
LAST-MODIFIED:20260218T234101Z
UID:31609-1771200000-1771286399@www.ghcc4u.org
SUMMARY:Church Office Closed
DESCRIPTION:The church office is closed for Presidents’ Day.
URL:https://www.ghcc4u.org/event/church-office-closed-2026-02/
LOCATION:Granada Hills Community Church\, 11263 Balboa Blvd\, Granada Hills\, CA\, 91344\, United States
CATEGORIES:Holiday
ATTACH;FMTTYPE=image/jpeg:https://www.ghcc4u.org/wp-content/uploads/2019/02/closed.jpg
END:VEVENT
BEGIN:VEVENT
DTSTART;TZID=America/Los_Angeles:20260218T180000
DTEND;TZID=America/Los_Angeles:20260218T200000
DTSTAMP:20260423T104929
CREATED:20260218T233749Z
LAST-MODIFIED:20260218T233800Z
UID:31601-1771437600-1771444800@www.ghcc4u.org
SUMMARY:Wednesday Night Youth Group
DESCRIPTION:Please join us for a great evening of fun activities\, pizza\, and study in God’s word!
URL:https://www.ghcc4u.org/event/wednesday-night-youth-group-2026-06/
LOCATION:Granada Hills Community Church\, 11263 Balboa Blvd\, Granada Hills\, CA\, 91344\, United States
CATEGORIES:Youth Ministry
ATTACH;FMTTYPE=image/jpeg:https://www.ghcc4u.org/wp-content/uploads/2022/09/youth.jpg
END:VEVENT
BEGIN:VEVENT
DTSTART;TZID=America/Los_Angeles:20260218T183000
DTEND;TZID=America/Los_Angeles:20260218T200000
DTSTAMP:20260423T104929
CREATED:20260218T233309Z
LAST-MODIFIED:20260218T233323Z
UID:31585-1771439400-1771444800@www.ghcc4u.org
SUMMARY:Wednesday Night Women's Winter Bible Study
DESCRIPTION:“A Woman’s Walk with God” is an invitation to experience the joys of moment-by-moment living in the Lord’s power–and producing the fruit of the Spirit in every circumstance! Elizabeth George gives practical help with making this possible in this study of the fruit of the Spirit.\nDiscover love\, joy\, and peace that changes hearts\, families\, and friendships; patience\, kindness\, and goodness that seeks the best for everyone; faithfulness\, gentleness\, and self-control that brings spiritual victory in life”s more challenging moments.
URL:https://www.ghcc4u.org/event/wednesday-night-womens-winter-bible-study-2026-07/
LOCATION:Granada Hills Community Church\, 11263 Balboa Blvd\, Granada Hills\, CA\, 91344\, United States
CATEGORIES:Women's Ministry
ATTACH;FMTTYPE=image/jpeg:https://www.ghcc4u.org/wp-content/uploads/2026/01/george.jpg
END:VEVENT
BEGIN:VEVENT
DTSTART;TZID=America/Los_Angeles:20260219T094500
DTEND;TZID=America/Los_Angeles:20260219T113000
DTSTAMP:20260423T104929
CREATED:20260218T233509Z
LAST-MODIFIED:20260218T233521Z
UID:31593-1771494300-1771500600@www.ghcc4u.org
SUMMARY:Thursday Morning Women's Winter Bible Study
DESCRIPTION:“A Woman’s Walk with God” is an invitation to experience the joys of moment-by-moment living in the Lord’s power–and producing the fruit of the Spirit in every circumstance! Elizabeth George gives practical help with making this possible in this study of the fruit of the Spirit.\nDiscover love\, joy\, and peace that changes hearts\, families\, and friendships; patience\, kindness\, and goodness that seeks the best for everyone; faithfulness\, gentleness\, and self-control that brings spiritual victory in life”s more challenging moments.
URL:https://www.ghcc4u.org/event/thursday-morning-womens-winter-bible-study-2026-07/
LOCATION:Granada Hills Community Church\, 11263 Balboa Blvd\, Granada Hills\, CA\, 91344\, United States
CATEGORIES:Women's Ministry
ATTACH;FMTTYPE=image/jpeg:https://www.ghcc4u.org/wp-content/uploads/2026/01/george.jpg
END:VEVENT
BEGIN:VEVENT
DTSTART;TZID=America/Los_Angeles:20260225T180000
DTEND;TZID=America/Los_Angeles:20260225T200000
DTSTAMP:20260423T104929
CREATED:20260218T233814Z
LAST-MODIFIED:20260218T233823Z
UID:31603-1772042400-1772049600@www.ghcc4u.org
SUMMARY:Wednesday Night Youth Group
DESCRIPTION:Please join us for a great evening of fun activities\, pizza\, and study in God’s word!
URL:https://www.ghcc4u.org/event/wednesday-night-youth-group-2026-07/
LOCATION:Granada Hills Community Church\, 11263 Balboa Blvd\, Granada Hills\, CA\, 91344\, United States
CATEGORIES:Youth Ministry
ATTACH;FMTTYPE=image/jpeg:https://www.ghcc4u.org/wp-content/uploads/2022/09/youth.jpg
END:VEVENT
BEGIN:VEVENT
DTSTART;TZID=America/Los_Angeles:20260225T183000
DTEND;TZID=America/Los_Angeles:20260225T200000
DTSTAMP:20260423T104929
CREATED:20260218T233337Z
LAST-MODIFIED:20260218T233359Z
UID:31587-1772044200-1772049600@www.ghcc4u.org
SUMMARY:Wednesday Night Women's Winter Bible Study
DESCRIPTION:“A Woman’s Walk with God” is an invitation to experience the joys of moment-by-moment living in the Lord’s power–and producing the fruit of the Spirit in every circumstance! Elizabeth George gives practical help with making this possible in this study of the fruit of the Spirit.\nDiscover love\, joy\, and peace that changes hearts\, families\, and friendships; patience\, kindness\, and goodness that seeks the best for everyone; faithfulness\, gentleness\, and self-control that brings spiritual victory in life”s more challenging moments.
URL:https://www.ghcc4u.org/event/wednesday-night-womens-winter-bible-study-2026-08/
LOCATION:Granada Hills Community Church\, 11263 Balboa Blvd\, Granada Hills\, CA\, 91344\, United States
CATEGORIES:Women's Ministry
ATTACH;FMTTYPE=image/jpeg:https://www.ghcc4u.org/wp-content/uploads/2026/01/george.jpg
END:VEVENT
BEGIN:VEVENT
DTSTART;TZID=America/Los_Angeles:20260226T094500
DTEND;TZID=America/Los_Angeles:20260226T113000
DTSTAMP:20260423T104929
CREATED:20260218T233535Z
LAST-MODIFIED:20260218T233547Z
UID:31595-1772099100-1772105400@www.ghcc4u.org
SUMMARY:Thursday Morning Women's Winter Bible Study
DESCRIPTION:“A Woman’s Walk with God” is an invitation to experience the joys of moment-by-moment living in the Lord’s power–and producing the fruit of the Spirit in every circumstance! Elizabeth George gives practical help with making this possible in this study of the fruit of the Spirit.\nDiscover love\, joy\, and peace that changes hearts\, families\, and friendships; patience\, kindness\, and goodness that seeks the best for everyone; faithfulness\, gentleness\, and self-control that brings spiritual victory in life”s more challenging moments.
URL:https://www.ghcc4u.org/event/thursday-morning-womens-winter-bible-study-2026-08/
LOCATION:Granada Hills Community Church\, 11263 Balboa Blvd\, Granada Hills\, CA\, 91344\, United States
CATEGORIES:Women's Ministry
ATTACH;FMTTYPE=image/jpeg:https://www.ghcc4u.org/wp-content/uploads/2026/01/george.jpg
END:VEVENT
BEGIN:VEVENT
DTSTART;TZID=America/Los_Angeles:20260228T080000
DTEND;TZID=America/Los_Angeles:20260228T090000
DTSTAMP:20260423T104929
CREATED:20260218T233916Z
LAST-MODIFIED:20260218T233926Z
UID:31607-1772265600-1772269200@www.ghcc4u.org
SUMMARY:Men's Bible Study
DESCRIPTION:Join us for faith and fellowship as we gather to talk about what genuine discipleship looks like in our lives as Christian men.\nWe meet at 8:00am in the Family Life Center (FLC) on the GHCC campus.
URL:https://www.ghcc4u.org/event/mens-bible-study-2026-04/
LOCATION:Granada Hills Community Church\, 11263 Balboa Blvd\, Granada Hills\, CA\, 91344\, United States
CATEGORIES:Men's Ministry
ATTACH;FMTTYPE=image/jpeg:https://www.ghcc4u.org/wp-content/uploads/2022/09/mens-bible-study.jpg
END:VEVENT
END:VCALENDAR