BEGIN:VCALENDAR
VERSION:2.0
PRODID:-//Granada Hills Community Church - ECPv6.15.20//NONSGML v1.0//EN
CALSCALE:GREGORIAN
METHOD:PUBLISH
X-WR-CALNAME:Granada Hills Community Church
X-ORIGINAL-URL:https://www.ghcc4u.org
X-WR-CALDESC:Events for Granada Hills Community Church
REFRESH-INTERVAL;VALUE=DURATION:PT1H
X-Robots-Tag:noindex
X-PUBLISHED-TTL:PT1H
BEGIN:VTIMEZONE
TZID:America/Los_Angeles
BEGIN:DAYLIGHT
TZOFFSETFROM:-0800
TZOFFSETTO:-0700
TZNAME:PDT
DTSTART:20240310T100000
END:DAYLIGHT
BEGIN:STANDARD
TZOFFSETFROM:-0700
TZOFFSETTO:-0800
TZNAME:PST
DTSTART:20241103T090000
END:STANDARD
BEGIN:DAYLIGHT
TZOFFSETFROM:-0800
TZOFFSETTO:-0700
TZNAME:PDT
DTSTART:20250309T100000
END:DAYLIGHT
BEGIN:STANDARD
TZOFFSETFROM:-0700
TZOFFSETTO:-0800
TZNAME:PST
DTSTART:20251102T090000
END:STANDARD
BEGIN:DAYLIGHT
TZOFFSETFROM:-0800
TZOFFSETTO:-0700
TZNAME:PDT
DTSTART:20260308T100000
END:DAYLIGHT
BEGIN:STANDARD
TZOFFSETFROM:-0700
TZOFFSETTO:-0800
TZNAME:PST
DTSTART:20261101T090000
END:STANDARD
END:VTIMEZONE
BEGIN:VEVENT
DTSTART;TZID=America/Los_Angeles:20250802T130000
DTEND;TZID=America/Los_Angeles:20250802T170000
DTSTAMP:20260423T202854
CREATED:20250804T230745Z
LAST-MODIFIED:20250804T230759Z
UID:31261-1754139600-1754154000@www.ghcc4u.org
SUMMARY:Youth Pool Party
DESCRIPTION:Come join us for a great time of food and fun in the pool!\nThe event will start at 1:00pm at Kathi Adkins’s home: 11009 Gloria Ave Granada Hills CA 91344.
URL:https://www.ghcc4u.org/event/youth-pool-party-2025-1/
LOCATION:Kathi Adkins Home\, 11009 Gloria Ave\, Granada Hills\, CA\, 91344\, United States
CATEGORIES:Youth Ministry
ATTACH;FMTTYPE=image/jpeg:https://www.ghcc4u.org/wp-content/uploads/2019/02/pool.jpg
END:VEVENT
BEGIN:VEVENT
DTSTART;TZID=America/Los_Angeles:20250803T160000
DTEND;TZID=America/Los_Angeles:20250803T210000
DTSTAMP:20260423T202854
CREATED:20250804T230106Z
LAST-MODIFIED:20250804T230125Z
UID:31247-1754236800-1754254800@www.ghcc4u.org
SUMMARY:818 Night Market
DESCRIPTION:Please join us in enjoying an evening of food and shopping and in reaching out to our community with the gospel.
URL:https://www.ghcc4u.org/event/818-night-market-2025-23/
LOCATION:Granada Hills Community Church\, 11263 Balboa Blvd\, Granada Hills\, CA\, 91344\, United States
CATEGORIES:Outreach
ATTACH;FMTTYPE=image/jpeg:https://www.ghcc4u.org/wp-content/uploads/2024/09/818.jpg
END:VEVENT
BEGIN:VEVENT
DTSTART;TZID=America/Los_Angeles:20250806T183000
DTEND;TZID=America/Los_Angeles:20250806T200000
DTSTAMP:20260423T202854
CREATED:20250602T182439Z
LAST-MODIFIED:20250602T182448Z
UID:31140-1754505000-1754510400@www.ghcc4u.org
SUMMARY:Summer Fundamentals
DESCRIPTION:“But grow in the grace and knowledge of our Lord and Savior Jesus Christ. To him be the glory both now and to the day of eternity. Amen.” –2 Peter 3:18\nChristians are commanded to grow in the grace and knowledge of our Savior. Whether you are new to the faith or have been in church all your life\, grasping the basic truths of Christianity reflects a commitment to grow. It takes discipline to be a disciple\, and Summer Fundamentals is designed to engage you in the process of maturing in your faith.\nThis ten-week course is designed to help ground you in basic doctrines of the Christian faith\, including the nature of divine revelation\, the origin\, structure\, and dependability of the Scriptures\, the character of our triune God\, the Person and work of Christ particularly in salvation\, the indwelling work of the Holy Spirit\, and the nature of the church and spiritual gifts.
URL:https://www.ghcc4u.org/event/summer-fundamentals-2025-09/
LOCATION:Granada Hills Community Church\, 11263 Balboa Blvd\, Granada Hills\, CA\, 91344\, United States
CATEGORIES:Bible Study
ATTACH;FMTTYPE=image/jpeg:https://www.ghcc4u.org/wp-content/uploads/2019/05/fundamentals.jpg
END:VEVENT
BEGIN:VEVENT
DTSTART;TZID=America/Los_Angeles:20250810T160000
DTEND;TZID=America/Los_Angeles:20250810T210000
DTSTAMP:20260423T202854
CREATED:20250804T230141Z
LAST-MODIFIED:20250804T230151Z
UID:31249-1754841600-1754859600@www.ghcc4u.org
SUMMARY:818 Night Market
DESCRIPTION:Please join us in enjoying an evening of food and shopping and in reaching out to our community with the gospel.
URL:https://www.ghcc4u.org/event/818-night-market-2025-24/
LOCATION:Granada Hills Community Church\, 11263 Balboa Blvd\, Granada Hills\, CA\, 91344\, United States
CATEGORIES:Outreach
ATTACH;FMTTYPE=image/jpeg:https://www.ghcc4u.org/wp-content/uploads/2024/09/818.jpg
END:VEVENT
BEGIN:VEVENT
DTSTART;TZID=America/Los_Angeles:20250813T183000
DTEND;TZID=America/Los_Angeles:20250813T200000
DTSTAMP:20260423T202854
CREATED:20250602T182507Z
LAST-MODIFIED:20250602T182522Z
UID:31142-1755109800-1755115200@www.ghcc4u.org
SUMMARY:Summer Fundamentals
DESCRIPTION:“But grow in the grace and knowledge of our Lord and Savior Jesus Christ. To him be the glory both now and to the day of eternity. Amen.” –2 Peter 3:18\nChristians are commanded to grow in the grace and knowledge of our Savior. Whether you are new to the faith or have been in church all your life\, grasping the basic truths of Christianity reflects a commitment to grow. It takes discipline to be a disciple\, and Summer Fundamentals is designed to engage you in the process of maturing in your faith.\nThis ten-week course is designed to help ground you in basic doctrines of the Christian faith\, including the nature of divine revelation\, the origin\, structure\, and dependability of the Scriptures\, the character of our triune God\, the Person and work of Christ particularly in salvation\, the indwelling work of the Holy Spirit\, and the nature of the church and spiritual gifts.
URL:https://www.ghcc4u.org/event/summer-fundamentals-2025-10/
LOCATION:Granada Hills Community Church\, 11263 Balboa Blvd\, Granada Hills\, CA\, 91344\, United States
CATEGORIES:Bible Study
ATTACH;FMTTYPE=image/jpeg:https://www.ghcc4u.org/wp-content/uploads/2019/05/fundamentals.jpg
END:VEVENT
BEGIN:VEVENT
DTSTART;TZID=America/Los_Angeles:20250817T160000
DTEND;TZID=America/Los_Angeles:20250817T210000
DTSTAMP:20260423T202854
CREATED:20250804T230207Z
LAST-MODIFIED:20250804T230218Z
UID:31251-1755446400-1755464400@www.ghcc4u.org
SUMMARY:818 Night Market
DESCRIPTION:Please join us in enjoying an evening of food and shopping and in reaching out to our community with the gospel.
URL:https://www.ghcc4u.org/event/818-night-market-2025-25/
LOCATION:Granada Hills Community Church\, 11263 Balboa Blvd\, Granada Hills\, CA\, 91344\, United States
CATEGORIES:Outreach
ATTACH;FMTTYPE=image/jpeg:https://www.ghcc4u.org/wp-content/uploads/2024/09/818.jpg
END:VEVENT
BEGIN:VEVENT
DTSTART;TZID=America/Los_Angeles:20250820T180000
DTEND;TZID=America/Los_Angeles:20250820T200000
DTSTAMP:20260423T202854
CREATED:20250804T230435Z
LAST-MODIFIED:20250804T230453Z
UID:31257-1755712800-1755720000@www.ghcc4u.org
SUMMARY:Wednesday Night Youth Group
DESCRIPTION:Please join us for a great evening of fun activities\, pizza\, and study in God’s word!
URL:https://www.ghcc4u.org/event/wednesday-night-youth-group-2025-19/
LOCATION:Granada Hills Community Church\, 11263 Balboa Blvd\, Granada Hills\, CA\, 91344\, United States
CATEGORIES:Youth Ministry
ATTACH;FMTTYPE=image/jpeg:https://www.ghcc4u.org/wp-content/uploads/2022/09/youth.jpg
END:VEVENT
BEGIN:VEVENT
DTSTART;TZID=America/Los_Angeles:20250824T160000
DTEND;TZID=America/Los_Angeles:20250824T210000
DTSTAMP:20260423T202854
CREATED:20250804T230233Z
LAST-MODIFIED:20250804T230245Z
UID:31253-1756051200-1756069200@www.ghcc4u.org
SUMMARY:818 Night Market
DESCRIPTION:Please join us in enjoying an evening of food and shopping and in reaching out to our community with the gospel.
URL:https://www.ghcc4u.org/event/818-night-market-2025-26/
LOCATION:Granada Hills Community Church\, 11263 Balboa Blvd\, Granada Hills\, CA\, 91344\, United States
CATEGORIES:Outreach
ATTACH;FMTTYPE=image/jpeg:https://www.ghcc4u.org/wp-content/uploads/2024/09/818.jpg
END:VEVENT
BEGIN:VEVENT
DTSTART;TZID=America/Los_Angeles:20250827T180000
DTEND;TZID=America/Los_Angeles:20250827T200000
DTSTAMP:20260423T202854
CREATED:20250804T230511Z
LAST-MODIFIED:20250804T230524Z
UID:31259-1756317600-1756324800@www.ghcc4u.org
SUMMARY:Wednesday Night Youth Group
DESCRIPTION:Please join us for a great evening of fun activities\, pizza\, and study in God’s word!
URL:https://www.ghcc4u.org/event/wednesday-night-youth-group-2025-20/
LOCATION:Granada Hills Community Church\, 11263 Balboa Blvd\, Granada Hills\, CA\, 91344\, United States
CATEGORIES:Youth Ministry
ATTACH;FMTTYPE=image/jpeg:https://www.ghcc4u.org/wp-content/uploads/2022/09/youth.jpg
END:VEVENT
BEGIN:VEVENT
DTSTART;TZID=America/Los_Angeles:20250830T160000
DTEND;TZID=America/Los_Angeles:20250830T190000
DTSTAMP:20260423T202854
CREATED:20250804T231145Z
LAST-MODIFIED:20250804T231208Z
UID:31263-1756569600-1756580400@www.ghcc4u.org
SUMMARY:Youth Fall Kickoff BBQ
DESCRIPTION:Please come join us for food\, fun\, and fellowship at our Youth Fall Kickoff BBQ!\nAll GHCC Youth Group families are encouraged to reach out and invite neighbors and friends!
URL:https://www.ghcc4u.org/event/youth-fall-kickoff-bbq-2025-1/
LOCATION:Granada Hills Community Church\, 11263 Balboa Blvd\, Granada Hills\, CA\, 91344\, United States
CATEGORIES:Youth Ministry
ATTACH;FMTTYPE=image/jpeg:https://www.ghcc4u.org/wp-content/uploads/2019/02/youth-bbq.jpg
END:VEVENT
BEGIN:VEVENT
DTSTART;TZID=America/Los_Angeles:20250831T160000
DTEND;TZID=America/Los_Angeles:20250831T210000
DTSTAMP:20260423T202854
CREATED:20250804T230307Z
LAST-MODIFIED:20250804T230319Z
UID:31255-1756656000-1756674000@www.ghcc4u.org
SUMMARY:818 Night Market
DESCRIPTION:Please join us in enjoying an evening of food and shopping and in reaching out to our community with the gospel.
URL:https://www.ghcc4u.org/event/818-night-market-2025-27/
LOCATION:Granada Hills Community Church\, 11263 Balboa Blvd\, Granada Hills\, CA\, 91344\, United States
CATEGORIES:Outreach
ATTACH;FMTTYPE=image/jpeg:https://www.ghcc4u.org/wp-content/uploads/2024/09/818.jpg
END:VEVENT
END:VCALENDAR