BEGIN:VCALENDAR
VERSION:2.0
PRODID:-//Granada Hills Community Church - ECPv6.15.20//NONSGML v1.0//EN
CALSCALE:GREGORIAN
METHOD:PUBLISH
X-ORIGINAL-URL:https://www.ghcc4u.org
X-WR-CALDESC:Events for Granada Hills Community Church
REFRESH-INTERVAL;VALUE=DURATION:PT1H
X-Robots-Tag:noindex
X-PUBLISHED-TTL:PT1H
BEGIN:VTIMEZONE
TZID:America/Los_Angeles
BEGIN:DAYLIGHT
TZOFFSETFROM:-0800
TZOFFSETTO:-0700
TZNAME:PDT
DTSTART:20230312T100000
END:DAYLIGHT
BEGIN:STANDARD
TZOFFSETFROM:-0700
TZOFFSETTO:-0800
TZNAME:PST
DTSTART:20231105T090000
END:STANDARD
BEGIN:DAYLIGHT
TZOFFSETFROM:-0800
TZOFFSETTO:-0700
TZNAME:PDT
DTSTART:20240310T100000
END:DAYLIGHT
BEGIN:STANDARD
TZOFFSETFROM:-0700
TZOFFSETTO:-0800
TZNAME:PST
DTSTART:20241103T090000
END:STANDARD
BEGIN:DAYLIGHT
TZOFFSETFROM:-0800
TZOFFSETTO:-0700
TZNAME:PDT
DTSTART:20250309T100000
END:DAYLIGHT
BEGIN:STANDARD
TZOFFSETFROM:-0700
TZOFFSETTO:-0800
TZNAME:PST
DTSTART:20251102T090000
END:STANDARD
END:VTIMEZONE
BEGIN:VEVENT
DTSTART;TZID=America/Los_Angeles:20240605T180000
DTEND;TZID=America/Los_Angeles:20240605T200000
DTSTAMP:20260424T184704
CREATED:20240610T193637Z
LAST-MODIFIED:20240610T193637Z
UID:30634-1717610400-1717617600@www.ghcc4u.org
SUMMARY:Wednesday Night Youth Group
DESCRIPTION:Please join us for a great evening of fun activities\, pizza\, and study in God’s word!
URL:https://www.ghcc4u.org/event/wednesday-night-youth-group-2024-18/
LOCATION:Granada Hills Community Church\, 11263 Balboa Blvd\, Granada Hills\, CA\, 91344\, United States
CATEGORIES:Youth Ministry
ATTACH;FMTTYPE=image/jpeg:https://www.ghcc4u.org/wp-content/uploads/2022/09/youth.jpg
END:VEVENT
BEGIN:VEVENT
DTSTART;TZID=America/Los_Angeles:20240605T183000
DTEND;TZID=America/Los_Angeles:20240605T200000
DTSTAMP:20260424T184704
CREATED:20240610T195828Z
LAST-MODIFIED:20240610T200120Z
UID:30636-1717612200-1717617600@www.ghcc4u.org
SUMMARY:Wednesday Night Women's Summer Bible Study
DESCRIPTION:In this book\, “Overcomer: 8 Ways to Live a Life of Unstoppable Strength\, Unmovable Faith\, and Unbelievable Power\,” Dr. David Jeremiah uses Paul’s description of spiritual armor as an outline for exploring the Christian’s call to be an overcomer. This is not a technical description of Roman armor\, but an applicational study of what it means to stand firm and overcome sin\, the world\, and the devil.\nIn Christ\, we will discover the believer has everything necessary to live a victorious\, overcoming life.
URL:https://www.ghcc4u.org/event/wednesday-night-womens-summer-bible-study-2024-01/
LOCATION:Granada Hills Community Church\, 11263 Balboa Blvd\, Granada Hills\, CA\, 91344\, United States
CATEGORIES:Women's Ministry
ATTACH;FMTTYPE=image/jpeg:https://www.ghcc4u.org/wp-content/uploads/2024/06/overcomer.jpg
END:VEVENT
BEGIN:VEVENT
DTSTART;TZID=America/Los_Angeles:20240606T093000
DTEND;TZID=America/Los_Angeles:20240606T110000
DTSTAMP:20260424T184704
CREATED:20240610T200018Z
LAST-MODIFIED:20240610T200136Z
UID:30639-1717666200-1717671600@www.ghcc4u.org
SUMMARY:Thursday Morning Women's Summer Bible Study
DESCRIPTION:In this book\, “Overcomer: 8 Ways to Live a Life of Unstoppable Strength\, Unmovable Faith\, and Unbelievable Power\,” Dr. David Jeremiah uses Paul’s description of spiritual armor as an outline for exploring the Christian’s call to be an overcomer. This is not a technical description of Roman armor\, but an applicational study of what it means to stand firm and overcome sin\, the world\, and the devil.\nIn Christ\, we will discover the believer has everything necessary to live a victorious\, overcoming life.
URL:https://www.ghcc4u.org/event/thursday-morning-womens-summer-bible-study-2024-01/
LOCATION:Granada Hills Community Church\, 11263 Balboa Blvd\, Granada Hills\, CA\, 91344\, United States
CATEGORIES:Women's Ministry
ATTACH;FMTTYPE=image/jpeg:https://www.ghcc4u.org/wp-content/uploads/2024/06/overcomer.jpg
END:VEVENT
BEGIN:VEVENT
DTSTART;TZID=America/Los_Angeles:20240608T080000
DTEND;TZID=America/Los_Angeles:20240608T090000
DTSTAMP:20260424T184704
CREATED:20240702T182437Z
LAST-MODIFIED:20240702T182453Z
UID:30676-1717833600-1717837200@www.ghcc4u.org
SUMMARY:Men's Bible Study
DESCRIPTION:Join us for faith and fellowship as we gather to talk about what genuine discipleship looks like in our lives as Christian men.\nWe meet at 8:00am in the Family Life Center (FLC) on the GHCC campus.
URL:https://www.ghcc4u.org/event/mens-bible-study-2024-11/
LOCATION:Granada Hills Community Church\, 11263 Balboa Blvd\, Granada Hills\, CA\, 91344\, United States
CATEGORIES:Men's Ministry
ATTACH;FMTTYPE=image/jpeg:https://www.ghcc4u.org/wp-content/uploads/2022/09/mens-bible-study.jpg
END:VEVENT
BEGIN:VEVENT
DTSTART;TZID=America/Los_Angeles:20240612T183000
DTEND;TZID=America/Los_Angeles:20240612T200000
DTSTAMP:20260424T184704
CREATED:20240610T200056Z
LAST-MODIFIED:20240610T200147Z
UID:30641-1718217000-1718222400@www.ghcc4u.org
SUMMARY:Wednesday Night Women's Summer Bible Study
DESCRIPTION:In this book\, “Overcomer: 8 Ways to Live a Life of Unstoppable Strength\, Unmovable Faith\, and Unbelievable Power\,” Dr. David Jeremiah uses Paul’s description of spiritual armor as an outline for exploring the Christian’s call to be an overcomer. This is not a technical description of Roman armor\, but an applicational study of what it means to stand firm and overcome sin\, the world\, and the devil.\nIn Christ\, we will discover the believer has everything necessary to live a victorious\, overcoming life.
URL:https://www.ghcc4u.org/event/wednesday-night-womens-summer-bible-study-2024-02/
LOCATION:Granada Hills Community Church\, 11263 Balboa Blvd\, Granada Hills\, CA\, 91344\, United States
CATEGORIES:Women's Ministry
ATTACH;FMTTYPE=image/jpeg:https://www.ghcc4u.org/wp-content/uploads/2024/06/overcomer.jpg
END:VEVENT
BEGIN:VEVENT
DTSTART;TZID=America/Los_Angeles:20240613T093000
DTEND;TZID=America/Los_Angeles:20240613T110000
DTSTAMP:20260424T184704
CREATED:20240610T200308Z
LAST-MODIFIED:20240610T200323Z
UID:30647-1718271000-1718276400@www.ghcc4u.org
SUMMARY:Thursday Morning Women's Summer Bible Study
DESCRIPTION:In this book\, “Overcomer: 8 Ways to Live a Life of Unstoppable Strength\, Unmovable Faith\, and Unbelievable Power\,” Dr. David Jeremiah uses Paul’s description of spiritual armor as an outline for exploring the Christian’s call to be an overcomer. This is not a technical description of Roman armor\, but an applicational study of what it means to stand firm and overcome sin\, the world\, and the devil.\nIn Christ\, we will discover the believer has everything necessary to live a victorious\, overcoming life.
URL:https://www.ghcc4u.org/event/thursday-morning-womens-summer-bible-study-2024-02/
LOCATION:Granada Hills Community Church\, 11263 Balboa Blvd\, Granada Hills\, CA\, 91344\, United States
CATEGORIES:Women's Ministry
ATTACH;FMTTYPE=image/jpeg:https://www.ghcc4u.org/wp-content/uploads/2024/06/overcomer.jpg
END:VEVENT
BEGIN:VEVENT
DTSTART;TZID=America/Los_Angeles:20240615T093000
DTEND;TZID=America/Los_Angeles:20240615T113000
DTSTAMP:20260424T184704
CREATED:20240610T201416Z
LAST-MODIFIED:20240610T201442Z
UID:30654-1718443800-1718451000@www.ghcc4u.org
SUMMARY:Children's Hunger Fund Poverty Encounter
DESCRIPTION:Located within Children’s Hunger Fund\, Poverty Encounter is an interactive exhibit that takes you into four immersive environments in the developing world. Each environment highlights the story of a real child living in these circumstances. Guests will hear from Bruno as he shares what it is like to live and work in an open dumpsite in Guatemala. Jasmine describes how her entire life changed in just 35 seconds after a 7.0 earthquake destroyed her city in Haiti. Abiral explains how a brickyard trapped his family in a cycle of bonded labor in Nepal. hear how these children find hope despite these difficult circumstances and learn how families are being cared for through the work of the local church.\n \nTours include a service activity\, allowing you to respond biblically by providing both help and hope to those in need. Two two-hour tours are available\, one starting at 9:30am and one starting at 1:30pm.
URL:https://www.ghcc4u.org/event/childrens-hunger-fund-poverty-encounter-2024-01/
LOCATION:Granada Hills Community Church\, 11263 Balboa Blvd\, Granada Hills\, CA\, 91344\, United States
CATEGORIES:Outreach
ATTACH;FMTTYPE=image/jpeg:https://www.ghcc4u.org/wp-content/uploads/2024/06/chfpovenc.jpg
END:VEVENT
BEGIN:VEVENT
DTSTART;TZID=America/Los_Angeles:20240616T103000
DTEND;TZID=America/Los_Angeles:20240616T114500
DTSTAMP:20260424T184704
CREATED:20240610T202556Z
LAST-MODIFIED:20240610T202657Z
UID:30656-1718533800-1718538300@www.ghcc4u.org
SUMMARY:Father's Day Celebration
DESCRIPTION:Come join us as we celebrate God’s providence through fathers!
URL:https://www.ghcc4u.org/event/fathers-day-2024-1/
LOCATION:Granada Hills Community Church\, 11263 Balboa Blvd\, Granada Hills\, CA\, 91344\, United States
CATEGORIES:Holiday
ATTACH;FMTTYPE=image/jpeg:https://www.ghcc4u.org/wp-content/uploads/2024/06/fathers-day.jpg
END:VEVENT
BEGIN:VEVENT
DTSTART;TZID=America/Los_Angeles:20240619T183000
DTEND;TZID=America/Los_Angeles:20240619T200000
DTSTAMP:20260424T184704
CREATED:20240610T200208Z
LAST-MODIFIED:20240610T200221Z
UID:30643-1718821800-1718827200@www.ghcc4u.org
SUMMARY:Wednesday Night Women's Summer Bible Study
DESCRIPTION:In this book\, “Overcomer: 8 Ways to Live a Life of Unstoppable Strength\, Unmovable Faith\, and Unbelievable Power\,” Dr. David Jeremiah uses Paul’s description of spiritual armor as an outline for exploring the Christian’s call to be an overcomer. This is not a technical description of Roman armor\, but an applicational study of what it means to stand firm and overcome sin\, the world\, and the devil.\nIn Christ\, we will discover the believer has everything necessary to live a victorious\, overcoming life.
URL:https://www.ghcc4u.org/event/wednesday-night-womens-summer-bible-study-2024-03/
LOCATION:Granada Hills Community Church\, 11263 Balboa Blvd\, Granada Hills\, CA\, 91344\, United States
CATEGORIES:Women's Ministry
ATTACH;FMTTYPE=image/jpeg:https://www.ghcc4u.org/wp-content/uploads/2024/06/overcomer.jpg
END:VEVENT
BEGIN:VEVENT
DTSTART;TZID=America/Los_Angeles:20240620T093000
DTEND;TZID=America/Los_Angeles:20240620T110000
DTSTAMP:20260424T184704
CREATED:20240610T200339Z
LAST-MODIFIED:20240610T200351Z
UID:30649-1718875800-1718881200@www.ghcc4u.org
SUMMARY:Thursday Morning Women's Summer Bible Study
DESCRIPTION:In this book\, “Overcomer: 8 Ways to Live a Life of Unstoppable Strength\, Unmovable Faith\, and Unbelievable Power\,” Dr. David Jeremiah uses Paul’s description of spiritual armor as an outline for exploring the Christian’s call to be an overcomer. This is not a technical description of Roman armor\, but an applicational study of what it means to stand firm and overcome sin\, the world\, and the devil.\nIn Christ\, we will discover the believer has everything necessary to live a victorious\, overcoming life.
URL:https://www.ghcc4u.org/event/thursday-morning-womens-summer-bible-study-2024-03/
LOCATION:Granada Hills Community Church\, 11263 Balboa Blvd\, Granada Hills\, CA\, 91344\, United States
CATEGORIES:Women's Ministry
ATTACH;FMTTYPE=image/jpeg:https://www.ghcc4u.org/wp-content/uploads/2024/06/overcomer.jpg
END:VEVENT
BEGIN:VEVENT
DTSTART;TZID=America/Los_Angeles:20240622T080000
DTEND;TZID=America/Los_Angeles:20240622T090000
DTSTAMP:20260424T184704
CREATED:20240702T182515Z
LAST-MODIFIED:20240702T182529Z
UID:30678-1719043200-1719046800@www.ghcc4u.org
SUMMARY:Men's Bible Study
DESCRIPTION:Join us for faith and fellowship as we gather to talk about what genuine discipleship looks like in our lives as Christian men.\nWe meet at 8:00am in the Family Life Center (FLC) on the GHCC campus.
URL:https://www.ghcc4u.org/event/mens-bible-study-2024-12/
LOCATION:Granada Hills Community Church\, 11263 Balboa Blvd\, Granada Hills\, CA\, 91344\, United States
CATEGORIES:Men's Ministry
ATTACH;FMTTYPE=image/jpeg:https://www.ghcc4u.org/wp-content/uploads/2022/09/mens-bible-study.jpg
END:VEVENT
BEGIN:VEVENT
DTSTART;TZID=America/Los_Angeles:20240626T183000
DTEND;TZID=America/Los_Angeles:20240626T200000
DTSTAMP:20260424T184704
CREATED:20240610T200239Z
LAST-MODIFIED:20240610T200250Z
UID:30645-1719426600-1719432000@www.ghcc4u.org
SUMMARY:Wednesday Night Women's Summer Bible Study
DESCRIPTION:In this book\, “Overcomer: 8 Ways to Live a Life of Unstoppable Strength\, Unmovable Faith\, and Unbelievable Power\,” Dr. David Jeremiah uses Paul’s description of spiritual armor as an outline for exploring the Christian’s call to be an overcomer. This is not a technical description of Roman armor\, but an applicational study of what it means to stand firm and overcome sin\, the world\, and the devil.\nIn Christ\, we will discover the believer has everything necessary to live a victorious\, overcoming life.
URL:https://www.ghcc4u.org/event/wednesday-night-womens-summer-bible-study-2024-04/
LOCATION:Granada Hills Community Church\, 11263 Balboa Blvd\, Granada Hills\, CA\, 91344\, United States
CATEGORIES:Women's Ministry
ATTACH;FMTTYPE=image/jpeg:https://www.ghcc4u.org/wp-content/uploads/2024/06/overcomer.jpg
END:VEVENT
BEGIN:VEVENT
DTSTART;TZID=America/Los_Angeles:20240627T093000
DTEND;TZID=America/Los_Angeles:20240627T110000
DTSTAMP:20260424T184704
CREATED:20240610T200414Z
LAST-MODIFIED:20240610T200427Z
UID:30651-1719480600-1719486000@www.ghcc4u.org
SUMMARY:Thursday Morning Women's Summer Bible Study
DESCRIPTION:In this book\, “Overcomer: 8 Ways to Live a Life of Unstoppable Strength\, Unmovable Faith\, and Unbelievable Power\,” Dr. David Jeremiah uses Paul’s description of spiritual armor as an outline for exploring the Christian’s call to be an overcomer. This is not a technical description of Roman armor\, but an applicational study of what it means to stand firm and overcome sin\, the world\, and the devil.\nIn Christ\, we will discover the believer has everything necessary to live a victorious\, overcoming life.
URL:https://www.ghcc4u.org/event/thursday-morning-womens-summer-bible-study-2024-04/
LOCATION:Granada Hills Community Church\, 11263 Balboa Blvd\, Granada Hills\, CA\, 91344\, United States
CATEGORIES:Women's Ministry
ATTACH;FMTTYPE=image/jpeg:https://www.ghcc4u.org/wp-content/uploads/2024/06/overcomer.jpg
END:VEVENT
BEGIN:VEVENT
DTSTART;VALUE=DATE:20240628
DTEND;VALUE=DATE:20240702
DTSTAMP:20260424T184704
CREATED:20240610T203117Z
LAST-MODIFIED:20240610T203233Z
UID:30659-1719532800-1719878399@www.ghcc4u.org
SUMMARY:Youth Summer Camp
DESCRIPTION:The GHCC Youth Group will be joining the Summer Camp hosted by Grace Bible Church of Bakersfield at Hartland Christian Camp in Badger\, CA. The camp will start on Friday 6/28 and end on Monday 7/1. The cost to attend is $360 for students and $290 for leaders.\nAll GHCC Youth Group families are encouraged to reach out and invite teenagers\, grades 6-12!
URL:https://www.ghcc4u.org/event/youth-summer-camp-2024-1/
LOCATION:Hartland Christian Camp\, 57611 Eshom Valley Dr\, Badger\, CA\, 93603\, United States
CATEGORIES:Youth Ministry
ATTACH;FMTTYPE=image/jpeg:https://www.ghcc4u.org/wp-content/uploads/2019/02/tent.jpg
END:VEVENT
END:VCALENDAR