BEGIN:VCALENDAR
VERSION:2.0
PRODID:-//Granada Hills Community Church - ECPv6.15.20//NONSGML v1.0//EN
CALSCALE:GREGORIAN
METHOD:PUBLISH
X-WR-CALNAME:Granada Hills Community Church
X-ORIGINAL-URL:https://www.ghcc4u.org
X-WR-CALDESC:Events for Granada Hills Community Church
REFRESH-INTERVAL;VALUE=DURATION:PT1H
X-Robots-Tag:noindex
X-PUBLISHED-TTL:PT1H
BEGIN:VTIMEZONE
TZID:America/Los_Angeles
BEGIN:DAYLIGHT
TZOFFSETFROM:-0800
TZOFFSETTO:-0700
TZNAME:PDT
DTSTART:20240310T100000
END:DAYLIGHT
BEGIN:STANDARD
TZOFFSETFROM:-0700
TZOFFSETTO:-0800
TZNAME:PST
DTSTART:20241103T090000
END:STANDARD
BEGIN:DAYLIGHT
TZOFFSETFROM:-0800
TZOFFSETTO:-0700
TZNAME:PDT
DTSTART:20250309T100000
END:DAYLIGHT
BEGIN:STANDARD
TZOFFSETFROM:-0700
TZOFFSETTO:-0800
TZNAME:PST
DTSTART:20251102T090000
END:STANDARD
BEGIN:DAYLIGHT
TZOFFSETFROM:-0800
TZOFFSETTO:-0700
TZNAME:PDT
DTSTART:20260308T100000
END:DAYLIGHT
BEGIN:STANDARD
TZOFFSETFROM:-0700
TZOFFSETTO:-0800
TZNAME:PST
DTSTART:20261101T090000
END:STANDARD
END:VTIMEZONE
BEGIN:VEVENT
DTSTART;TZID=America/Los_Angeles:20250604T183000
DTEND;TZID=America/Los_Angeles:20250604T200000
DTSTAMP:20260424T063259
CREATED:20250428T213854Z
LAST-MODIFIED:20250428T213906Z
UID:31086-1749061800-1749067200@www.ghcc4u.org
SUMMARY:Wednesday Night Women's Spring Bible Study
DESCRIPTION:Do you have questions about heaven? Where is it? When do we go there? What will we do there? In this 7-session study we will explore these questions and many more about what the Bible has to say about our eternal home.\nAs Jennifer Rothschild takes us through the Scriptures\, I believe we will be enlightened and encouraged about our future with Him. I hope you will pray about joining us for this light and informative study.
URL:https://www.ghcc4u.org/event/wednesday-night-womens-spring-bible-study-2025-07/
LOCATION:Granada Hills Community Church\, 11263 Balboa Blvd\, Granada Hills\, CA\, 91344\, United States
CATEGORIES:Women's Ministry
ATTACH;FMTTYPE=image/jpeg:https://www.ghcc4u.org/wp-content/uploads/2025/04/heaven-rothschild.jpg
END:VEVENT
BEGIN:VEVENT
DTSTART;TZID=America/Los_Angeles:20250604T180000
DTEND;TZID=America/Los_Angeles:20250604T200000
DTSTAMP:20260424T063259
CREATED:20250602T175916Z
LAST-MODIFIED:20250602T175937Z
UID:31122-1749060000-1749067200@www.ghcc4u.org
SUMMARY:Wednesday Night Youth Group
DESCRIPTION:Please join us for a great evening of fun activities\, pizza\, and study in God’s word!
URL:https://www.ghcc4u.org/event/wednesday-night-youth-group-2025-18/
LOCATION:Granada Hills Community Church\, 11263 Balboa Blvd\, Granada Hills\, CA\, 91344\, United States
CATEGORIES:Youth Ministry
ATTACH;FMTTYPE=image/jpeg:https://www.ghcc4u.org/wp-content/uploads/2022/09/youth.jpg
END:VEVENT
BEGIN:VEVENT
DTSTART;TZID=America/Los_Angeles:20250529T094500
DTEND;TZID=America/Los_Angeles:20250529T113000
DTSTAMP:20260424T063259
CREATED:20250428T213821Z
LAST-MODIFIED:20250428T213835Z
UID:31084-1748511900-1748518200@www.ghcc4u.org
SUMMARY:Thursday Morning Women's Spring Bible Study
DESCRIPTION:Do you have questions about heaven? Where is it? When do we go there? What will we do there? In this 7-session study we will explore these questions and many more about what the Bible has to say about our eternal home.\nAs Jennifer Rothschild takes us through the Scriptures\, I believe we will be enlightened and encouraged about our future with Him. I hope you will pray about joining us for this light and informative study.
URL:https://www.ghcc4u.org/event/thursday-morning-womens-spring-bible-study-2025-06/
LOCATION:Granada Hills Community Church\, 11263 Balboa Blvd\, Granada Hills\, CA\, 91344\, United States
CATEGORIES:Women's Ministry
ATTACH;FMTTYPE=image/jpeg:https://www.ghcc4u.org/wp-content/uploads/2025/04/heaven-rothschild.jpg
END:VEVENT
BEGIN:VEVENT
DTSTART;TZID=America/Los_Angeles:20250528T183000
DTEND;TZID=America/Los_Angeles:20250528T200000
DTSTAMP:20260424T063259
CREATED:20250428T213754Z
LAST-MODIFIED:20250428T213806Z
UID:31082-1748457000-1748462400@www.ghcc4u.org
SUMMARY:Wednesday Night Women's Spring Bible Study
DESCRIPTION:Do you have questions about heaven? Where is it? When do we go there? What will we do there? In this 7-session study we will explore these questions and many more about what the Bible has to say about our eternal home.\nAs Jennifer Rothschild takes us through the Scriptures\, I believe we will be enlightened and encouraged about our future with Him. I hope you will pray about joining us for this light and informative study.
URL:https://www.ghcc4u.org/event/wednesday-night-womens-spring-bible-study-2025-06/
LOCATION:Granada Hills Community Church\, 11263 Balboa Blvd\, Granada Hills\, CA\, 91344\, United States
CATEGORIES:Women's Ministry
ATTACH;FMTTYPE=image/jpeg:https://www.ghcc4u.org/wp-content/uploads/2025/04/heaven-rothschild.jpg
END:VEVENT
BEGIN:VEVENT
DTSTART;TZID=America/Los_Angeles:20250528T180000
DTEND;TZID=America/Los_Angeles:20250528T200000
DTSTAMP:20260424T063259
CREATED:20250428T214337Z
LAST-MODIFIED:20250428T214355Z
UID:31094-1748455200-1748462400@www.ghcc4u.org
SUMMARY:Wednesday Night Youth Group
DESCRIPTION:Please join us for a great evening of fun activities\, pizza\, and study in God’s word!
URL:https://www.ghcc4u.org/event/wednesday-night-youth-group-2025-17/
LOCATION:Granada Hills Community Church\, 11263 Balboa Blvd\, Granada Hills\, CA\, 91344\, United States
CATEGORIES:Youth Ministry
ATTACH;FMTTYPE=image/jpeg:https://www.ghcc4u.org/wp-content/uploads/2022/09/youth.jpg
END:VEVENT
BEGIN:VEVENT
DTSTART;VALUE=DATE:20250526
DTEND;VALUE=DATE:20250527
DTSTAMP:20260424T063259
CREATED:20250428T215134Z
LAST-MODIFIED:20250428T215134Z
UID:31108-1748217600-1748303999@www.ghcc4u.org
SUMMARY:Church Office Closed
DESCRIPTION:The church office is closed for Memorial Day.
URL:https://www.ghcc4u.org/event/church-office-closed-2025-04/
LOCATION:Granada Hills Community Church\, 11263 Balboa Blvd\, Granada Hills\, CA\, 91344\, United States
CATEGORIES:Holiday
ATTACH;FMTTYPE=image/jpeg:https://www.ghcc4u.org/wp-content/uploads/2019/02/closed.jpg
END:VEVENT
BEGIN:VEVENT
DTSTART;TZID=America/Los_Angeles:20250525T150000
DTEND;TZID=America/Los_Angeles:20250525T200000
DTSTAMP:20260424T063259
CREATED:20250428T214543Z
LAST-MODIFIED:20250428T214558Z
UID:31102-1748185200-1748203200@www.ghcc4u.org
SUMMARY:818 Night Market
DESCRIPTION:Please join us in enjoying an evening of food and shopping and in reaching out to our community with the gospel.
URL:https://www.ghcc4u.org/event/818-night-market-2025-13/
LOCATION:Granada Hills Community Church\, 11263 Balboa Blvd\, Granada Hills\, CA\, 91344\, United States
CATEGORIES:Outreach
ATTACH;FMTTYPE=image/jpeg:https://www.ghcc4u.org/wp-content/uploads/2024/09/818.jpg
END:VEVENT
BEGIN:VEVENT
DTSTART;TZID=America/Los_Angeles:20250522T094500
DTEND;TZID=America/Los_Angeles:20250522T113000
DTSTAMP:20260424T063259
CREATED:20250428T213723Z
LAST-MODIFIED:20250428T213736Z
UID:31080-1747907100-1747913400@www.ghcc4u.org
SUMMARY:Thursday Morning Women's Spring Bible Study
DESCRIPTION:Do you have questions about heaven? Where is it? When do we go there? What will we do there? In this 7-session study we will explore these questions and many more about what the Bible has to say about our eternal home.\nAs Jennifer Rothschild takes us through the Scriptures\, I believe we will be enlightened and encouraged about our future with Him. I hope you will pray about joining us for this light and informative study.
URL:https://www.ghcc4u.org/event/thursday-morning-womens-spring-bible-study-2025-05/
LOCATION:Granada Hills Community Church\, 11263 Balboa Blvd\, Granada Hills\, CA\, 91344\, United States
CATEGORIES:Women's Ministry
ATTACH;FMTTYPE=image/jpeg:https://www.ghcc4u.org/wp-content/uploads/2025/04/heaven-rothschild.jpg
END:VEVENT
BEGIN:VEVENT
DTSTART;TZID=America/Los_Angeles:20250521T183000
DTEND;TZID=America/Los_Angeles:20250521T200000
DTSTAMP:20260424T063259
CREATED:20250428T213658Z
LAST-MODIFIED:20250428T213710Z
UID:31078-1747852200-1747857600@www.ghcc4u.org
SUMMARY:Wednesday Night Women's Spring Bible Study
DESCRIPTION:Do you have questions about heaven? Where is it? When do we go there? What will we do there? In this 7-session study we will explore these questions and many more about what the Bible has to say about our eternal home.\nAs Jennifer Rothschild takes us through the Scriptures\, I believe we will be enlightened and encouraged about our future with Him. I hope you will pray about joining us for this light and informative study.
URL:https://www.ghcc4u.org/event/wednesday-night-womens-spring-bible-study-2025-05/
LOCATION:Granada Hills Community Church\, 11263 Balboa Blvd\, Granada Hills\, CA\, 91344\, United States
CATEGORIES:Women's Ministry
ATTACH;FMTTYPE=image/jpeg:https://www.ghcc4u.org/wp-content/uploads/2025/04/heaven-rothschild.jpg
END:VEVENT
BEGIN:VEVENT
DTSTART;TZID=America/Los_Angeles:20250518T150000
DTEND;TZID=America/Los_Angeles:20250518T200000
DTSTAMP:20260424T063259
CREATED:20250428T214521Z
LAST-MODIFIED:20250428T214531Z
UID:31100-1747580400-1747598400@www.ghcc4u.org
SUMMARY:818 Night Market
DESCRIPTION:Please join us in enjoying an evening of food and shopping and in reaching out to our community with the gospel.
URL:https://www.ghcc4u.org/event/818-night-market-2025-12/
LOCATION:Granada Hills Community Church\, 11263 Balboa Blvd\, Granada Hills\, CA\, 91344\, United States
CATEGORIES:Outreach
ATTACH;FMTTYPE=image/jpeg:https://www.ghcc4u.org/wp-content/uploads/2024/09/818.jpg
END:VEVENT
BEGIN:VEVENT
DTSTART;TZID=America/Los_Angeles:20250515T094500
DTEND;TZID=America/Los_Angeles:20250515T113000
DTSTAMP:20260424T063259
CREATED:20250428T213629Z
LAST-MODIFIED:20250428T213641Z
UID:31076-1747302300-1747308600@www.ghcc4u.org
SUMMARY:Thursday Morning Women's Spring Bible Study
DESCRIPTION:Do you have questions about heaven? Where is it? When do we go there? What will we do there? In this 7-session study we will explore these questions and many more about what the Bible has to say about our eternal home.\nAs Jennifer Rothschild takes us through the Scriptures\, I believe we will be enlightened and encouraged about our future with Him. I hope you will pray about joining us for this light and informative study.
URL:https://www.ghcc4u.org/event/thursday-morning-womens-spring-bible-study-2025-04/
LOCATION:Granada Hills Community Church\, 11263 Balboa Blvd\, Granada Hills\, CA\, 91344\, United States
CATEGORIES:Women's Ministry
ATTACH;FMTTYPE=image/jpeg:https://www.ghcc4u.org/wp-content/uploads/2025/04/heaven-rothschild.jpg
END:VEVENT
BEGIN:VEVENT
DTSTART;TZID=America/Los_Angeles:20250514T183000
DTEND;TZID=America/Los_Angeles:20250514T200000
DTSTAMP:20260424T063259
CREATED:20250428T213558Z
LAST-MODIFIED:20250428T213612Z
UID:31074-1747247400-1747252800@www.ghcc4u.org
SUMMARY:Wednesday Night Women's Spring Bible Study
DESCRIPTION:Do you have questions about heaven? Where is it? When do we go there? What will we do there? In this 7-session study we will explore these questions and many more about what the Bible has to say about our eternal home.\nAs Jennifer Rothschild takes us through the Scriptures\, I believe we will be enlightened and encouraged about our future with Him. I hope you will pray about joining us for this light and informative study.
URL:https://www.ghcc4u.org/event/wednesday-night-womens-spring-bible-study-2025-04/
LOCATION:Granada Hills Community Church\, 11263 Balboa Blvd\, Granada Hills\, CA\, 91344\, United States
CATEGORIES:Women's Ministry
ATTACH;FMTTYPE=image/jpeg:https://www.ghcc4u.org/wp-content/uploads/2025/04/heaven-rothschild.jpg
END:VEVENT
BEGIN:VEVENT
DTSTART;TZID=America/Los_Angeles:20250514T180000
DTEND;TZID=America/Los_Angeles:20250514T200000
DTSTAMP:20260424T063259
CREATED:20250428T214302Z
LAST-MODIFIED:20250428T214322Z
UID:31092-1747245600-1747252800@www.ghcc4u.org
SUMMARY:Wednesday Night Youth Group
DESCRIPTION:Please join us for a great evening of fun activities\, pizza\, and study in God’s word!
URL:https://www.ghcc4u.org/event/wednesday-night-youth-group-2025-16/
LOCATION:Granada Hills Community Church\, 11263 Balboa Blvd\, Granada Hills\, CA\, 91344\, United States
CATEGORIES:Youth Ministry
ATTACH;FMTTYPE=image/jpeg:https://www.ghcc4u.org/wp-content/uploads/2022/09/youth.jpg
END:VEVENT
BEGIN:VEVENT
DTSTART;TZID=America/Los_Angeles:20250511T150000
DTEND;TZID=America/Los_Angeles:20250511T200000
DTSTAMP:20260424T063259
CREATED:20250428T214457Z
LAST-MODIFIED:20250428T214507Z
UID:31098-1746975600-1746993600@www.ghcc4u.org
SUMMARY:818 Night Market
DESCRIPTION:Please join us in enjoying an evening of food and shopping and in reaching out to our community with the gospel.
URL:https://www.ghcc4u.org/event/818-night-market-2025-11/
LOCATION:Granada Hills Community Church\, 11263 Balboa Blvd\, Granada Hills\, CA\, 91344\, United States
CATEGORIES:Outreach
ATTACH;FMTTYPE=image/jpeg:https://www.ghcc4u.org/wp-content/uploads/2024/09/818.jpg
END:VEVENT
BEGIN:VEVENT
DTSTART;TZID=America/Los_Angeles:20250511T103000
DTEND;TZID=America/Los_Angeles:20250511T114500
DTSTAMP:20260424T063259
CREATED:20250428T214922Z
LAST-MODIFIED:20250428T214944Z
UID:31106-1746959400-1746963900@www.ghcc4u.org
SUMMARY:Mother's Day Celebration
DESCRIPTION:Come join us as we celebrate the blessing of mothers!
URL:https://www.ghcc4u.org/event/mothers-day-2025-1/
LOCATION:Granada Hills Community Church\, 11263 Balboa Blvd\, Granada Hills\, CA\, 91344\, United States
CATEGORIES:Holiday
ATTACH;FMTTYPE=image/jpeg:https://www.ghcc4u.org/wp-content/uploads/2018/05/mothers-day.jpg
END:VEVENT
BEGIN:VEVENT
DTSTART;TZID=America/Los_Angeles:20250510T080000
DTEND;TZID=America/Los_Angeles:20250510T090000
DTSTAMP:20260424T063259
CREATED:20250428T214705Z
LAST-MODIFIED:20250428T214723Z
UID:31104-1746864000-1746867600@www.ghcc4u.org
SUMMARY:Men's Bible Study
DESCRIPTION:Join us for faith and fellowship as we gather to talk about what genuine discipleship looks like in our lives as Christian men.\nWe meet at 8:00am in the Family Life Center (FLC) on the GHCC campus.
URL:https://www.ghcc4u.org/event/mens-bible-study-2025-08/
LOCATION:Granada Hills Community Church\, 11263 Balboa Blvd\, Granada Hills\, CA\, 91344\, United States
CATEGORIES:Men's Ministry
ATTACH;FMTTYPE=image/jpeg:https://www.ghcc4u.org/wp-content/uploads/2022/09/mens-bible-study.jpg
END:VEVENT
BEGIN:VEVENT
DTSTART;TZID=America/Los_Angeles:20250508T094500
DTEND;TZID=America/Los_Angeles:20250508T113000
DTSTAMP:20260424T063259
CREATED:20250428T213518Z
LAST-MODIFIED:20250428T213532Z
UID:31072-1746697500-1746703800@www.ghcc4u.org
SUMMARY:Thursday Morning Women's Spring Bible Study
DESCRIPTION:Do you have questions about heaven? Where is it? When do we go there? What will we do there? In this 7-session study we will explore these questions and many more about what the Bible has to say about our eternal home.\nAs Jennifer Rothschild takes us through the Scriptures\, I believe we will be enlightened and encouraged about our future with Him. I hope you will pray about joining us for this light and informative study.
URL:https://www.ghcc4u.org/event/thursday-morning-womens-spring-bible-study-2025-03/
LOCATION:Granada Hills Community Church\, 11263 Balboa Blvd\, Granada Hills\, CA\, 91344\, United States
CATEGORIES:Women's Ministry
ATTACH;FMTTYPE=image/jpeg:https://www.ghcc4u.org/wp-content/uploads/2025/04/heaven-rothschild.jpg
END:VEVENT
BEGIN:VEVENT
DTSTART;TZID=America/Los_Angeles:20250507T183000
DTEND;TZID=America/Los_Angeles:20250507T200000
DTSTAMP:20260424T063259
CREATED:20250428T213451Z
LAST-MODIFIED:20250428T213502Z
UID:31070-1746642600-1746648000@www.ghcc4u.org
SUMMARY:Wednesday Night Women's Spring Bible Study
DESCRIPTION:Do you have questions about heaven? Where is it? When do we go there? What will we do there? In this 7-session study we will explore these questions and many more about what the Bible has to say about our eternal home.\nAs Jennifer Rothschild takes us through the Scriptures\, I believe we will be enlightened and encouraged about our future with Him. I hope you will pray about joining us for this light and informative study.
URL:https://www.ghcc4u.org/event/wednesday-night-womens-spring-bible-study-2025-03/
LOCATION:Granada Hills Community Church\, 11263 Balboa Blvd\, Granada Hills\, CA\, 91344\, United States
CATEGORIES:Women's Ministry
ATTACH;FMTTYPE=image/jpeg:https://www.ghcc4u.org/wp-content/uploads/2025/04/heaven-rothschild.jpg
END:VEVENT
BEGIN:VEVENT
DTSTART;TZID=America/Los_Angeles:20250507T180000
DTEND;TZID=America/Los_Angeles:20250507T200000
DTSTAMP:20260424T063259
CREATED:20250428T214224Z
LAST-MODIFIED:20250428T214242Z
UID:31090-1746640800-1746648000@www.ghcc4u.org
SUMMARY:Wednesday Night Youth Group
DESCRIPTION:Please join us for a great evening of fun activities\, pizza\, and study in God’s word!
URL:https://www.ghcc4u.org/event/wednesday-night-youth-group-2025-15/
LOCATION:Granada Hills Community Church\, 11263 Balboa Blvd\, Granada Hills\, CA\, 91344\, United States
CATEGORIES:Youth Ministry
ATTACH;FMTTYPE=image/jpeg:https://www.ghcc4u.org/wp-content/uploads/2022/09/youth.jpg
END:VEVENT
BEGIN:VEVENT
DTSTART;TZID=America/Los_Angeles:20250504T150000
DTEND;TZID=America/Los_Angeles:20250504T200000
DTSTAMP:20260424T063259
CREATED:20250428T214431Z
LAST-MODIFIED:20250428T214444Z
UID:31096-1746370800-1746388800@www.ghcc4u.org
SUMMARY:818 Night Market
DESCRIPTION:Please join us in enjoying an evening of food and shopping and in reaching out to our community with the gospel.
URL:https://www.ghcc4u.org/event/818-night-market-2025-10/
LOCATION:Granada Hills Community Church\, 11263 Balboa Blvd\, Granada Hills\, CA\, 91344\, United States
CATEGORIES:Outreach
ATTACH;FMTTYPE=image/jpeg:https://www.ghcc4u.org/wp-content/uploads/2024/09/818.jpg
END:VEVENT
BEGIN:VEVENT
DTSTART;TZID=America/Los_Angeles:20250501T094500
DTEND;TZID=America/Los_Angeles:20250501T113000
DTSTAMP:20260424T063259
CREATED:20250428T213412Z
LAST-MODIFIED:20250428T213424Z
UID:31068-1746092700-1746099000@www.ghcc4u.org
SUMMARY:Thursday Morning Women's Spring Bible Study
DESCRIPTION:Do you have questions about heaven? Where is it? When do we go there? What will we do there? In this 7-session study we will explore these questions and many more about what the Bible has to say about our eternal home.\nAs Jennifer Rothschild takes us through the Scriptures\, I believe we will be enlightened and encouraged about our future with Him. I hope you will pray about joining us for this light and informative study.
URL:https://www.ghcc4u.org/event/thursday-morning-womens-spring-bible-study-2025-02/
LOCATION:Granada Hills Community Church\, 11263 Balboa Blvd\, Granada Hills\, CA\, 91344\, United States
CATEGORIES:Women's Ministry
ATTACH;FMTTYPE=image/jpeg:https://www.ghcc4u.org/wp-content/uploads/2025/04/heaven-rothschild.jpg
END:VEVENT
BEGIN:VEVENT
DTSTART;TZID=America/Los_Angeles:20250430T183000
DTEND;TZID=America/Los_Angeles:20250430T200000
DTSTAMP:20260424T063259
CREATED:20250428T213336Z
LAST-MODIFIED:20250428T213354Z
UID:31066-1746037800-1746043200@www.ghcc4u.org
SUMMARY:Wednesday Night Women's Spring Bible Study
DESCRIPTION:Do you have questions about heaven? Where is it? When do we go there? What will we do there? In this 7-session study we will explore these questions and many more about what the Bible has to say about our eternal home.\nAs Jennifer Rothschild takes us through the Scriptures\, I believe we will be enlightened and encouraged about our future with Him. I hope you will pray about joining us for this light and informative study.
URL:https://www.ghcc4u.org/event/wednesday-night-womens-spring-bible-study-2025-02/
LOCATION:Granada Hills Community Church\, 11263 Balboa Blvd\, Granada Hills\, CA\, 91344\, United States
CATEGORIES:Women's Ministry
ATTACH;FMTTYPE=image/jpeg:https://www.ghcc4u.org/wp-content/uploads/2025/04/heaven-rothschild.jpg
END:VEVENT
BEGIN:VEVENT
DTSTART;TZID=America/Los_Angeles:20250430T180000
DTEND;TZID=America/Los_Angeles:20250430T200000
DTSTAMP:20260424T063259
CREATED:20250401T033544Z
LAST-MODIFIED:20250428T214140Z
UID:31029-1746036000-1746043200@www.ghcc4u.org
SUMMARY:Wednesday Night Youth Group
DESCRIPTION:Please join us for a great evening of fun activities\, pizza\, and study in God’s word!
URL:https://www.ghcc4u.org/event/wednesday-night-youth-group-2025-15/
LOCATION:Granada Hills Community Church\, 11263 Balboa Blvd\, Granada Hills\, CA\, 91344\, United States
CATEGORIES:Youth Ministry
ATTACH;FMTTYPE=image/jpeg:https://www.ghcc4u.org/wp-content/uploads/2022/09/youth.jpg
END:VEVENT
BEGIN:VEVENT
DTSTART;TZID=America/Los_Angeles:20250427T150000
DTEND;TZID=America/Los_Angeles:20250427T200000
DTSTAMP:20260424T063259
CREATED:20250401T033241Z
LAST-MODIFIED:20250401T033256Z
UID:31019-1745766000-1745784000@www.ghcc4u.org
SUMMARY:818 Night Market
DESCRIPTION:Please join us in enjoying an evening of food and shopping and in reaching out to our community with the gospel.
URL:https://www.ghcc4u.org/event/818-night-market-2025-09/
LOCATION:Granada Hills Community Church\, 11263 Balboa Blvd\, Granada Hills\, CA\, 91344\, United States
CATEGORIES:Outreach
ATTACH;FMTTYPE=image/jpeg:https://www.ghcc4u.org/wp-content/uploads/2024/09/818.jpg
END:VEVENT
BEGIN:VEVENT
DTSTART;TZID=America/Los_Angeles:20250426T080000
DTEND;TZID=America/Los_Angeles:20250426T090000
DTSTAMP:20260424T063259
CREATED:20250401T034007Z
LAST-MODIFIED:20250401T034023Z
UID:31041-1745654400-1745658000@www.ghcc4u.org
SUMMARY:Men's Bible Study
DESCRIPTION:Join us for faith and fellowship as we gather to talk about what genuine discipleship looks like in our lives as Christian men.\nWe meet at 8:00am in the Family Life Center (FLC) on the GHCC campus.
URL:https://www.ghcc4u.org/event/mens-bible-study-2025-07/
LOCATION:Granada Hills Community Church\, 11263 Balboa Blvd\, Granada Hills\, CA\, 91344\, United States
CATEGORIES:Men's Ministry
ATTACH;FMTTYPE=image/jpeg:https://www.ghcc4u.org/wp-content/uploads/2022/09/mens-bible-study.jpg
END:VEVENT
BEGIN:VEVENT
DTSTART;TZID=America/Los_Angeles:20250424T094500
DTEND;TZID=America/Los_Angeles:20250424T113000
DTSTAMP:20260424T063259
CREATED:20250428T213141Z
LAST-MODIFIED:20250428T213159Z
UID:31064-1745487900-1745494200@www.ghcc4u.org
SUMMARY:Thursday Morning Women's Spring Bible Study
DESCRIPTION:Do you have questions about heaven? Where is it? When do we go there? What will we do there? In this 7-session study we will explore these questions and many more about what the Bible has to say about our eternal home.\nAs Jennifer Rothschild takes us through the Scriptures\, I believe we will be enlightened and encouraged about our future with Him. I hope you will pray about joining us for this light and informative study.
URL:https://www.ghcc4u.org/event/thursday-morning-womens-spring-bible-study-2025-01/
LOCATION:Granada Hills Community Church\, 11263 Balboa Blvd\, Granada Hills\, CA\, 91344\, United States
CATEGORIES:Women's Ministry
ATTACH;FMTTYPE=image/jpeg:https://www.ghcc4u.org/wp-content/uploads/2025/04/heaven-rothschild.jpg
END:VEVENT
BEGIN:VEVENT
DTSTART;TZID=America/Los_Angeles:20250423T183000
DTEND;TZID=America/Los_Angeles:20250423T200000
DTSTAMP:20260424T063259
CREATED:20250428T212959Z
LAST-MODIFIED:20250428T213032Z
UID:31061-1745433000-1745438400@www.ghcc4u.org
SUMMARY:Wednesday Night Women's Spring Bible Study
DESCRIPTION:Do you have questions about heaven? Where is it? When do we go there? What will we do there? In this 7-session study we will explore these questions and many more about what the Bible has to say about our eternal home.\nAs Jennifer Rothschild takes us through the Scriptures\, I believe we will be enlightened and encouraged about our future with Him. I hope you will pray about joining us for this light and informative study.
URL:https://www.ghcc4u.org/event/wednesday-night-womens-spring-bible-study-2025-01/
LOCATION:Granada Hills Community Church\, 11263 Balboa Blvd\, Granada Hills\, CA\, 91344\, United States
CATEGORIES:Women's Ministry
ATTACH;FMTTYPE=image/jpeg:https://www.ghcc4u.org/wp-content/uploads/2025/04/heaven-rothschild.jpg
END:VEVENT
BEGIN:VEVENT
DTSTART;TZID=America/Los_Angeles:20250423T180000
DTEND;TZID=America/Los_Angeles:20250423T200000
DTSTAMP:20260424T063259
CREATED:20250401T033515Z
LAST-MODIFIED:20250428T214130Z
UID:31027-1745431200-1745438400@www.ghcc4u.org
SUMMARY:Wednesday Night Youth Group
DESCRIPTION:Please join us for a great evening of fun activities\, pizza\, and study in God’s word!
URL:https://www.ghcc4u.org/event/wednesday-night-youth-group-2025-14/
LOCATION:Granada Hills Community Church\, 11263 Balboa Blvd\, Granada Hills\, CA\, 91344\, United States
CATEGORIES:Youth Ministry
ATTACH;FMTTYPE=image/jpeg:https://www.ghcc4u.org/wp-content/uploads/2022/09/youth.jpg
END:VEVENT
BEGIN:VEVENT
DTSTART;TZID=America/Los_Angeles:20250420T103000
DTEND;TZID=America/Los_Angeles:20250420T114500
DTSTAMP:20260424T063259
CREATED:20250401T034236Z
LAST-MODIFIED:20250401T034248Z
UID:31045-1745145000-1745149500@www.ghcc4u.org
SUMMARY:Easter Sunday Celebration
DESCRIPTION:He is Risen! He is risen\, indeed!\nCome join us as we celebrate Christ’s resurrection from the grave!
URL:https://www.ghcc4u.org/event/easter-sunday-celebration-2025-1/
LOCATION:Granada Hills Community Church\, 11263 Balboa Blvd\, Granada Hills\, CA\, 91344\, United States
CATEGORIES:Service
ATTACH;FMTTYPE=image/jpeg:https://www.ghcc4u.org/wp-content/uploads/2019/02/easter-sunday.jpg
END:VEVENT
BEGIN:VEVENT
DTSTART;TZID=America/Los_Angeles:20250418T190000
DTEND;TZID=America/Los_Angeles:20250418T201500
DTSTAMP:20260424T063259
CREATED:20250401T034132Z
LAST-MODIFIED:20250401T034147Z
UID:31043-1745002800-1745007300@www.ghcc4u.org
SUMMARY:Good Friday Celebration
DESCRIPTION:Come join us as we reflect on Christ who became sin on our behalf.
URL:https://www.ghcc4u.org/event/good-friday-celebration-2025-1/
LOCATION:Granada Hills Community Church\, 11263 Balboa Blvd\, Granada Hills\, CA\, 91344\, United States
CATEGORIES:Service
ATTACH;FMTTYPE=image/jpeg:https://www.ghcc4u.org/wp-content/uploads/2019/02/good-friday.jpg
END:VEVENT
END:VCALENDAR