BEGIN:VCALENDAR
VERSION:2.0
PRODID:-//Granada Hills Community Church - ECPv6.15.20//NONSGML v1.0//EN
CALSCALE:GREGORIAN
METHOD:PUBLISH
X-ORIGINAL-URL:https://www.ghcc4u.org
X-WR-CALDESC:Events for Granada Hills Community Church
REFRESH-INTERVAL;VALUE=DURATION:PT1H
X-Robots-Tag:noindex
X-PUBLISHED-TTL:PT1H
BEGIN:VTIMEZONE
TZID:America/Los_Angeles
BEGIN:DAYLIGHT
TZOFFSETFROM:-0800
TZOFFSETTO:-0700
TZNAME:PDT
DTSTART:20240310T100000
END:DAYLIGHT
BEGIN:STANDARD
TZOFFSETFROM:-0700
TZOFFSETTO:-0800
TZNAME:PST
DTSTART:20241103T090000
END:STANDARD
BEGIN:DAYLIGHT
TZOFFSETFROM:-0800
TZOFFSETTO:-0700
TZNAME:PDT
DTSTART:20250309T100000
END:DAYLIGHT
BEGIN:STANDARD
TZOFFSETFROM:-0700
TZOFFSETTO:-0800
TZNAME:PST
DTSTART:20251102T090000
END:STANDARD
BEGIN:DAYLIGHT
TZOFFSETFROM:-0800
TZOFFSETTO:-0700
TZNAME:PDT
DTSTART:20260308T100000
END:DAYLIGHT
BEGIN:STANDARD
TZOFFSETFROM:-0700
TZOFFSETTO:-0800
TZNAME:PST
DTSTART:20261101T090000
END:STANDARD
END:VTIMEZONE
BEGIN:VEVENT
DTSTART;TZID=America/Los_Angeles:20250130T094500
DTEND;TZID=America/Los_Angeles:20250130T113000
DTSTAMP:20260425T033729
CREATED:20250106T201321Z
LAST-MODIFIED:20250106T201333Z
UID:30913-1738230300-1738236600@www.ghcc4u.org
SUMMARY:Thursday Morning Women's Winter Bible Study
DESCRIPTION:With all the major events going on in the world right now Revelation assures us though evil may be having its way in the present. God’s righteousness will have its way for all eternity!\nThis 12-session study through “REVELATION: The Ultimate Hope in Christ” by David Jeremiah reminds believers to be faithful and look forward with great joy to all that God has in store for us.
URL:https://www.ghcc4u.org/event/thursday-morning-womens-winter-bible-study-2025-04/
LOCATION:Granada Hills Community Church\, 11263 Balboa Blvd\, Granada Hills\, CA\, 91344\, United States
CATEGORIES:Women's Ministry
ATTACH;FMTTYPE=image/jpeg:https://www.ghcc4u.org/wp-content/uploads/2025/01/david-jeremiah-revelation.jpg
END:VEVENT
BEGIN:VEVENT
DTSTART;TZID=America/Los_Angeles:20250205T180000
DTEND;TZID=America/Los_Angeles:20250205T203000
DTSTAMP:20260425T033729
CREATED:20250210T180619Z
LAST-MODIFIED:20250210T180637Z
UID:30942-1738778400-1738787400@www.ghcc4u.org
SUMMARY:Youth Movie Night
DESCRIPTION:Come join us for a fun evening of pizza\, snacks\, and a movie!
URL:https://www.ghcc4u.org/event/youth-movie-night-2025-1/
LOCATION:Granada Hills Community Church\, 11263 Balboa Blvd\, Granada Hills\, CA\, 91344\, United States
CATEGORIES:Youth Ministry
ATTACH;FMTTYPE=image/jpeg:https://www.ghcc4u.org/wp-content/uploads/2019/02/movie.jpg
END:VEVENT
BEGIN:VEVENT
DTSTART;TZID=America/Los_Angeles:20250205T183000
DTEND;TZID=America/Los_Angeles:20250205T200000
DTSTAMP:20260425T033729
CREATED:20250210T180747Z
LAST-MODIFIED:20250210T180801Z
UID:30944-1738780200-1738785600@www.ghcc4u.org
SUMMARY:Wednesday Night Women's Winter Bible Study
DESCRIPTION:With all the major events going on in the world right now Revelation assures us though evil may be having its way in the present. God’s righteousness will have its way for all eternity!\nThis 12-session study through “REVELATION: The Ultimate Hope in Christ” by David Jeremiah reminds believers to be faithful and look forward with great joy to all that God has in store for us.
URL:https://www.ghcc4u.org/event/wednesday-night-womens-winter-bible-study-2025-05/
LOCATION:Granada Hills Community Church\, 11263 Balboa Blvd\, Granada Hills\, CA\, 91344\, United States
CATEGORIES:Women's Ministry
ATTACH;FMTTYPE=image/jpeg:https://www.ghcc4u.org/wp-content/uploads/2025/01/david-jeremiah-revelation.jpg
END:VEVENT
BEGIN:VEVENT
DTSTART;TZID=America/Los_Angeles:20250206T094500
DTEND;TZID=America/Los_Angeles:20250206T113000
DTSTAMP:20260425T033729
CREATED:20250210T181154Z
LAST-MODIFIED:20250210T181209Z
UID:30953-1738835100-1738841400@www.ghcc4u.org
SUMMARY:Thursday Morning Women's Winter Bible Study
DESCRIPTION:With all the major events going on in the world right now Revelation assures us though evil may be having its way in the present. God’s righteousness will have its way for all eternity!\nThis 12-session study through “REVELATION: The Ultimate Hope in Christ” by David Jeremiah reminds believers to be faithful and look forward with great joy to all that God has in store for us.
URL:https://www.ghcc4u.org/event/thursday-morning-womens-winter-bible-study-2025-05/
LOCATION:Granada Hills Community Church\, 11263 Balboa Blvd\, Granada Hills\, CA\, 91344\, United States
CATEGORIES:Women's Ministry
ATTACH;FMTTYPE=image/jpeg:https://www.ghcc4u.org/wp-content/uploads/2025/01/david-jeremiah-revelation.jpg
END:VEVENT
BEGIN:VEVENT
DTSTART;TZID=America/Los_Angeles:20250208T080000
DTEND;TZID=America/Los_Angeles:20250208T090000
DTSTAMP:20260425T033729
CREATED:20250210T181624Z
LAST-MODIFIED:20250210T181643Z
UID:30965-1739001600-1739005200@www.ghcc4u.org
SUMMARY:Men's Bible Study
DESCRIPTION:Join us for faith and fellowship as we gather to talk about what genuine discipleship looks like in our lives as Christian men.\nWe meet at 8:00am in the Family Life Center (FLC) on the GHCC campus.
URL:https://www.ghcc4u.org/event/mens-bible-study-2025-03/
LOCATION:Granada Hills Community Church\, 11263 Balboa Blvd\, Granada Hills\, CA\, 91344\, United States
CATEGORIES:Men's Ministry
ATTACH;FMTTYPE=image/jpeg:https://www.ghcc4u.org/wp-content/uploads/2022/09/mens-bible-study.jpg
END:VEVENT
BEGIN:VEVENT
DTSTART;TZID=America/Los_Angeles:20250212T180000
DTEND;TZID=America/Los_Angeles:20250212T200000
DTSTAMP:20260425T033729
CREATED:20250210T180430Z
LAST-MODIFIED:20250210T180447Z
UID:30938-1739383200-1739390400@www.ghcc4u.org
SUMMARY:Wednesday Night Youth Group
DESCRIPTION:Please join us for a great evening of fun activities\, pizza\, and study in God’s word!
URL:https://www.ghcc4u.org/event/wednesday-night-youth-group-2025-05/
LOCATION:Granada Hills Community Church\, 11263 Balboa Blvd\, Granada Hills\, CA\, 91344\, United States
CATEGORIES:Youth Ministry
ATTACH;FMTTYPE=image/jpeg:https://www.ghcc4u.org/wp-content/uploads/2022/09/youth.jpg
END:VEVENT
BEGIN:VEVENT
DTSTART;TZID=America/Los_Angeles:20250212T183000
DTEND;TZID=America/Los_Angeles:20250212T200000
DTSTAMP:20260425T033729
CREATED:20250210T180819Z
LAST-MODIFIED:20250210T180833Z
UID:30946-1739385000-1739390400@www.ghcc4u.org
SUMMARY:Wednesday Night Women's Winter Bible Study
DESCRIPTION:With all the major events going on in the world right now Revelation assures us though evil may be having its way in the present. God’s righteousness will have its way for all eternity!\nThis 12-session study through “REVELATION: The Ultimate Hope in Christ” by David Jeremiah reminds believers to be faithful and look forward with great joy to all that God has in store for us.
URL:https://www.ghcc4u.org/event/wednesday-night-womens-winter-bible-study-2025-06/
LOCATION:Granada Hills Community Church\, 11263 Balboa Blvd\, Granada Hills\, CA\, 91344\, United States
CATEGORIES:Women's Ministry
ATTACH;FMTTYPE=image/jpeg:https://www.ghcc4u.org/wp-content/uploads/2025/01/david-jeremiah-revelation.jpg
END:VEVENT
BEGIN:VEVENT
DTSTART;TZID=America/Los_Angeles:20250213T094500
DTEND;TZID=America/Los_Angeles:20250213T113000
DTSTAMP:20260425T033729
CREATED:20250210T181223Z
LAST-MODIFIED:20250210T181237Z
UID:30955-1739439900-1739446200@www.ghcc4u.org
SUMMARY:Thursday Morning Women's Winter Bible Study
DESCRIPTION:With all the major events going on in the world right now Revelation assures us though evil may be having its way in the present. God’s righteousness will have its way for all eternity!\nThis 12-session study through “REVELATION: The Ultimate Hope in Christ” by David Jeremiah reminds believers to be faithful and look forward with great joy to all that God has in store for us.
URL:https://www.ghcc4u.org/event/thursday-morning-womens-winter-bible-study-2025-06/
LOCATION:Granada Hills Community Church\, 11263 Balboa Blvd\, Granada Hills\, CA\, 91344\, United States
CATEGORIES:Women's Ministry
ATTACH;FMTTYPE=image/jpeg:https://www.ghcc4u.org/wp-content/uploads/2025/01/david-jeremiah-revelation.jpg
END:VEVENT
BEGIN:VEVENT
DTSTART;TZID=America/Los_Angeles:20250216T150000
DTEND;TZID=America/Los_Angeles:20250216T200000
DTSTAMP:20260425T033729
CREATED:20250210T181414Z
LAST-MODIFIED:20250210T181426Z
UID:30961-1739718000-1739736000@www.ghcc4u.org
SUMMARY:818 Night Market
DESCRIPTION:Please join us in enjoying an evening of food and shopping and in reaching out to our community with the gospel.
URL:https://www.ghcc4u.org/event/818-night-market-2025-03/
LOCATION:Granada Hills Community Church\, 11263 Balboa Blvd\, Granada Hills\, CA\, 91344\, United States
CATEGORIES:Outreach
ATTACH;FMTTYPE=image/jpeg:https://www.ghcc4u.org/wp-content/uploads/2024/09/818.jpg
END:VEVENT
BEGIN:VEVENT
DTSTART;VALUE=DATE:20250217
DTEND;VALUE=DATE:20250218
DTSTAMP:20260425T033729
CREATED:20250210T180304Z
LAST-MODIFIED:20250210T180325Z
UID:30936-1739750400-1739836799@www.ghcc4u.org
SUMMARY:Church Office Closed
DESCRIPTION:The church office is closed for Presidents’ Day.
URL:https://www.ghcc4u.org/event/church-office-closed-2025-03/
LOCATION:Granada Hills Community Church\, 11263 Balboa Blvd\, Granada Hills\, CA\, 91344\, United States
CATEGORIES:Holiday
ATTACH;FMTTYPE=image/jpeg:https://www.ghcc4u.org/wp-content/uploads/2019/02/closed.jpg
END:VEVENT
BEGIN:VEVENT
DTSTART;TZID=America/Los_Angeles:20250219T183000
DTEND;TZID=America/Los_Angeles:20250219T200000
DTSTAMP:20260425T033729
CREATED:20250210T180846Z
LAST-MODIFIED:20250210T180941Z
UID:30948-1739989800-1739995200@www.ghcc4u.org
SUMMARY:Wednesday Night Women's Winter Bible Study
DESCRIPTION:With all the major events going on in the world right now Revelation assures us though evil may be having its way in the present. God’s righteousness will have its way for all eternity!\nThis 12-session study through “REVELATION: The Ultimate Hope in Christ” by David Jeremiah reminds believers to be faithful and look forward with great joy to all that God has in store for us.
URL:https://www.ghcc4u.org/event/wednesday-night-womens-winter-bible-study-2025-07/
LOCATION:Granada Hills Community Church\, 11263 Balboa Blvd\, Granada Hills\, CA\, 91344\, United States
CATEGORIES:Women's Ministry
ATTACH;FMTTYPE=image/jpeg:https://www.ghcc4u.org/wp-content/uploads/2025/01/david-jeremiah-revelation.jpg
END:VEVENT
BEGIN:VEVENT
DTSTART;TZID=America/Los_Angeles:20250220T094500
DTEND;TZID=America/Los_Angeles:20250220T113000
DTSTAMP:20260425T033729
CREATED:20250210T181250Z
LAST-MODIFIED:20250210T181304Z
UID:30957-1740044700-1740051000@www.ghcc4u.org
SUMMARY:Thursday Morning Women's Winter Bible Study
DESCRIPTION:With all the major events going on in the world right now Revelation assures us though evil may be having its way in the present. God’s righteousness will have its way for all eternity!\nThis 12-session study through “REVELATION: The Ultimate Hope in Christ” by David Jeremiah reminds believers to be faithful and look forward with great joy to all that God has in store for us.
URL:https://www.ghcc4u.org/event/thursday-morning-womens-winter-bible-study-2025-07/
LOCATION:Granada Hills Community Church\, 11263 Balboa Blvd\, Granada Hills\, CA\, 91344\, United States
CATEGORIES:Women's Ministry
ATTACH;FMTTYPE=image/jpeg:https://www.ghcc4u.org/wp-content/uploads/2025/01/david-jeremiah-revelation.jpg
END:VEVENT
BEGIN:VEVENT
DTSTART;TZID=America/Los_Angeles:20250223T150000
DTEND;TZID=America/Los_Angeles:20250223T200000
DTSTAMP:20260425T033729
CREATED:20250210T181440Z
LAST-MODIFIED:20250210T181453Z
UID:30963-1740322800-1740340800@www.ghcc4u.org
SUMMARY:818 Night Market
DESCRIPTION:Please join us in enjoying an evening of food and shopping and in reaching out to our community with the gospel.
URL:https://www.ghcc4u.org/event/818-night-market-2025-04/
LOCATION:Granada Hills Community Church\, 11263 Balboa Blvd\, Granada Hills\, CA\, 91344\, United States
CATEGORIES:Outreach
ATTACH;FMTTYPE=image/jpeg:https://www.ghcc4u.org/wp-content/uploads/2024/09/818.jpg
END:VEVENT
BEGIN:VEVENT
DTSTART;TZID=America/Los_Angeles:20250226T180000
DTEND;TZID=America/Los_Angeles:20250226T200000
DTSTAMP:20260425T033729
CREATED:20250210T180505Z
LAST-MODIFIED:20250210T180516Z
UID:30940-1740592800-1740600000@www.ghcc4u.org
SUMMARY:Wednesday Night Youth Group
DESCRIPTION:Please join us for a great evening of fun activities\, pizza\, and study in God’s word!
URL:https://www.ghcc4u.org/event/wednesday-night-youth-group-2025-06/
LOCATION:Granada Hills Community Church\, 11263 Balboa Blvd\, Granada Hills\, CA\, 91344\, United States
CATEGORIES:Youth Ministry
ATTACH;FMTTYPE=image/jpeg:https://www.ghcc4u.org/wp-content/uploads/2022/09/youth.jpg
END:VEVENT
BEGIN:VEVENT
DTSTART;TZID=America/Los_Angeles:20250226T183000
DTEND;TZID=America/Los_Angeles:20250226T200000
DTSTAMP:20260425T033729
CREATED:20250210T181108Z
LAST-MODIFIED:20250210T181120Z
UID:30951-1740594600-1740600000@www.ghcc4u.org
SUMMARY:Wednesday Night Women's Winter Bible Study
DESCRIPTION:With all the major events going on in the world right now Revelation assures us though evil may be having its way in the present. God’s righteousness will have its way for all eternity!\nThis 12-session study through “REVELATION: The Ultimate Hope in Christ” by David Jeremiah reminds believers to be faithful and look forward with great joy to all that God has in store for us.
URL:https://www.ghcc4u.org/event/wednesday-night-womens-winter-bible-study-2025-08/
LOCATION:Granada Hills Community Church\, 11263 Balboa Blvd\, Granada Hills\, CA\, 91344\, United States
CATEGORIES:Women's Ministry
ATTACH;FMTTYPE=image/jpeg:https://www.ghcc4u.org/wp-content/uploads/2025/01/david-jeremiah-revelation.jpg
END:VEVENT
BEGIN:VEVENT
DTSTART;TZID=America/Los_Angeles:20250227T094500
DTEND;TZID=America/Los_Angeles:20250227T113000
DTSTAMP:20260425T033729
CREATED:20250210T181317Z
LAST-MODIFIED:20250210T181330Z
UID:30959-1740649500-1740655800@www.ghcc4u.org
SUMMARY:Thursday Morning Women's Winter Bible Study
DESCRIPTION:With all the major events going on in the world right now Revelation assures us though evil may be having its way in the present. God’s righteousness will have its way for all eternity!\nThis 12-session study through “REVELATION: The Ultimate Hope in Christ” by David Jeremiah reminds believers to be faithful and look forward with great joy to all that God has in store for us.
URL:https://www.ghcc4u.org/event/thursday-morning-womens-winter-bible-study-2025-08/
LOCATION:Granada Hills Community Church\, 11263 Balboa Blvd\, Granada Hills\, CA\, 91344\, United States
CATEGORIES:Women's Ministry
ATTACH;FMTTYPE=image/jpeg:https://www.ghcc4u.org/wp-content/uploads/2025/01/david-jeremiah-revelation.jpg
END:VEVENT
BEGIN:VEVENT
DTSTART;TZID=America/Los_Angeles:20250305T180000
DTEND;TZID=America/Los_Angeles:20250305T200000
DTSTAMP:20260425T033729
CREATED:20250311T232239Z
LAST-MODIFIED:20250311T232256Z
UID:30977-1741197600-1741204800@www.ghcc4u.org
SUMMARY:Wednesday Night Youth Group
DESCRIPTION:Please join us for a great evening of fun activities\, pizza\, and study in God’s word!
URL:https://www.ghcc4u.org/event/wednesday-night-youth-group-2025-07/
LOCATION:Granada Hills Community Church\, 11263 Balboa Blvd\, Granada Hills\, CA\, 91344\, United States
CATEGORIES:Youth Ministry
ATTACH;FMTTYPE=image/jpeg:https://www.ghcc4u.org/wp-content/uploads/2022/09/youth.jpg
END:VEVENT
BEGIN:VEVENT
DTSTART;TZID=America/Los_Angeles:20250305T183000
DTEND;TZID=America/Los_Angeles:20250305T200000
DTSTAMP:20260425T033729
CREATED:20250311T232458Z
LAST-MODIFIED:20250311T232510Z
UID:30985-1741199400-1741204800@www.ghcc4u.org
SUMMARY:Wednesday Night Women's Winter Bible Study
DESCRIPTION:With all the major events going on in the world right now Revelation assures us though evil may be having its way in the present. God’s righteousness will have its way for all eternity!\nThis 12-session study through “REVELATION: The Ultimate Hope in Christ” by David Jeremiah reminds believers to be faithful and look forward with great joy to all that God has in store for us.
URL:https://www.ghcc4u.org/event/wednesday-night-womens-winter-bible-study-2025-09/
LOCATION:Granada Hills Community Church\, 11263 Balboa Blvd\, Granada Hills\, CA\, 91344\, United States
CATEGORIES:Women's Ministry
ATTACH;FMTTYPE=image/jpeg:https://www.ghcc4u.org/wp-content/uploads/2025/01/david-jeremiah-revelation.jpg
END:VEVENT
BEGIN:VEVENT
DTSTART;TZID=America/Los_Angeles:20250306T094500
DTEND;TZID=America/Los_Angeles:20250306T113000
DTSTAMP:20260425T033729
CREATED:20250311T232649Z
LAST-MODIFIED:20250311T232701Z
UID:30993-1741254300-1741260600@www.ghcc4u.org
SUMMARY:Thursday Morning Women's Winter Bible Study
DESCRIPTION:With all the major events going on in the world right now Revelation assures us though evil may be having its way in the present. God’s righteousness will have its way for all eternity!\nThis 12-session study through “REVELATION: The Ultimate Hope in Christ” by David Jeremiah reminds believers to be faithful and look forward with great joy to all that God has in store for us.
URL:https://www.ghcc4u.org/event/thursday-morning-womens-winter-bible-study-2025-09/
LOCATION:Granada Hills Community Church\, 11263 Balboa Blvd\, Granada Hills\, CA\, 91344\, United States
CATEGORIES:Women's Ministry
ATTACH;FMTTYPE=image/jpeg:https://www.ghcc4u.org/wp-content/uploads/2025/01/david-jeremiah-revelation.jpg
END:VEVENT
BEGIN:VEVENT
DTSTART;TZID=America/Los_Angeles:20250308T080000
DTEND;TZID=America/Los_Angeles:20250308T090000
DTSTAMP:20260425T033729
CREATED:20250311T233020Z
LAST-MODIFIED:20250311T233035Z
UID:31005-1741420800-1741424400@www.ghcc4u.org
SUMMARY:Men's Bible Study
DESCRIPTION:Join us for faith and fellowship as we gather to talk about what genuine discipleship looks like in our lives as Christian men.\nWe meet at 8:00am in the Family Life Center (FLC) on the GHCC campus.
URL:https://www.ghcc4u.org/event/mens-bible-study-2025-04/
LOCATION:Granada Hills Community Church\, 11263 Balboa Blvd\, Granada Hills\, CA\, 91344\, United States
CATEGORIES:Men's Ministry
ATTACH;FMTTYPE=image/jpeg:https://www.ghcc4u.org/wp-content/uploads/2022/09/mens-bible-study.jpg
END:VEVENT
BEGIN:VEVENT
DTSTART;TZID=America/Los_Angeles:20250312T180000
DTEND;TZID=America/Los_Angeles:20250312T200000
DTSTAMP:20260425T033729
CREATED:20250311T232313Z
LAST-MODIFIED:20250311T232325Z
UID:30979-1741802400-1741809600@www.ghcc4u.org
SUMMARY:Wednesday Night Youth Group
DESCRIPTION:Please join us for a great evening of fun activities\, pizza\, and study in God’s word!
URL:https://www.ghcc4u.org/event/wednesday-night-youth-group-2025-08/
LOCATION:Granada Hills Community Church\, 11263 Balboa Blvd\, Granada Hills\, CA\, 91344\, United States
CATEGORIES:Youth Ministry
ATTACH;FMTTYPE=image/jpeg:https://www.ghcc4u.org/wp-content/uploads/2022/09/youth.jpg
END:VEVENT
BEGIN:VEVENT
DTSTART;TZID=America/Los_Angeles:20250312T183000
DTEND;TZID=America/Los_Angeles:20250312T200000
DTSTAMP:20260425T033729
CREATED:20250311T232527Z
LAST-MODIFIED:20250311T232541Z
UID:30987-1741804200-1741809600@www.ghcc4u.org
SUMMARY:Wednesday Night Women's Winter Bible Study
DESCRIPTION:With all the major events going on in the world right now Revelation assures us though evil may be having its way in the present. God’s righteousness will have its way for all eternity!\nThis 12-session study through “REVELATION: The Ultimate Hope in Christ” by David Jeremiah reminds believers to be faithful and look forward with great joy to all that God has in store for us.
URL:https://www.ghcc4u.org/event/wednesday-night-womens-winter-bible-study-2025-10/
LOCATION:Granada Hills Community Church\, 11263 Balboa Blvd\, Granada Hills\, CA\, 91344\, United States
CATEGORIES:Women's Ministry
ATTACH;FMTTYPE=image/jpeg:https://www.ghcc4u.org/wp-content/uploads/2025/01/david-jeremiah-revelation.jpg
END:VEVENT
BEGIN:VEVENT
DTSTART;TZID=America/Los_Angeles:20250313T094500
DTEND;TZID=America/Los_Angeles:20250313T113000
DTSTAMP:20260425T033729
CREATED:20250311T232716Z
LAST-MODIFIED:20250311T232727Z
UID:30995-1741859100-1741865400@www.ghcc4u.org
SUMMARY:Thursday Morning Women's Winter Bible Study
DESCRIPTION:With all the major events going on in the world right now Revelation assures us though evil may be having its way in the present. God’s righteousness will have its way for all eternity!\nThis 12-session study through “REVELATION: The Ultimate Hope in Christ” by David Jeremiah reminds believers to be faithful and look forward with great joy to all that God has in store for us.
URL:https://www.ghcc4u.org/event/thursday-morning-womens-winter-bible-study-2025-10/
LOCATION:Granada Hills Community Church\, 11263 Balboa Blvd\, Granada Hills\, CA\, 91344\, United States
CATEGORIES:Women's Ministry
ATTACH;FMTTYPE=image/jpeg:https://www.ghcc4u.org/wp-content/uploads/2025/01/david-jeremiah-revelation.jpg
END:VEVENT
BEGIN:VEVENT
DTSTART;TZID=America/Los_Angeles:20250319T180000
DTEND;TZID=America/Los_Angeles:20250319T200000
DTSTAMP:20260425T033729
CREATED:20250311T232348Z
LAST-MODIFIED:20250311T232402Z
UID:30981-1742407200-1742414400@www.ghcc4u.org
SUMMARY:Wednesday Night Youth Group
DESCRIPTION:Please join us for a great evening of fun activities\, pizza\, and study in God’s word!
URL:https://www.ghcc4u.org/event/wednesday-night-youth-group-2025-09/
LOCATION:Granada Hills Community Church\, 11263 Balboa Blvd\, Granada Hills\, CA\, 91344\, United States
CATEGORIES:Youth Ministry
ATTACH;FMTTYPE=image/jpeg:https://www.ghcc4u.org/wp-content/uploads/2022/09/youth.jpg
END:VEVENT
BEGIN:VEVENT
DTSTART;TZID=America/Los_Angeles:20250319T183000
DTEND;TZID=America/Los_Angeles:20250319T200000
DTSTAMP:20260425T033729
CREATED:20250311T232555Z
LAST-MODIFIED:20250311T232606Z
UID:30989-1742409000-1742414400@www.ghcc4u.org
SUMMARY:Wednesday Night Women's Winter Bible Study
DESCRIPTION:With all the major events going on in the world right now Revelation assures us though evil may be having its way in the present. God’s righteousness will have its way for all eternity!\nThis 12-session study through “REVELATION: The Ultimate Hope in Christ” by David Jeremiah reminds believers to be faithful and look forward with great joy to all that God has in store for us.
URL:https://www.ghcc4u.org/event/wednesday-night-womens-winter-bible-study-2025-11/
LOCATION:Granada Hills Community Church\, 11263 Balboa Blvd\, Granada Hills\, CA\, 91344\, United States
CATEGORIES:Women's Ministry
ATTACH;FMTTYPE=image/jpeg:https://www.ghcc4u.org/wp-content/uploads/2025/01/david-jeremiah-revelation.jpg
END:VEVENT
BEGIN:VEVENT
DTSTART;TZID=America/Los_Angeles:20250320T094500
DTEND;TZID=America/Los_Angeles:20250320T113000
DTSTAMP:20260425T033729
CREATED:20250311T232740Z
LAST-MODIFIED:20250311T232751Z
UID:30997-1742463900-1742470200@www.ghcc4u.org
SUMMARY:Thursday Morning Women's Winter Bible Study
DESCRIPTION:With all the major events going on in the world right now Revelation assures us though evil may be having its way in the present. God’s righteousness will have its way for all eternity!\nThis 12-session study through “REVELATION: The Ultimate Hope in Christ” by David Jeremiah reminds believers to be faithful and look forward with great joy to all that God has in store for us.
URL:https://www.ghcc4u.org/event/thursday-morning-womens-winter-bible-study-2025-11/
LOCATION:Granada Hills Community Church\, 11263 Balboa Blvd\, Granada Hills\, CA\, 91344\, United States
CATEGORIES:Women's Ministry
ATTACH;FMTTYPE=image/jpeg:https://www.ghcc4u.org/wp-content/uploads/2025/01/david-jeremiah-revelation.jpg
END:VEVENT
BEGIN:VEVENT
DTSTART;TZID=America/Los_Angeles:20250322T080000
DTEND;TZID=America/Los_Angeles:20250322T090000
DTSTAMP:20260425T033729
CREATED:20250311T233048Z
LAST-MODIFIED:20250311T233101Z
UID:31007-1742630400-1742634000@www.ghcc4u.org
SUMMARY:Men's Bible Study
DESCRIPTION:Join us for faith and fellowship as we gather to talk about what genuine discipleship looks like in our lives as Christian men.\nWe meet at 8:00am in the Family Life Center (FLC) on the GHCC campus.
URL:https://www.ghcc4u.org/event/mens-bible-study-2025-05/
LOCATION:Granada Hills Community Church\, 11263 Balboa Blvd\, Granada Hills\, CA\, 91344\, United States
CATEGORIES:Men's Ministry
ATTACH;FMTTYPE=image/jpeg:https://www.ghcc4u.org/wp-content/uploads/2022/09/mens-bible-study.jpg
END:VEVENT
BEGIN:VEVENT
DTSTART;TZID=America/Los_Angeles:20250323T150000
DTEND;TZID=America/Los_Angeles:20250323T200000
DTSTAMP:20260425T033729
CREATED:20250311T232902Z
LAST-MODIFIED:20250311T232912Z
UID:31001-1742742000-1742760000@www.ghcc4u.org
SUMMARY:818 Night Market
DESCRIPTION:Please join us in enjoying an evening of food and shopping and in reaching out to our community with the gospel.
URL:https://www.ghcc4u.org/event/818-night-market-2025-05/
LOCATION:Granada Hills Community Church\, 11263 Balboa Blvd\, Granada Hills\, CA\, 91344\, United States
CATEGORIES:Outreach
ATTACH;FMTTYPE=image/jpeg:https://www.ghcc4u.org/wp-content/uploads/2024/09/818.jpg
END:VEVENT
BEGIN:VEVENT
DTSTART;TZID=America/Los_Angeles:20250326T180000
DTEND;TZID=America/Los_Angeles:20250326T200000
DTSTAMP:20260425T033729
CREATED:20250311T232422Z
LAST-MODIFIED:20250311T232439Z
UID:30983-1743012000-1743019200@www.ghcc4u.org
SUMMARY:Wednesday Night Youth Group
DESCRIPTION:Please join us for a great evening of fun activities\, pizza\, and study in God’s word!
URL:https://www.ghcc4u.org/event/wednesday-night-youth-group-2025-10/
LOCATION:Granada Hills Community Church\, 11263 Balboa Blvd\, Granada Hills\, CA\, 91344\, United States
CATEGORIES:Youth Ministry
ATTACH;FMTTYPE=image/jpeg:https://www.ghcc4u.org/wp-content/uploads/2022/09/youth.jpg
END:VEVENT
BEGIN:VEVENT
DTSTART;TZID=America/Los_Angeles:20250326T183000
DTEND;TZID=America/Los_Angeles:20250326T200000
DTSTAMP:20260425T033729
CREATED:20250311T232620Z
LAST-MODIFIED:20250311T232631Z
UID:30991-1743013800-1743019200@www.ghcc4u.org
SUMMARY:Wednesday Night Women's Winter Bible Study
DESCRIPTION:With all the major events going on in the world right now Revelation assures us though evil may be having its way in the present. God’s righteousness will have its way for all eternity!\nThis 12-session study through “REVELATION: The Ultimate Hope in Christ” by David Jeremiah reminds believers to be faithful and look forward with great joy to all that God has in store for us.
URL:https://www.ghcc4u.org/event/wednesday-night-womens-winter-bible-study-2025-12/
LOCATION:Granada Hills Community Church\, 11263 Balboa Blvd\, Granada Hills\, CA\, 91344\, United States
CATEGORIES:Women's Ministry
ATTACH;FMTTYPE=image/jpeg:https://www.ghcc4u.org/wp-content/uploads/2025/01/david-jeremiah-revelation.jpg
END:VEVENT
END:VCALENDAR