BEGIN:VCALENDAR
VERSION:2.0
PRODID:-//Granada Hills Community Church - ECPv6.15.20//NONSGML v1.0//EN
CALSCALE:GREGORIAN
METHOD:PUBLISH
X-ORIGINAL-URL:https://www.ghcc4u.org
X-WR-CALDESC:Events for Granada Hills Community Church
REFRESH-INTERVAL;VALUE=DURATION:PT1H
X-Robots-Tag:noindex
X-PUBLISHED-TTL:PT1H
BEGIN:VTIMEZONE
TZID:America/Los_Angeles
BEGIN:DAYLIGHT
TZOFFSETFROM:-0800
TZOFFSETTO:-0700
TZNAME:PDT
DTSTART:20240310T100000
END:DAYLIGHT
BEGIN:STANDARD
TZOFFSETFROM:-0700
TZOFFSETTO:-0800
TZNAME:PST
DTSTART:20241103T090000
END:STANDARD
BEGIN:DAYLIGHT
TZOFFSETFROM:-0800
TZOFFSETTO:-0700
TZNAME:PDT
DTSTART:20250309T100000
END:DAYLIGHT
BEGIN:STANDARD
TZOFFSETFROM:-0700
TZOFFSETTO:-0800
TZNAME:PST
DTSTART:20251102T090000
END:STANDARD
BEGIN:DAYLIGHT
TZOFFSETFROM:-0800
TZOFFSETTO:-0700
TZNAME:PDT
DTSTART:20260308T100000
END:DAYLIGHT
BEGIN:STANDARD
TZOFFSETFROM:-0700
TZOFFSETTO:-0800
TZNAME:PST
DTSTART:20261101T090000
END:STANDARD
END:VTIMEZONE
BEGIN:VEVENT
DTSTART;TZID=America/Los_Angeles:20250626T094500
DTEND;TZID=America/Los_Angeles:20250626T113000
DTSTAMP:20260424T073142
CREATED:20250610T192338Z
LAST-MODIFIED:20250610T192351Z
UID:31186-1750931100-1750937400@www.ghcc4u.org
SUMMARY:Thursday Morning Women's Summer Book Study
DESCRIPTION:Despite a diving accident that has left her paralyzed for decades\, Joni Eareckson Tada has been able to build a life of faith and purpose. The peace she has found as she confronts the painful realities of life as a quadriplegic has made her a hero to many people.\nIn “Ordinary People\, Extraordinary Faith\,” Joni lets us know who her heroes are.
URL:https://www.ghcc4u.org/event/thursday-morning-womens-summer-book-study-2025-02/
LOCATION:Granada Hills Community Church\, 11263 Balboa Blvd\, Granada Hills\, CA\, 91344\, United States
CATEGORIES:Women's Ministry
ATTACH;FMTTYPE=image/jpeg:https://www.ghcc4u.org/wp-content/uploads/2025/06/ordinary-people-extraordinary-faith.jpg
END:VEVENT
BEGIN:VEVENT
DTSTART;VALUE=DATE:20250627
DTEND;VALUE=DATE:20250701
DTSTAMP:20260424T073142
CREATED:20250614T063309Z
LAST-MODIFIED:20250614T063332Z
UID:31210-1750982400-1751327999@www.ghcc4u.org
SUMMARY:Youth Summer Camp
DESCRIPTION:The GHCC Youth Group will be joining the Summer Camp hosted by Grace Bible Church of Bakersfield at Hartland Christian Camp in Badger\, CA. The camp will start on Friday 6/27 and end on Monday 6/30. The cost to attend is $360 for students and $310 for leaders.\nAll GHCC Youth Group families are encouraged to reach out and invite teenagers\, grades 6-12!
URL:https://www.ghcc4u.org/event/youth-summer-camp-2025-1/
LOCATION:Hartland Christian Camp\, 57611 Eshom Valley Dr\, Badger\, CA\, 93603\, United States
CATEGORIES:Youth Ministry
ATTACH;FMTTYPE=image/jpeg:https://www.ghcc4u.org/wp-content/uploads/2019/02/tent.jpg
END:VEVENT
BEGIN:VEVENT
DTSTART;TZID=America/Los_Angeles:20250629T160000
DTEND;TZID=America/Los_Angeles:20250629T210000
DTSTAMP:20260424T073142
CREATED:20250602T183118Z
LAST-MODIFIED:20250602T183400Z
UID:31152-1751212800-1751230800@www.ghcc4u.org
SUMMARY:818 Night Market
DESCRIPTION:Please join us in enjoying an evening of food and shopping and in reaching out to our community with the gospel.
URL:https://www.ghcc4u.org/event/818-night-market-2025-18/
LOCATION:Granada Hills Community Church\, 11263 Balboa Blvd\, Granada Hills\, CA\, 91344\, United States
CATEGORIES:Outreach
ATTACH;FMTTYPE=image/jpeg:https://www.ghcc4u.org/wp-content/uploads/2024/09/818.jpg
END:VEVENT
BEGIN:VEVENT
DTSTART;TZID=America/Los_Angeles:20250702T183000
DTEND;TZID=America/Los_Angeles:20250702T200000
DTSTAMP:20260424T073142
CREATED:20250602T181106Z
LAST-MODIFIED:20250602T182157Z
UID:31130-1751481000-1751486400@www.ghcc4u.org
SUMMARY:Summer Fundamentals
DESCRIPTION:“But grow in the grace and knowledge of our Lord and Savior Jesus Christ. To him be the glory both now and to the day of eternity. Amen.” –2 Peter 3:18\nChristians are commanded to grow in the grace and knowledge of our Savior. Whether you are new to the faith or have been in church all your life\, grasping the basic truths of Christianity reflects a commitment to grow. It takes discipline to be a disciple\, and Summer Fundamentals is designed to engage you in the process of maturing in your faith.\nThis ten-week course is designed to help ground you in basic doctrines of the Christian faith\, including the nature of divine revelation\, the origin\, structure\, and dependability of the Scriptures\, the character of our triune God\, the Person and work of Christ particularly in salvation\, the indwelling work of the Holy Spirit\, and the nature of the church and spiritual gifts.
URL:https://www.ghcc4u.org/event/summer-fundamentals-2025-04/
LOCATION:Granada Hills Community Church\, 11263 Balboa Blvd\, Granada Hills\, CA\, 91344\, United States
CATEGORIES:Bible Study
ATTACH;FMTTYPE=image/jpeg:https://www.ghcc4u.org/wp-content/uploads/2019/05/fundamentals.jpg
END:VEVENT
BEGIN:VEVENT
DTSTART;TZID=America/Los_Angeles:20250703T094500
DTEND;TZID=America/Los_Angeles:20250703T113000
DTSTAMP:20260424T073142
CREATED:20250610T192414Z
LAST-MODIFIED:20250610T192427Z
UID:31188-1751535900-1751542200@www.ghcc4u.org
SUMMARY:Thursday Morning Women's Summer Book Study
DESCRIPTION:Despite a diving accident that has left her paralyzed for decades\, Joni Eareckson Tada has been able to build a life of faith and purpose. The peace she has found as she confronts the painful realities of life as a quadriplegic has made her a hero to many people.\nIn “Ordinary People\, Extraordinary Faith\,” Joni lets us know who her heroes are.
URL:https://www.ghcc4u.org/event/thursday-morning-womens-summer-book-study-2025-03/
LOCATION:Granada Hills Community Church\, 11263 Balboa Blvd\, Granada Hills\, CA\, 91344\, United States
CATEGORIES:Women's Ministry
ATTACH;FMTTYPE=image/jpeg:https://www.ghcc4u.org/wp-content/uploads/2025/06/ordinary-people-extraordinary-faith.jpg
END:VEVENT
BEGIN:VEVENT
DTSTART;VALUE=DATE:20250704
DTEND;VALUE=DATE:20250705
DTSTAMP:20260424T073142
CREATED:20250614T063525Z
LAST-MODIFIED:20250614T063540Z
UID:31212-1751587200-1751673599@www.ghcc4u.org
SUMMARY:Church Office Closed
DESCRIPTION:The church office is closed for Independence Day.
URL:https://www.ghcc4u.org/event/church-office-closed-2025-05/
LOCATION:Granada Hills Community Church\, 11263 Balboa Blvd\, Granada Hills\, CA\, 91344\, United States
CATEGORIES:Holiday
ATTACH;FMTTYPE=image/jpeg:https://www.ghcc4u.org/wp-content/uploads/2019/02/closed.jpg
END:VEVENT
BEGIN:VEVENT
DTSTART;TZID=America/Los_Angeles:20250706T160000
DTEND;TZID=America/Los_Angeles:20250706T210000
DTSTAMP:20260424T073142
CREATED:20250804T225819Z
LAST-MODIFIED:20250804T225834Z
UID:31237-1751817600-1751835600@www.ghcc4u.org
SUMMARY:818 Night Market
DESCRIPTION:Please join us in enjoying an evening of food and shopping and in reaching out to our community with the gospel.
URL:https://www.ghcc4u.org/event/818-night-market-2025-19/
LOCATION:Granada Hills Community Church\, 11263 Balboa Blvd\, Granada Hills\, CA\, 91344\, United States
CATEGORIES:Outreach
ATTACH;FMTTYPE=image/jpeg:https://www.ghcc4u.org/wp-content/uploads/2024/09/818.jpg
END:VEVENT
BEGIN:VEVENT
DTSTART;TZID=America/Los_Angeles:20250709T183000
DTEND;TZID=America/Los_Angeles:20250709T200000
DTSTAMP:20260424T073142
CREATED:20250602T182243Z
LAST-MODIFIED:20250602T182300Z
UID:31132-1752085800-1752091200@www.ghcc4u.org
SUMMARY:Summer Fundamentals
DESCRIPTION:“But grow in the grace and knowledge of our Lord and Savior Jesus Christ. To him be the glory both now and to the day of eternity. Amen.” –2 Peter 3:18\nChristians are commanded to grow in the grace and knowledge of our Savior. Whether you are new to the faith or have been in church all your life\, grasping the basic truths of Christianity reflects a commitment to grow. It takes discipline to be a disciple\, and Summer Fundamentals is designed to engage you in the process of maturing in your faith.\nThis ten-week course is designed to help ground you in basic doctrines of the Christian faith\, including the nature of divine revelation\, the origin\, structure\, and dependability of the Scriptures\, the character of our triune God\, the Person and work of Christ particularly in salvation\, the indwelling work of the Holy Spirit\, and the nature of the church and spiritual gifts.
URL:https://www.ghcc4u.org/event/summer-fundamentals-2025-05/
LOCATION:Granada Hills Community Church\, 11263 Balboa Blvd\, Granada Hills\, CA\, 91344\, United States
CATEGORIES:Bible Study
ATTACH;FMTTYPE=image/jpeg:https://www.ghcc4u.org/wp-content/uploads/2019/05/fundamentals.jpg
END:VEVENT
BEGIN:VEVENT
DTSTART;TZID=America/Los_Angeles:20250710T094500
DTEND;TZID=America/Los_Angeles:20250710T113000
DTSTAMP:20260424T073142
CREATED:20250610T192444Z
LAST-MODIFIED:20250610T192455Z
UID:31190-1752140700-1752147000@www.ghcc4u.org
SUMMARY:Thursday Morning Women's Summer Book Study
DESCRIPTION:Despite a diving accident that has left her paralyzed for decades\, Joni Eareckson Tada has been able to build a life of faith and purpose. The peace she has found as she confronts the painful realities of life as a quadriplegic has made her a hero to many people.\nIn “Ordinary People\, Extraordinary Faith\,” Joni lets us know who her heroes are.
URL:https://www.ghcc4u.org/event/thursday-morning-womens-summer-book-study-2025-04/
LOCATION:Granada Hills Community Church\, 11263 Balboa Blvd\, Granada Hills\, CA\, 91344\, United States
CATEGORIES:Women's Ministry
ATTACH;FMTTYPE=image/jpeg:https://www.ghcc4u.org/wp-content/uploads/2025/06/ordinary-people-extraordinary-faith.jpg
END:VEVENT
BEGIN:VEVENT
DTSTART;TZID=America/Los_Angeles:20250713T160000
DTEND;TZID=America/Los_Angeles:20250713T210000
DTSTAMP:20260424T073142
CREATED:20250804T225852Z
LAST-MODIFIED:20250804T225907Z
UID:31239-1752422400-1752440400@www.ghcc4u.org
SUMMARY:818 Night Market
DESCRIPTION:Please join us in enjoying an evening of food and shopping and in reaching out to our community with the gospel.
URL:https://www.ghcc4u.org/event/818-night-market-2025-20/
LOCATION:Granada Hills Community Church\, 11263 Balboa Blvd\, Granada Hills\, CA\, 91344\, United States
CATEGORIES:Outreach
ATTACH;FMTTYPE=image/jpeg:https://www.ghcc4u.org/wp-content/uploads/2024/09/818.jpg
END:VEVENT
BEGIN:VEVENT
DTSTART;TZID=America/Los_Angeles:20250716T183000
DTEND;TZID=America/Los_Angeles:20250716T200000
DTSTAMP:20260424T073142
CREATED:20250602T182315Z
LAST-MODIFIED:20250602T182329Z
UID:31134-1752690600-1752696000@www.ghcc4u.org
SUMMARY:Summer Fundamentals
DESCRIPTION:“But grow in the grace and knowledge of our Lord and Savior Jesus Christ. To him be the glory both now and to the day of eternity. Amen.” –2 Peter 3:18\nChristians are commanded to grow in the grace and knowledge of our Savior. Whether you are new to the faith or have been in church all your life\, grasping the basic truths of Christianity reflects a commitment to grow. It takes discipline to be a disciple\, and Summer Fundamentals is designed to engage you in the process of maturing in your faith.\nThis ten-week course is designed to help ground you in basic doctrines of the Christian faith\, including the nature of divine revelation\, the origin\, structure\, and dependability of the Scriptures\, the character of our triune God\, the Person and work of Christ particularly in salvation\, the indwelling work of the Holy Spirit\, and the nature of the church and spiritual gifts.
URL:https://www.ghcc4u.org/event/summer-fundamentals-2025-06/
LOCATION:Granada Hills Community Church\, 11263 Balboa Blvd\, Granada Hills\, CA\, 91344\, United States
CATEGORIES:Bible Study
ATTACH;FMTTYPE=image/jpeg:https://www.ghcc4u.org/wp-content/uploads/2019/05/fundamentals.jpg
END:VEVENT
BEGIN:VEVENT
DTSTART;TZID=America/Los_Angeles:20250717T094500
DTEND;TZID=America/Los_Angeles:20250717T113000
DTSTAMP:20260424T073142
CREATED:20250610T192512Z
LAST-MODIFIED:20250610T192525Z
UID:31192-1752745500-1752751800@www.ghcc4u.org
SUMMARY:Thursday Morning Women's Summer Book Study
DESCRIPTION:Despite a diving accident that has left her paralyzed for decades\, Joni Eareckson Tada has been able to build a life of faith and purpose. The peace she has found as she confronts the painful realities of life as a quadriplegic has made her a hero to many people.\nIn “Ordinary People\, Extraordinary Faith\,” Joni lets us know who her heroes are.
URL:https://www.ghcc4u.org/event/thursday-morning-womens-summer-book-study-2025-05/
LOCATION:Granada Hills Community Church\, 11263 Balboa Blvd\, Granada Hills\, CA\, 91344\, United States
CATEGORIES:Women's Ministry
ATTACH;FMTTYPE=image/jpeg:https://www.ghcc4u.org/wp-content/uploads/2025/06/ordinary-people-extraordinary-faith.jpg
END:VEVENT
BEGIN:VEVENT
DTSTART;TZID=America/Los_Angeles:20250720T160000
DTEND;TZID=America/Los_Angeles:20250720T210000
DTSTAMP:20260424T073142
CREATED:20250804T225920Z
LAST-MODIFIED:20250804T225932Z
UID:31241-1753027200-1753045200@www.ghcc4u.org
SUMMARY:818 Night Market
DESCRIPTION:Please join us in enjoying an evening of food and shopping and in reaching out to our community with the gospel.
URL:https://www.ghcc4u.org/event/818-night-market-2025-21/
LOCATION:Granada Hills Community Church\, 11263 Balboa Blvd\, Granada Hills\, CA\, 91344\, United States
CATEGORIES:Outreach
ATTACH;FMTTYPE=image/jpeg:https://www.ghcc4u.org/wp-content/uploads/2024/09/818.jpg
END:VEVENT
BEGIN:VEVENT
DTSTART;TZID=America/Los_Angeles:20250723T183000
DTEND;TZID=America/Los_Angeles:20250723T200000
DTSTAMP:20260424T073142
CREATED:20250602T182342Z
LAST-MODIFIED:20250602T182356Z
UID:31136-1753295400-1753300800@www.ghcc4u.org
SUMMARY:Summer Fundamentals
DESCRIPTION:“But grow in the grace and knowledge of our Lord and Savior Jesus Christ. To him be the glory both now and to the day of eternity. Amen.” –2 Peter 3:18\nChristians are commanded to grow in the grace and knowledge of our Savior. Whether you are new to the faith or have been in church all your life\, grasping the basic truths of Christianity reflects a commitment to grow. It takes discipline to be a disciple\, and Summer Fundamentals is designed to engage you in the process of maturing in your faith.\nThis ten-week course is designed to help ground you in basic doctrines of the Christian faith\, including the nature of divine revelation\, the origin\, structure\, and dependability of the Scriptures\, the character of our triune God\, the Person and work of Christ particularly in salvation\, the indwelling work of the Holy Spirit\, and the nature of the church and spiritual gifts.
URL:https://www.ghcc4u.org/event/summer-fundamentals-2025-07/
LOCATION:Granada Hills Community Church\, 11263 Balboa Blvd\, Granada Hills\, CA\, 91344\, United States
CATEGORIES:Bible Study
ATTACH;FMTTYPE=image/jpeg:https://www.ghcc4u.org/wp-content/uploads/2019/05/fundamentals.jpg
END:VEVENT
BEGIN:VEVENT
DTSTART;TZID=America/Los_Angeles:20250724T094500
DTEND;TZID=America/Los_Angeles:20250724T113000
DTSTAMP:20260424T073142
CREATED:20250610T192539Z
LAST-MODIFIED:20250610T192552Z
UID:31194-1753350300-1753356600@www.ghcc4u.org
SUMMARY:Thursday Morning Women's Summer Book Study
DESCRIPTION:Despite a diving accident that has left her paralyzed for decades\, Joni Eareckson Tada has been able to build a life of faith and purpose. The peace she has found as she confronts the painful realities of life as a quadriplegic has made her a hero to many people.\nIn “Ordinary People\, Extraordinary Faith\,” Joni lets us know who her heroes are.
URL:https://www.ghcc4u.org/event/thursday-morning-womens-summer-book-study-2025-06/
LOCATION:Granada Hills Community Church\, 11263 Balboa Blvd\, Granada Hills\, CA\, 91344\, United States
CATEGORIES:Women's Ministry
ATTACH;FMTTYPE=image/jpeg:https://www.ghcc4u.org/wp-content/uploads/2025/06/ordinary-people-extraordinary-faith.jpg
END:VEVENT
BEGIN:VEVENT
DTSTART;TZID=America/Los_Angeles:20250727T160000
DTEND;TZID=America/Los_Angeles:20250727T210000
DTSTAMP:20260424T073142
CREATED:20250804T230041Z
LAST-MODIFIED:20250804T230052Z
UID:31245-1753632000-1753650000@www.ghcc4u.org
SUMMARY:818 Night Market
DESCRIPTION:Please join us in enjoying an evening of food and shopping and in reaching out to our community with the gospel.
URL:https://www.ghcc4u.org/event/818-night-market-2025-22/
LOCATION:Granada Hills Community Church\, 11263 Balboa Blvd\, Granada Hills\, CA\, 91344\, United States
CATEGORIES:Outreach
ATTACH;FMTTYPE=image/jpeg:https://www.ghcc4u.org/wp-content/uploads/2024/09/818.jpg
END:VEVENT
BEGIN:VEVENT
DTSTART;TZID=America/Los_Angeles:20250730T183000
DTEND;TZID=America/Los_Angeles:20250730T200000
DTSTAMP:20260424T073142
CREATED:20250602T182416Z
LAST-MODIFIED:20250602T182426Z
UID:31138-1753900200-1753905600@www.ghcc4u.org
SUMMARY:Summer Fundamentals
DESCRIPTION:“But grow in the grace and knowledge of our Lord and Savior Jesus Christ. To him be the glory both now and to the day of eternity. Amen.” –2 Peter 3:18\nChristians are commanded to grow in the grace and knowledge of our Savior. Whether you are new to the faith or have been in church all your life\, grasping the basic truths of Christianity reflects a commitment to grow. It takes discipline to be a disciple\, and Summer Fundamentals is designed to engage you in the process of maturing in your faith.\nThis ten-week course is designed to help ground you in basic doctrines of the Christian faith\, including the nature of divine revelation\, the origin\, structure\, and dependability of the Scriptures\, the character of our triune God\, the Person and work of Christ particularly in salvation\, the indwelling work of the Holy Spirit\, and the nature of the church and spiritual gifts.
URL:https://www.ghcc4u.org/event/summer-fundamentals-2025-08/
LOCATION:Granada Hills Community Church\, 11263 Balboa Blvd\, Granada Hills\, CA\, 91344\, United States
CATEGORIES:Bible Study
ATTACH;FMTTYPE=image/jpeg:https://www.ghcc4u.org/wp-content/uploads/2019/05/fundamentals.jpg
END:VEVENT
BEGIN:VEVENT
DTSTART;TZID=America/Los_Angeles:20250731T094500
DTEND;TZID=America/Los_Angeles:20250731T113000
DTSTAMP:20260424T073142
CREATED:20250610T192607Z
LAST-MODIFIED:20250610T192620Z
UID:31196-1753955100-1753961400@www.ghcc4u.org
SUMMARY:Thursday Morning Women's Summer Book Study
DESCRIPTION:Despite a diving accident that has left her paralyzed for decades\, Joni Eareckson Tada has been able to build a life of faith and purpose. The peace she has found as she confronts the painful realities of life as a quadriplegic has made her a hero to many people.\nIn “Ordinary People\, Extraordinary Faith\,” Joni lets us know who her heroes are.
URL:https://www.ghcc4u.org/event/thursday-morning-womens-summer-book-study-2025-07/
LOCATION:Granada Hills Community Church\, 11263 Balboa Blvd\, Granada Hills\, CA\, 91344\, United States
CATEGORIES:Women's Ministry
ATTACH;FMTTYPE=image/jpeg:https://www.ghcc4u.org/wp-content/uploads/2025/06/ordinary-people-extraordinary-faith.jpg
END:VEVENT
BEGIN:VEVENT
DTSTART;TZID=America/Los_Angeles:20250802T130000
DTEND;TZID=America/Los_Angeles:20250802T170000
DTSTAMP:20260424T073142
CREATED:20250804T230745Z
LAST-MODIFIED:20250804T230759Z
UID:31261-1754139600-1754154000@www.ghcc4u.org
SUMMARY:Youth Pool Party
DESCRIPTION:Come join us for a great time of food and fun in the pool!\nThe event will start at 1:00pm at Kathi Adkins’s home: 11009 Gloria Ave Granada Hills CA 91344.
URL:https://www.ghcc4u.org/event/youth-pool-party-2025-1/
LOCATION:Kathi Adkins Home\, 11009 Gloria Ave\, Granada Hills\, CA\, 91344\, United States
CATEGORIES:Youth Ministry
ATTACH;FMTTYPE=image/jpeg:https://www.ghcc4u.org/wp-content/uploads/2019/02/pool.jpg
END:VEVENT
BEGIN:VEVENT
DTSTART;TZID=America/Los_Angeles:20250803T160000
DTEND;TZID=America/Los_Angeles:20250803T210000
DTSTAMP:20260424T073142
CREATED:20250804T230106Z
LAST-MODIFIED:20250804T230125Z
UID:31247-1754236800-1754254800@www.ghcc4u.org
SUMMARY:818 Night Market
DESCRIPTION:Please join us in enjoying an evening of food and shopping and in reaching out to our community with the gospel.
URL:https://www.ghcc4u.org/event/818-night-market-2025-23/
LOCATION:Granada Hills Community Church\, 11263 Balboa Blvd\, Granada Hills\, CA\, 91344\, United States
CATEGORIES:Outreach
ATTACH;FMTTYPE=image/jpeg:https://www.ghcc4u.org/wp-content/uploads/2024/09/818.jpg
END:VEVENT
BEGIN:VEVENT
DTSTART;TZID=America/Los_Angeles:20250806T183000
DTEND;TZID=America/Los_Angeles:20250806T200000
DTSTAMP:20260424T073142
CREATED:20250602T182439Z
LAST-MODIFIED:20250602T182448Z
UID:31140-1754505000-1754510400@www.ghcc4u.org
SUMMARY:Summer Fundamentals
DESCRIPTION:“But grow in the grace and knowledge of our Lord and Savior Jesus Christ. To him be the glory both now and to the day of eternity. Amen.” –2 Peter 3:18\nChristians are commanded to grow in the grace and knowledge of our Savior. Whether you are new to the faith or have been in church all your life\, grasping the basic truths of Christianity reflects a commitment to grow. It takes discipline to be a disciple\, and Summer Fundamentals is designed to engage you in the process of maturing in your faith.\nThis ten-week course is designed to help ground you in basic doctrines of the Christian faith\, including the nature of divine revelation\, the origin\, structure\, and dependability of the Scriptures\, the character of our triune God\, the Person and work of Christ particularly in salvation\, the indwelling work of the Holy Spirit\, and the nature of the church and spiritual gifts.
URL:https://www.ghcc4u.org/event/summer-fundamentals-2025-09/
LOCATION:Granada Hills Community Church\, 11263 Balboa Blvd\, Granada Hills\, CA\, 91344\, United States
CATEGORIES:Bible Study
ATTACH;FMTTYPE=image/jpeg:https://www.ghcc4u.org/wp-content/uploads/2019/05/fundamentals.jpg
END:VEVENT
BEGIN:VEVENT
DTSTART;TZID=America/Los_Angeles:20250810T160000
DTEND;TZID=America/Los_Angeles:20250810T210000
DTSTAMP:20260424T073142
CREATED:20250804T230141Z
LAST-MODIFIED:20250804T230151Z
UID:31249-1754841600-1754859600@www.ghcc4u.org
SUMMARY:818 Night Market
DESCRIPTION:Please join us in enjoying an evening of food and shopping and in reaching out to our community with the gospel.
URL:https://www.ghcc4u.org/event/818-night-market-2025-24/
LOCATION:Granada Hills Community Church\, 11263 Balboa Blvd\, Granada Hills\, CA\, 91344\, United States
CATEGORIES:Outreach
ATTACH;FMTTYPE=image/jpeg:https://www.ghcc4u.org/wp-content/uploads/2024/09/818.jpg
END:VEVENT
BEGIN:VEVENT
DTSTART;TZID=America/Los_Angeles:20250813T183000
DTEND;TZID=America/Los_Angeles:20250813T200000
DTSTAMP:20260424T073142
CREATED:20250602T182507Z
LAST-MODIFIED:20250602T182522Z
UID:31142-1755109800-1755115200@www.ghcc4u.org
SUMMARY:Summer Fundamentals
DESCRIPTION:“But grow in the grace and knowledge of our Lord and Savior Jesus Christ. To him be the glory both now and to the day of eternity. Amen.” –2 Peter 3:18\nChristians are commanded to grow in the grace and knowledge of our Savior. Whether you are new to the faith or have been in church all your life\, grasping the basic truths of Christianity reflects a commitment to grow. It takes discipline to be a disciple\, and Summer Fundamentals is designed to engage you in the process of maturing in your faith.\nThis ten-week course is designed to help ground you in basic doctrines of the Christian faith\, including the nature of divine revelation\, the origin\, structure\, and dependability of the Scriptures\, the character of our triune God\, the Person and work of Christ particularly in salvation\, the indwelling work of the Holy Spirit\, and the nature of the church and spiritual gifts.
URL:https://www.ghcc4u.org/event/summer-fundamentals-2025-10/
LOCATION:Granada Hills Community Church\, 11263 Balboa Blvd\, Granada Hills\, CA\, 91344\, United States
CATEGORIES:Bible Study
ATTACH;FMTTYPE=image/jpeg:https://www.ghcc4u.org/wp-content/uploads/2019/05/fundamentals.jpg
END:VEVENT
BEGIN:VEVENT
DTSTART;TZID=America/Los_Angeles:20250817T160000
DTEND;TZID=America/Los_Angeles:20250817T210000
DTSTAMP:20260424T073142
CREATED:20250804T230207Z
LAST-MODIFIED:20250804T230218Z
UID:31251-1755446400-1755464400@www.ghcc4u.org
SUMMARY:818 Night Market
DESCRIPTION:Please join us in enjoying an evening of food and shopping and in reaching out to our community with the gospel.
URL:https://www.ghcc4u.org/event/818-night-market-2025-25/
LOCATION:Granada Hills Community Church\, 11263 Balboa Blvd\, Granada Hills\, CA\, 91344\, United States
CATEGORIES:Outreach
ATTACH;FMTTYPE=image/jpeg:https://www.ghcc4u.org/wp-content/uploads/2024/09/818.jpg
END:VEVENT
BEGIN:VEVENT
DTSTART;TZID=America/Los_Angeles:20250820T180000
DTEND;TZID=America/Los_Angeles:20250820T200000
DTSTAMP:20260424T073142
CREATED:20250804T230435Z
LAST-MODIFIED:20250804T230453Z
UID:31257-1755712800-1755720000@www.ghcc4u.org
SUMMARY:Wednesday Night Youth Group
DESCRIPTION:Please join us for a great evening of fun activities\, pizza\, and study in God’s word!
URL:https://www.ghcc4u.org/event/wednesday-night-youth-group-2025-19/
LOCATION:Granada Hills Community Church\, 11263 Balboa Blvd\, Granada Hills\, CA\, 91344\, United States
CATEGORIES:Youth Ministry
ATTACH;FMTTYPE=image/jpeg:https://www.ghcc4u.org/wp-content/uploads/2022/09/youth.jpg
END:VEVENT
BEGIN:VEVENT
DTSTART;TZID=America/Los_Angeles:20250824T160000
DTEND;TZID=America/Los_Angeles:20250824T210000
DTSTAMP:20260424T073142
CREATED:20250804T230233Z
LAST-MODIFIED:20250804T230245Z
UID:31253-1756051200-1756069200@www.ghcc4u.org
SUMMARY:818 Night Market
DESCRIPTION:Please join us in enjoying an evening of food and shopping and in reaching out to our community with the gospel.
URL:https://www.ghcc4u.org/event/818-night-market-2025-26/
LOCATION:Granada Hills Community Church\, 11263 Balboa Blvd\, Granada Hills\, CA\, 91344\, United States
CATEGORIES:Outreach
ATTACH;FMTTYPE=image/jpeg:https://www.ghcc4u.org/wp-content/uploads/2024/09/818.jpg
END:VEVENT
BEGIN:VEVENT
DTSTART;TZID=America/Los_Angeles:20250827T180000
DTEND;TZID=America/Los_Angeles:20250827T200000
DTSTAMP:20260424T073142
CREATED:20250804T230511Z
LAST-MODIFIED:20250804T230524Z
UID:31259-1756317600-1756324800@www.ghcc4u.org
SUMMARY:Wednesday Night Youth Group
DESCRIPTION:Please join us for a great evening of fun activities\, pizza\, and study in God’s word!
URL:https://www.ghcc4u.org/event/wednesday-night-youth-group-2025-20/
LOCATION:Granada Hills Community Church\, 11263 Balboa Blvd\, Granada Hills\, CA\, 91344\, United States
CATEGORIES:Youth Ministry
ATTACH;FMTTYPE=image/jpeg:https://www.ghcc4u.org/wp-content/uploads/2022/09/youth.jpg
END:VEVENT
BEGIN:VEVENT
DTSTART;TZID=America/Los_Angeles:20250830T160000
DTEND;TZID=America/Los_Angeles:20250830T190000
DTSTAMP:20260424T073142
CREATED:20250804T231145Z
LAST-MODIFIED:20250804T231208Z
UID:31263-1756569600-1756580400@www.ghcc4u.org
SUMMARY:Youth Fall Kickoff BBQ
DESCRIPTION:Please come join us for food\, fun\, and fellowship at our Youth Fall Kickoff BBQ!\nAll GHCC Youth Group families are encouraged to reach out and invite neighbors and friends!
URL:https://www.ghcc4u.org/event/youth-fall-kickoff-bbq-2025-1/
LOCATION:Granada Hills Community Church\, 11263 Balboa Blvd\, Granada Hills\, CA\, 91344\, United States
CATEGORIES:Youth Ministry
ATTACH;FMTTYPE=image/jpeg:https://www.ghcc4u.org/wp-content/uploads/2019/02/youth-bbq.jpg
END:VEVENT
BEGIN:VEVENT
DTSTART;TZID=America/Los_Angeles:20250831T160000
DTEND;TZID=America/Los_Angeles:20250831T210000
DTSTAMP:20260424T073142
CREATED:20250804T230307Z
LAST-MODIFIED:20250804T230319Z
UID:31255-1756656000-1756674000@www.ghcc4u.org
SUMMARY:818 Night Market
DESCRIPTION:Please join us in enjoying an evening of food and shopping and in reaching out to our community with the gospel.
URL:https://www.ghcc4u.org/event/818-night-market-2025-27/
LOCATION:Granada Hills Community Church\, 11263 Balboa Blvd\, Granada Hills\, CA\, 91344\, United States
CATEGORIES:Outreach
ATTACH;FMTTYPE=image/jpeg:https://www.ghcc4u.org/wp-content/uploads/2024/09/818.jpg
END:VEVENT
BEGIN:VEVENT
DTSTART;TZID=America/Los_Angeles:20250903T180000
DTEND;TZID=America/Los_Angeles:20250903T200000
DTSTAMP:20260424T073142
CREATED:20250929T170310Z
LAST-MODIFIED:20250929T170343Z
UID:31301-1756922400-1756929600@www.ghcc4u.org
SUMMARY:Wednesday Night Youth Group
DESCRIPTION:Please join us for a great evening of fun activities\, pizza\, and study in God’s word!
URL:https://www.ghcc4u.org/event/wednesday-night-youth-group-2025-21/
LOCATION:Granada Hills Community Church\, 11263 Balboa Blvd\, Granada Hills\, CA\, 91344\, United States
CATEGORIES:Youth Ministry
ATTACH;FMTTYPE=image/jpeg:https://www.ghcc4u.org/wp-content/uploads/2022/09/youth.jpg
END:VEVENT
END:VCALENDAR