BEGIN:VCALENDAR
VERSION:2.0
PRODID:-//Granada Hills Community Church - ECPv6.15.20//NONSGML v1.0//EN
CALSCALE:GREGORIAN
METHOD:PUBLISH
X-WR-CALNAME:Granada Hills Community Church
X-ORIGINAL-URL:https://www.ghcc4u.org
X-WR-CALDESC:Events for Granada Hills Community Church
REFRESH-INTERVAL;VALUE=DURATION:PT1H
X-Robots-Tag:noindex
X-PUBLISHED-TTL:PT1H
BEGIN:VTIMEZONE
TZID:America/Los_Angeles
BEGIN:DAYLIGHT
TZOFFSETFROM:-0800
TZOFFSETTO:-0700
TZNAME:PDT
DTSTART:20230312T100000
END:DAYLIGHT
BEGIN:STANDARD
TZOFFSETFROM:-0700
TZOFFSETTO:-0800
TZNAME:PST
DTSTART:20231105T090000
END:STANDARD
BEGIN:DAYLIGHT
TZOFFSETFROM:-0800
TZOFFSETTO:-0700
TZNAME:PDT
DTSTART:20240310T100000
END:DAYLIGHT
BEGIN:STANDARD
TZOFFSETFROM:-0700
TZOFFSETTO:-0800
TZNAME:PST
DTSTART:20241103T090000
END:STANDARD
BEGIN:DAYLIGHT
TZOFFSETFROM:-0800
TZOFFSETTO:-0700
TZNAME:PDT
DTSTART:20250309T100000
END:DAYLIGHT
BEGIN:STANDARD
TZOFFSETFROM:-0700
TZOFFSETTO:-0800
TZNAME:PST
DTSTART:20251102T090000
END:STANDARD
END:VTIMEZONE
BEGIN:VEVENT
DTSTART;TZID=America/Los_Angeles:20240516T094500
DTEND;TZID=America/Los_Angeles:20240516T113000
DTSTAMP:20260425T074114
CREATED:20240401T181855Z
LAST-MODIFIED:20240401T181906Z
UID:30584-1715852700-1715859000@www.ghcc4u.org
SUMMARY:Thursday Morning Women's Spring Bible Study
DESCRIPTION:This six-week Bible study for women from the book\, “She Smiles Without Fear: Proverbs 31 for Every Woman\,” by Katy McCown invites women to rethink the stereotype of the Proverbs 31 woman being poised\, planned\, and perfect. Through this study\, Katy helps women learn to exhale\, shifting from “doing” to “being” with Jesus.\nWe will discover that so much of our fear of the future is a misplaced perspective of where we look for our future. This book will challenge us to redirect our focus from our fears and onto the One who holds our future.
URL:https://www.ghcc4u.org/event/thursday-morning-womens-spring-bible-study-2024-06/
LOCATION:Granada Hills Community Church\, 11263 Balboa Blvd\, Granada Hills\, CA\, 91344\, United States
CATEGORIES:Women's Ministry
ATTACH;FMTTYPE=image/jpeg:https://www.ghcc4u.org/wp-content/uploads/2024/04/smiles.jpg
END:VEVENT
BEGIN:VEVENT
DTSTART;TZID=America/Los_Angeles:20240515T183000
DTEND;TZID=America/Los_Angeles:20240515T200000
DTSTAMP:20260425T074114
CREATED:20240401T181643Z
LAST-MODIFIED:20240401T181655Z
UID:30574-1715797800-1715803200@www.ghcc4u.org
SUMMARY:Wednesday Night Women's Spring Bible Study
DESCRIPTION:This six-week Bible study for women from the book\, “She Smiles Without Fear: Proverbs 31 for Every Woman\,” by Katy McCown invites women to rethink the stereotype of the Proverbs 31 woman being poised\, planned\, and perfect. Through this study\, Katy helps women learn to exhale\, shifting from “doing” to “being” with Jesus.\nWe will discover that so much of our fear of the future is a misplaced perspective of where we look for our future. This book will challenge us to redirect our focus from our fears and onto the One who holds our future.
URL:https://www.ghcc4u.org/event/wednesday-night-womens-spring-bible-study-2024-06/
LOCATION:Granada Hills Community Church\, 11263 Balboa Blvd\, Granada Hills\, CA\, 91344\, United States
CATEGORIES:Women's Ministry
ATTACH;FMTTYPE=image/jpeg:https://www.ghcc4u.org/wp-content/uploads/2024/04/smiles.jpg
END:VEVENT
BEGIN:VEVENT
DTSTART;TZID=America/Los_Angeles:20240515T180000
DTEND;TZID=America/Los_Angeles:20240515T200000
DTSTAMP:20260425T074114
CREATED:20240401T183146Z
LAST-MODIFIED:20240401T183200Z
UID:30602-1715796000-1715803200@www.ghcc4u.org
SUMMARY:Wednesday Night Youth Group
DESCRIPTION:Please join us for a great evening of fun activities\, pizza\, and study in God’s word!
URL:https://www.ghcc4u.org/event/wednesday-night-youth-group-2024-16/
LOCATION:Granada Hills Community Church\, 11263 Balboa Blvd\, Granada Hills\, CA\, 91344\, United States
CATEGORIES:Youth Ministry
ATTACH;FMTTYPE=image/jpeg:https://www.ghcc4u.org/wp-content/uploads/2022/09/youth.jpg
END:VEVENT
BEGIN:VEVENT
DTSTART;TZID=America/Los_Angeles:20240512T103000
DTEND;TZID=America/Los_Angeles:20240512T114500
DTSTAMP:20260425T074114
CREATED:20240401T182413Z
LAST-MODIFIED:20240401T182432Z
UID:30590-1715509800-1715514300@www.ghcc4u.org
SUMMARY:Mother's Day Celebration
DESCRIPTION:Come join us as we celebrate the blessing of mothers!
URL:https://www.ghcc4u.org/event/mothers-day-2024-1/
LOCATION:Granada Hills Community Church\, 11263 Balboa Blvd\, Granada Hills\, CA\, 91344\, United States
CATEGORIES:Holiday
ATTACH;FMTTYPE=image/jpeg:https://www.ghcc4u.org/wp-content/uploads/2018/05/mothers-day.jpg
END:VEVENT
BEGIN:VEVENT
DTSTART;TZID=America/Los_Angeles:20240511T080000
DTEND;TZID=America/Los_Angeles:20240511T090000
DTSTAMP:20260425T074114
CREATED:20240401T181926Z
LAST-MODIFIED:20240401T181939Z
UID:30586-1715414400-1715418000@www.ghcc4u.org
SUMMARY:Men's Bible Study
DESCRIPTION:Join us for faith and fellowship as we gather to talk about what genuine discipleship looks like in our lives as Christian men.\nWe meet at 8:00am in the Family Life Center (FLC) on the GHCC campus.
URL:https://www.ghcc4u.org/event/mens-bible-study-2024-09/
LOCATION:Granada Hills Community Church\, 11263 Balboa Blvd\, Granada Hills\, CA\, 91344\, United States
CATEGORIES:Men's Ministry
ATTACH;FMTTYPE=image/jpeg:https://www.ghcc4u.org/wp-content/uploads/2022/09/mens-bible-study.jpg
END:VEVENT
BEGIN:VEVENT
DTSTART;TZID=America/Los_Angeles:20240509T094500
DTEND;TZID=America/Los_Angeles:20240509T113000
DTSTAMP:20260425T074114
CREATED:20240401T181831Z
LAST-MODIFIED:20240401T181841Z
UID:30582-1715247900-1715254200@www.ghcc4u.org
SUMMARY:Thursday Morning Women's Spring Bible Study
DESCRIPTION:This six-week Bible study for women from the book\, “She Smiles Without Fear: Proverbs 31 for Every Woman\,” by Katy McCown invites women to rethink the stereotype of the Proverbs 31 woman being poised\, planned\, and perfect. Through this study\, Katy helps women learn to exhale\, shifting from “doing” to “being” with Jesus.\nWe will discover that so much of our fear of the future is a misplaced perspective of where we look for our future. This book will challenge us to redirect our focus from our fears and onto the One who holds our future.
URL:https://www.ghcc4u.org/event/thursday-morning-womens-spring-bible-study-2024-05/
LOCATION:Granada Hills Community Church\, 11263 Balboa Blvd\, Granada Hills\, CA\, 91344\, United States
CATEGORIES:Women's Ministry
ATTACH;FMTTYPE=image/jpeg:https://www.ghcc4u.org/wp-content/uploads/2024/04/smiles.jpg
END:VEVENT
BEGIN:VEVENT
DTSTART;TZID=America/Los_Angeles:20240508T183000
DTEND;TZID=America/Los_Angeles:20240508T200000
DTSTAMP:20260425T074114
CREATED:20240401T181614Z
LAST-MODIFIED:20240401T181626Z
UID:30572-1715193000-1715198400@www.ghcc4u.org
SUMMARY:Wednesday Night Women's Spring Bible Study
DESCRIPTION:This six-week Bible study for women from the book\, “She Smiles Without Fear: Proverbs 31 for Every Woman\,” by Katy McCown invites women to rethink the stereotype of the Proverbs 31 woman being poised\, planned\, and perfect. Through this study\, Katy helps women learn to exhale\, shifting from “doing” to “being” with Jesus.\nWe will discover that so much of our fear of the future is a misplaced perspective of where we look for our future. This book will challenge us to redirect our focus from our fears and onto the One who holds our future.
URL:https://www.ghcc4u.org/event/wednesday-night-womens-spring-bible-study-2024-05/
LOCATION:Granada Hills Community Church\, 11263 Balboa Blvd\, Granada Hills\, CA\, 91344\, United States
CATEGORIES:Women's Ministry
ATTACH;FMTTYPE=image/jpeg:https://www.ghcc4u.org/wp-content/uploads/2024/04/smiles.jpg
END:VEVENT
BEGIN:VEVENT
DTSTART;TZID=America/Los_Angeles:20240508T180000
DTEND;TZID=America/Los_Angeles:20240508T200000
DTSTAMP:20260425T074114
CREATED:20240401T183119Z
LAST-MODIFIED:20240401T183131Z
UID:30600-1715191200-1715198400@www.ghcc4u.org
SUMMARY:Wednesday Night Youth Group
DESCRIPTION:Please join us for a great evening of fun activities\, pizza\, and study in God’s word!
URL:https://www.ghcc4u.org/event/wednesday-night-youth-group-2024-15/
LOCATION:Granada Hills Community Church\, 11263 Balboa Blvd\, Granada Hills\, CA\, 91344\, United States
CATEGORIES:Youth Ministry
ATTACH;FMTTYPE=image/jpeg:https://www.ghcc4u.org/wp-content/uploads/2022/09/youth.jpg
END:VEVENT
BEGIN:VEVENT
DTSTART;TZID=America/Los_Angeles:20240502T094500
DTEND;TZID=America/Los_Angeles:20240502T113000
DTSTAMP:20260425T074114
CREATED:20240401T181807Z
LAST-MODIFIED:20240401T181818Z
UID:30580-1714643100-1714649400@www.ghcc4u.org
SUMMARY:Thursday Morning Women's Spring Bible Study
DESCRIPTION:This six-week Bible study for women from the book\, “She Smiles Without Fear: Proverbs 31 for Every Woman\,” by Katy McCown invites women to rethink the stereotype of the Proverbs 31 woman being poised\, planned\, and perfect. Through this study\, Katy helps women learn to exhale\, shifting from “doing” to “being” with Jesus.\nWe will discover that so much of our fear of the future is a misplaced perspective of where we look for our future. This book will challenge us to redirect our focus from our fears and onto the One who holds our future.
URL:https://www.ghcc4u.org/event/thursday-morning-womens-spring-bible-study-2024-04/
LOCATION:Granada Hills Community Church\, 11263 Balboa Blvd\, Granada Hills\, CA\, 91344\, United States
CATEGORIES:Women's Ministry
ATTACH;FMTTYPE=image/jpeg:https://www.ghcc4u.org/wp-content/uploads/2024/04/smiles.jpg
END:VEVENT
BEGIN:VEVENT
DTSTART;TZID=America/Los_Angeles:20240501T183000
DTEND;TZID=America/Los_Angeles:20240501T200000
DTSTAMP:20260425T074114
CREATED:20240401T181543Z
LAST-MODIFIED:20240401T181558Z
UID:30570-1714588200-1714593600@www.ghcc4u.org
SUMMARY:Wednesday Night Women's Spring Bible Study
DESCRIPTION:This six-week Bible study for women from the book\, “She Smiles Without Fear: Proverbs 31 for Every Woman\,” by Katy McCown invites women to rethink the stereotype of the Proverbs 31 woman being poised\, planned\, and perfect. Through this study\, Katy helps women learn to exhale\, shifting from “doing” to “being” with Jesus.\nWe will discover that so much of our fear of the future is a misplaced perspective of where we look for our future. This book will challenge us to redirect our focus from our fears and onto the One who holds our future.
URL:https://www.ghcc4u.org/event/wednesday-night-womens-spring-bible-study-2024-04/
LOCATION:Granada Hills Community Church\, 11263 Balboa Blvd\, Granada Hills\, CA\, 91344\, United States
CATEGORIES:Women's Ministry
ATTACH;FMTTYPE=image/jpeg:https://www.ghcc4u.org/wp-content/uploads/2024/04/smiles.jpg
END:VEVENT
BEGIN:VEVENT
DTSTART;TZID=America/Los_Angeles:20240501T180000
DTEND;TZID=America/Los_Angeles:20240501T200000
DTSTAMP:20260425T074114
CREATED:20240401T183048Z
LAST-MODIFIED:20240401T183101Z
UID:30598-1714586400-1714593600@www.ghcc4u.org
SUMMARY:Wednesday Night Youth Group
DESCRIPTION:Please join us for a great evening of fun activities\, pizza\, and study in God’s word!
URL:https://www.ghcc4u.org/event/wednesday-night-youth-group-2024-14/
LOCATION:Granada Hills Community Church\, 11263 Balboa Blvd\, Granada Hills\, CA\, 91344\, United States
CATEGORIES:Youth Ministry
ATTACH;FMTTYPE=image/jpeg:https://www.ghcc4u.org/wp-content/uploads/2022/09/youth.jpg
END:VEVENT
BEGIN:VEVENT
DTSTART;TZID=America/Los_Angeles:20240427T080000
DTEND;TZID=America/Los_Angeles:20240427T090000
DTSTAMP:20260425T074114
CREATED:20240401T175917Z
LAST-MODIFIED:20240401T175936Z
UID:30559-1714204800-1714208400@www.ghcc4u.org
SUMMARY:Men's Bible Study
DESCRIPTION:Join us for faith and fellowship as we gather to talk about what genuine discipleship looks like in our lives as Christian men.\nWe meet at 8:00am in the Family Life Center (FLC) on the GHCC campus.
URL:https://www.ghcc4u.org/event/mens-bible-study-2024-08/
LOCATION:Granada Hills Community Church\, 11263 Balboa Blvd\, Granada Hills\, CA\, 91344\, United States
CATEGORIES:Men's Ministry
ATTACH;FMTTYPE=image/jpeg:https://www.ghcc4u.org/wp-content/uploads/2022/09/mens-bible-study.jpg
END:VEVENT
BEGIN:VEVENT
DTSTART;TZID=America/Los_Angeles:20240425T094500
DTEND;TZID=America/Los_Angeles:20240425T113000
DTSTAMP:20260425T074114
CREATED:20240401T181739Z
LAST-MODIFIED:20240401T181751Z
UID:30578-1714038300-1714044600@www.ghcc4u.org
SUMMARY:Thursday Morning Women's Spring Bible Study
DESCRIPTION:This six-week Bible study for women from the book\, “She Smiles Without Fear: Proverbs 31 for Every Woman\,” by Katy McCown invites women to rethink the stereotype of the Proverbs 31 woman being poised\, planned\, and perfect. Through this study\, Katy helps women learn to exhale\, shifting from “doing” to “being” with Jesus.\nWe will discover that so much of our fear of the future is a misplaced perspective of where we look for our future. This book will challenge us to redirect our focus from our fears and onto the One who holds our future.
URL:https://www.ghcc4u.org/event/thursday-morning-womens-spring-bible-study-2024-03/
LOCATION:Granada Hills Community Church\, 11263 Balboa Blvd\, Granada Hills\, CA\, 91344\, United States
CATEGORIES:Women's Ministry
ATTACH;FMTTYPE=image/jpeg:https://www.ghcc4u.org/wp-content/uploads/2024/04/smiles.jpg
END:VEVENT
BEGIN:VEVENT
DTSTART;TZID=America/Los_Angeles:20240424T183000
DTEND;TZID=America/Los_Angeles:20240424T200000
DTSTAMP:20260425T074114
CREATED:20240401T181449Z
LAST-MODIFIED:20240401T181505Z
UID:30568-1713983400-1713988800@www.ghcc4u.org
SUMMARY:Wednesday Night Women's Spring Bible Study
DESCRIPTION:This six-week Bible study for women from the book\, “She Smiles Without Fear: Proverbs 31 for Every Woman\,” by Katy McCown invites women to rethink the stereotype of the Proverbs 31 woman being poised\, planned\, and perfect. Through this study\, Katy helps women learn to exhale\, shifting from “doing” to “being” with Jesus.\nWe will discover that so much of our fear of the future is a misplaced perspective of where we look for our future. This book will challenge us to redirect our focus from our fears and onto the One who holds our future.
URL:https://www.ghcc4u.org/event/wednesday-night-womens-spring-bible-study-2024-03/
LOCATION:Granada Hills Community Church\, 11263 Balboa Blvd\, Granada Hills\, CA\, 91344\, United States
CATEGORIES:Women's Ministry
ATTACH;FMTTYPE=image/jpeg:https://www.ghcc4u.org/wp-content/uploads/2024/04/smiles.jpg
END:VEVENT
BEGIN:VEVENT
DTSTART;TZID=America/Los_Angeles:20240424T180000
DTEND;TZID=America/Los_Angeles:20240424T200000
DTSTAMP:20260425T074114
CREATED:20240401T182934Z
LAST-MODIFIED:20240401T182957Z
UID:30596-1713981600-1713988800@www.ghcc4u.org
SUMMARY:Wednesday Night Youth Group
DESCRIPTION:Please join us for a great evening of fun activities\, pizza\, and study in God’s word!
URL:https://www.ghcc4u.org/event/wednesday-night-youth-group-2024-13/
LOCATION:Granada Hills Community Church\, 11263 Balboa Blvd\, Granada Hills\, CA\, 91344\, United States
CATEGORIES:Youth Ministry
ATTACH;FMTTYPE=image/jpeg:https://www.ghcc4u.org/wp-content/uploads/2022/09/youth.jpg
END:VEVENT
BEGIN:VEVENT
DTSTART;TZID=America/Los_Angeles:20240418T094500
DTEND;TZID=America/Los_Angeles:20240418T113000
DTSTAMP:20260425T074114
CREATED:20240401T181712Z
LAST-MODIFIED:20240401T181725Z
UID:30576-1713433500-1713439800@www.ghcc4u.org
SUMMARY:Thursday Morning Women's Spring Bible Study
DESCRIPTION:This six-week Bible study for women from the book\, “She Smiles Without Fear: Proverbs 31 for Every Woman\,” by Katy McCown invites women to rethink the stereotype of the Proverbs 31 woman being poised\, planned\, and perfect. Through this study\, Katy helps women learn to exhale\, shifting from “doing” to “being” with Jesus.\nWe will discover that so much of our fear of the future is a misplaced perspective of where we look for our future. This book will challenge us to redirect our focus from our fears and onto the One who holds our future.
URL:https://www.ghcc4u.org/event/thursday-morning-womens-spring-bible-study-2024-02/
LOCATION:Granada Hills Community Church\, 11263 Balboa Blvd\, Granada Hills\, CA\, 91344\, United States
CATEGORIES:Women's Ministry
ATTACH;FMTTYPE=image/jpeg:https://www.ghcc4u.org/wp-content/uploads/2024/04/smiles.jpg
END:VEVENT
BEGIN:VEVENT
DTSTART;TZID=America/Los_Angeles:20240417T183000
DTEND;TZID=America/Los_Angeles:20240417T200000
DTSTAMP:20260425T074114
CREATED:20240401T181417Z
LAST-MODIFIED:20240401T181430Z
UID:30566-1713378600-1713384000@www.ghcc4u.org
SUMMARY:Wednesday Night Women's Spring Bible Study
DESCRIPTION:This six-week Bible study for women from the book\, “She Smiles Without Fear: Proverbs 31 for Every Woman\,” by Katy McCown invites women to rethink the stereotype of the Proverbs 31 woman being poised\, planned\, and perfect. Through this study\, Katy helps women learn to exhale\, shifting from “doing” to “being” with Jesus.\nWe will discover that so much of our fear of the future is a misplaced perspective of where we look for our future. This book will challenge us to redirect our focus from our fears and onto the One who holds our future.
URL:https://www.ghcc4u.org/event/wednesday-night-womens-spring-bible-study-2024-02/
LOCATION:Granada Hills Community Church\, 11263 Balboa Blvd\, Granada Hills\, CA\, 91344\, United States
CATEGORIES:Women's Ministry
ATTACH;FMTTYPE=image/jpeg:https://www.ghcc4u.org/wp-content/uploads/2024/04/smiles.jpg
END:VEVENT
BEGIN:VEVENT
DTSTART;TZID=America/Los_Angeles:20240417T180000
DTEND;TZID=America/Los_Angeles:20240417T200000
DTSTAMP:20260425T074114
CREATED:20240401T182859Z
LAST-MODIFIED:20240401T182918Z
UID:30594-1713376800-1713384000@www.ghcc4u.org
SUMMARY:Wednesday Night Youth Group
DESCRIPTION:Please join us for a great evening of fun activities\, pizza\, and study in God’s word!
URL:https://www.ghcc4u.org/event/wednesday-night-youth-group-2024-12/
LOCATION:Granada Hills Community Church\, 11263 Balboa Blvd\, Granada Hills\, CA\, 91344\, United States
CATEGORIES:Youth Ministry
ATTACH;FMTTYPE=image/jpeg:https://www.ghcc4u.org/wp-content/uploads/2022/09/youth.jpg
END:VEVENT
BEGIN:VEVENT
DTSTART;TZID=America/Los_Angeles:20240413T080000
DTEND;TZID=America/Los_Angeles:20240413T090000
DTSTAMP:20260425T074114
CREATED:20240401T175846Z
LAST-MODIFIED:20240401T175859Z
UID:30557-1712995200-1712998800@www.ghcc4u.org
SUMMARY:Men's Bible Study
DESCRIPTION:Join us for faith and fellowship as we gather to talk about what genuine discipleship looks like in our lives as Christian men.\nWe meet at 8:00am in the Family Life Center (FLC) on the GHCC campus.
URL:https://www.ghcc4u.org/event/mens-bible-study-2024-07/
LOCATION:Granada Hills Community Church\, 11263 Balboa Blvd\, Granada Hills\, CA\, 91344\, United States
CATEGORIES:Men's Ministry
ATTACH;FMTTYPE=image/jpeg:https://www.ghcc4u.org/wp-content/uploads/2022/09/mens-bible-study.jpg
END:VEVENT
BEGIN:VEVENT
DTSTART;TZID=America/Los_Angeles:20240411T094500
DTEND;TZID=America/Los_Angeles:20240411T113000
DTSTAMP:20260425T074114
CREATED:20240401T181319Z
LAST-MODIFIED:20240401T181354Z
UID:30564-1712828700-1712835000@www.ghcc4u.org
SUMMARY:Thursday Morning Women's Spring Bible Study
DESCRIPTION:This six-week Bible study for women from the book\, “She Smiles Without Fear: Proverbs 31 for Every Woman\,” by Katy McCown invites women to rethink the stereotype of the Proverbs 31 woman being poised\, planned\, and perfect. Through this study\, Katy helps women learn to exhale\, shifting from “doing” to “being” with Jesus.\nWe will discover that so much of our fear of the future is a misplaced perspective of where we look for our future. This book will challenge us to redirect our focus from our fears and onto the One who holds our future.
URL:https://www.ghcc4u.org/event/thursday-morning-womens-spring-bible-study-2024-01/
LOCATION:Granada Hills Community Church\, 11263 Balboa Blvd\, Granada Hills\, CA\, 91344\, United States
CATEGORIES:Women's Ministry
ATTACH;FMTTYPE=image/jpeg:https://www.ghcc4u.org/wp-content/uploads/2024/04/smiles.jpg
END:VEVENT
BEGIN:VEVENT
DTSTART;TZID=America/Los_Angeles:20240410T183000
DTEND;TZID=America/Los_Angeles:20240410T200000
DTSTAMP:20260425T074114
CREATED:20240401T181156Z
LAST-MODIFIED:20240401T181341Z
UID:30561-1712773800-1712779200@www.ghcc4u.org
SUMMARY:Wednesday Night Women's Spring Bible Study
DESCRIPTION:This six-week Bible study for women from the book\, “She Smiles Without Fear: Proverbs 31 for Every Woman\,” by Katy McCown invites women to rethink the stereotype of the Proverbs 31 woman being poised\, planned\, and perfect. Through this study\, Katy helps women learn to exhale\, shifting from “doing” to “being” with Jesus.\nWe will discover that so much of our fear of the future is a misplaced perspective of where we look for our future. This book will challenge us to redirect our focus from our fears and onto the One who holds our future.
URL:https://www.ghcc4u.org/event/wednesday-night-womens-spring-bible-study-2024-01/
LOCATION:Granada Hills Community Church\, 11263 Balboa Blvd\, Granada Hills\, CA\, 91344\, United States
CATEGORIES:Women's Ministry
ATTACH;FMTTYPE=image/jpeg:https://www.ghcc4u.org/wp-content/uploads/2024/04/smiles.jpg
END:VEVENT
BEGIN:VEVENT
DTSTART;TZID=America/Los_Angeles:20240410T180000
DTEND;TZID=America/Los_Angeles:20240410T200000
DTSTAMP:20260425T074114
CREATED:20240401T182810Z
LAST-MODIFIED:20240401T182836Z
UID:30592-1712772000-1712779200@www.ghcc4u.org
SUMMARY:Wednesday Night Youth Group
DESCRIPTION:Please join us for a great evening of fun activities\, pizza\, and study in God’s word!
URL:https://www.ghcc4u.org/event/wednesday-night-youth-group-2024-11/
LOCATION:Granada Hills Community Church\, 11263 Balboa Blvd\, Granada Hills\, CA\, 91344\, United States
CATEGORIES:Youth Ministry
ATTACH;FMTTYPE=image/jpeg:https://www.ghcc4u.org/wp-content/uploads/2022/09/youth.jpg
END:VEVENT
BEGIN:VEVENT
DTSTART;TZID=America/Los_Angeles:20240331T103000
DTEND;TZID=America/Los_Angeles:20240331T114500
DTSTAMP:20260425T074114
CREATED:20240229T192443Z
LAST-MODIFIED:20240229T192503Z
UID:30521-1711881000-1711885500@www.ghcc4u.org
SUMMARY:Easter Sunday Celebration
DESCRIPTION:He is Risen! He is risen\, indeed!\nCome join us as we celebrate Christ’s resurrection from the grave!
URL:https://www.ghcc4u.org/event/easter-sunday-celebration-2024-1/
LOCATION:Granada Hills Community Church\, 11263 Balboa Blvd\, Granada Hills\, CA\, 91344\, United States
CATEGORIES:Service
ATTACH;FMTTYPE=image/jpeg:https://www.ghcc4u.org/wp-content/uploads/2019/02/easter-sunday.jpg
END:VEVENT
BEGIN:VEVENT
DTSTART;TZID=America/Los_Angeles:20240329T190000
DTEND;TZID=America/Los_Angeles:20240329T201500
DTSTAMP:20260425T074114
CREATED:20240229T192604Z
LAST-MODIFIED:20240229T192623Z
UID:30523-1711738800-1711743300@www.ghcc4u.org
SUMMARY:Good Friday Celebration
DESCRIPTION:Come join us as we reflect on Christ who became sin on our behalf.
URL:https://www.ghcc4u.org/event/good-friday-celebration-2024-1/
LOCATION:Granada Hills Community Church\, 11263 Balboa Blvd\, Granada Hills\, CA\, 91344\, United States
CATEGORIES:Service
ATTACH;FMTTYPE=image/jpeg:https://www.ghcc4u.org/wp-content/uploads/2019/02/good-friday.jpg
END:VEVENT
BEGIN:VEVENT
DTSTART;TZID=America/Los_Angeles:20240328T094500
DTEND;TZID=America/Los_Angeles:20240328T113000
DTSTAMP:20260425T074114
CREATED:20240229T190523Z
LAST-MODIFIED:20240229T190536Z
UID:30510-1711619100-1711625400@www.ghcc4u.org
SUMMARY:Thursday Morning Women's Easter Bible Study
DESCRIPTION:We are offering this four-week Bible study for women from the book\, “The Women of Easter: Encounter the Savior with Mary of Bethany\, Mary of Nazareth\, and Mary Magdalene\,” by Liz Curtis Higgs\, as we lead up to Easter in the month of March.
URL:https://www.ghcc4u.org/event/thursday-morning-womens-easter-bible-study-2024-04/
LOCATION:Granada Hills Community Church\, 11263 Balboa Blvd\, Granada Hills\, CA\, 91344\, United States
CATEGORIES:Women's Ministry
ATTACH;FMTTYPE=image/jpeg:https://www.ghcc4u.org/wp-content/uploads/2024/02/higgs.jpg
END:VEVENT
BEGIN:VEVENT
DTSTART;TZID=America/Los_Angeles:20240327T183000
DTEND;TZID=America/Los_Angeles:20240327T200000
DTSTAMP:20260425T074114
CREATED:20240229T175408Z
LAST-MODIFIED:20240229T190428Z
UID:30502-1711564200-1711569600@www.ghcc4u.org
SUMMARY:Wednesday Night Women's Easter Bible Study
DESCRIPTION:We are offering this four-week Bible study for women from the book\, “The Women of Easter: Encounter the Savior with Mary of Bethany\, Mary of Nazareth\, and Mary Magdalene\,” by Liz Curtis Higgs\, as we lead up to Easter in the month of March.
URL:https://www.ghcc4u.org/event/wednesday-night-womens-easter-bible-study-2024-04/
LOCATION:Granada Hills Community Church\, 11263 Balboa Blvd\, Granada Hills\, CA\, 91344\, United States
CATEGORIES:Women's Ministry
ATTACH;FMTTYPE=image/jpeg:https://www.ghcc4u.org/wp-content/uploads/2024/02/higgs.jpg
END:VEVENT
BEGIN:VEVENT
DTSTART;TZID=America/Los_Angeles:20240324T103000
DTEND;TZID=America/Los_Angeles:20240324T114500
DTSTAMP:20260425T074114
CREATED:20240229T192309Z
LAST-MODIFIED:20240229T192338Z
UID:30519-1711276200-1711280700@www.ghcc4u.org
SUMMARY:Palm Sunday Celebration
DESCRIPTION:Hosanna! Hosanna in the highest!\nCome join us and celebrate Jesus the King of kings!
URL:https://www.ghcc4u.org/event/palm-sunday-celebration-2024-1/
LOCATION:Granada Hills Community Church\, 11263 Balboa Blvd\, Granada Hills\, CA\, 91344\, United States
CATEGORIES:Service
ATTACH;FMTTYPE=image/jpeg:https://www.ghcc4u.org/wp-content/uploads/2019/02/palm-sunday.jpg
END:VEVENT
BEGIN:VEVENT
DTSTART;TZID=America/Los_Angeles:20240323T080000
DTEND;TZID=America/Los_Angeles:20240323T090000
DTSTAMP:20260425T074114
CREATED:20240229T190957Z
LAST-MODIFIED:20240229T191016Z
UID:30514-1711180800-1711184400@www.ghcc4u.org
SUMMARY:Men's Bible Study
DESCRIPTION:Join us for faith and fellowship as we gather to talk about what genuine discipleship looks like in our lives as Christian men.\nWe meet at 8:00am in the Family Life Center (FLC) on the GHCC campus.
URL:https://www.ghcc4u.org/event/mens-bible-study-2024-06/
LOCATION:Granada Hills Community Church\, 11263 Balboa Blvd\, Granada Hills\, CA\, 91344\, United States
CATEGORIES:Men's Ministry
ATTACH;FMTTYPE=image/jpeg:https://www.ghcc4u.org/wp-content/uploads/2022/09/mens-bible-study.jpg
END:VEVENT
BEGIN:VEVENT
DTSTART;TZID=America/Los_Angeles:20240321T094500
DTEND;TZID=America/Los_Angeles:20240321T113000
DTSTAMP:20260425T074114
CREATED:20240229T190452Z
LAST-MODIFIED:20240229T190505Z
UID:30508-1711014300-1711020600@www.ghcc4u.org
SUMMARY:Thursday Morning Women's Easter Bible Study
DESCRIPTION:We are offering this four-week Bible study for women from the book\, “The Women of Easter: Encounter the Savior with Mary of Bethany\, Mary of Nazareth\, and Mary Magdalene\,” by Liz Curtis Higgs\, as we lead up to Easter in the month of March.
URL:https://www.ghcc4u.org/event/thursday-morning-womens-easter-bible-study-2024-03/
LOCATION:Granada Hills Community Church\, 11263 Balboa Blvd\, Granada Hills\, CA\, 91344\, United States
CATEGORIES:Women's Ministry
ATTACH;FMTTYPE=image/jpeg:https://www.ghcc4u.org/wp-content/uploads/2024/02/higgs.jpg
END:VEVENT
BEGIN:VEVENT
DTSTART;TZID=America/Los_Angeles:20240320T183000
DTEND;TZID=America/Los_Angeles:20240320T200000
DTSTAMP:20260425T074114
CREATED:20240229T175339Z
LAST-MODIFIED:20240229T190420Z
UID:30500-1710959400-1710964800@www.ghcc4u.org
SUMMARY:Wednesday Night Women's Easter Bible Study
DESCRIPTION:We are offering this four-week Bible study for women from the book\, “The Women of Easter: Encounter the Savior with Mary of Bethany\, Mary of Nazareth\, and Mary Magdalene\,” by Liz Curtis Higgs\, as we lead up to Easter in the month of March.
URL:https://www.ghcc4u.org/event/wednesday-night-womens-easter-bible-study-2024-03/
LOCATION:Granada Hills Community Church\, 11263 Balboa Blvd\, Granada Hills\, CA\, 91344\, United States
CATEGORIES:Women's Ministry
ATTACH;FMTTYPE=image/jpeg:https://www.ghcc4u.org/wp-content/uploads/2024/02/higgs.jpg
END:VEVENT
END:VCALENDAR