BEGIN:VCALENDAR
VERSION:2.0
PRODID:-//Granada Hills Community Church - ECPv6.15.20//NONSGML v1.0//EN
CALSCALE:GREGORIAN
METHOD:PUBLISH
X-WR-CALNAME:Granada Hills Community Church
X-ORIGINAL-URL:https://www.ghcc4u.org
X-WR-CALDESC:Events for Granada Hills Community Church
REFRESH-INTERVAL;VALUE=DURATION:PT1H
X-Robots-Tag:noindex
X-PUBLISHED-TTL:PT1H
BEGIN:VTIMEZONE
TZID:America/Los_Angeles
BEGIN:DAYLIGHT
TZOFFSETFROM:-0800
TZOFFSETTO:-0700
TZNAME:PDT
DTSTART:20230312T100000
END:DAYLIGHT
BEGIN:STANDARD
TZOFFSETFROM:-0700
TZOFFSETTO:-0800
TZNAME:PST
DTSTART:20231105T090000
END:STANDARD
BEGIN:DAYLIGHT
TZOFFSETFROM:-0800
TZOFFSETTO:-0700
TZNAME:PDT
DTSTART:20240310T100000
END:DAYLIGHT
BEGIN:STANDARD
TZOFFSETFROM:-0700
TZOFFSETTO:-0800
TZNAME:PST
DTSTART:20241103T090000
END:STANDARD
BEGIN:DAYLIGHT
TZOFFSETFROM:-0800
TZOFFSETTO:-0700
TZNAME:PDT
DTSTART:20250309T100000
END:DAYLIGHT
BEGIN:STANDARD
TZOFFSETFROM:-0700
TZOFFSETTO:-0800
TZNAME:PST
DTSTART:20251102T090000
END:STANDARD
END:VTIMEZONE
BEGIN:VEVENT
DTSTART;TZID=America/Los_Angeles:20241003T094500
DTEND;TZID=America/Los_Angeles:20241003T113000
DTSTAMP:20260425T073331
CREATED:20240826T230159Z
LAST-MODIFIED:20240826T230211Z
UID:30753-1727948700-1727955000@www.ghcc4u.org
SUMMARY:Thursday Morning Women's Fall Bible Study
DESCRIPTION:This seven-week study encourages women to let go of striving and learn to trust in God’s character\, His control\, and even His correction.\nThe prophet Isaiah served as God’s spokesman to the people of Israel during a rebellious time in their history. It is a book with both warning and promise. Isaiah’s encouragement was to strive less and trust in our sovereign God’s purpose of salvation.
URL:https://www.ghcc4u.org/event/thursday-morning-womens-fall-bible-study-2024-04/
LOCATION:Granada Hills Community Church\, 11263 Balboa Blvd\, Granada Hills\, CA\, 91344\, United States
CATEGORIES:Women's Ministry
ATTACH;FMTTYPE=image/jpeg:https://www.ghcc4u.org/wp-content/uploads/2024/08/spoelstra.jpg
END:VEVENT
BEGIN:VEVENT
DTSTART;TZID=America/Los_Angeles:20241002T183000
DTEND;TZID=America/Los_Angeles:20241002T200000
DTSTAMP:20260425T073331
CREATED:20240826T225259Z
LAST-MODIFIED:20240826T225316Z
UID:30737-1727893800-1727899200@www.ghcc4u.org
SUMMARY:Wednesday Night Women's Fall Bible Study
DESCRIPTION:This seven-week study encourages women to let go of striving and learn to trust in God’s character\, His control\, and even His correction.\nThe prophet Isaiah served as God’s spokesman to the people of Israel during a rebellious time in their history. It is a book with both warning and promise. Isaiah’s encouragement was to strive less and trust in our sovereign God’s purpose of salvation.
URL:https://www.ghcc4u.org/event/wednesday-night-womens-fall-bible-study-2024-04/
LOCATION:Granada Hills Community Church\, 11263 Balboa Blvd\, Granada Hills\, CA\, 91344\, United States
CATEGORIES:Women's Ministry
ATTACH;FMTTYPE=image/jpeg:https://www.ghcc4u.org/wp-content/uploads/2024/08/spoelstra.jpg
END:VEVENT
BEGIN:VEVENT
DTSTART;TZID=America/Los_Angeles:20241002T180000
DTEND;TZID=America/Los_Angeles:20241002T200000
DTSTAMP:20260425T073331
CREATED:20240826T230424Z
LAST-MODIFIED:20240826T230439Z
UID:30761-1727892000-1727899200@www.ghcc4u.org
SUMMARY:Wednesday Night Youth Group
DESCRIPTION:Please join us for a great evening of fun activities\, pizza\, and study in God’s word!
URL:https://www.ghcc4u.org/event/wednesday-night-youth-group-2024-26/
LOCATION:Granada Hills Community Church\, 11263 Balboa Blvd\, Granada Hills\, CA\, 91344\, United States
CATEGORIES:Youth Ministry
ATTACH;FMTTYPE=image/jpeg:https://www.ghcc4u.org/wp-content/uploads/2022/09/youth.jpg
END:VEVENT
BEGIN:VEVENT
DTSTART;TZID=America/Los_Angeles:20240928T083000
DTEND;TZID=America/Los_Angeles:20240928T130000
DTSTAMP:20260425T073331
CREATED:20240826T232014Z
LAST-MODIFIED:20240826T232033Z
UID:30771-1727512200-1727528400@www.ghcc4u.org
SUMMARY:Open Arms Walk for Life
DESCRIPTION:The Walk for Life and Fun Run is a peaceful\, positive event giving people a way to apply their pro-life convictions\, raise support\, and increase awareness in our community. Come support Open Arms Pregnancy Clinic and the wonderful work they do!\nA burger lunch is available for $7 at the event.\nClick here to register
URL:https://www.ghcc4u.org/event/walk-for-life-2024/
LOCATION:Restored Church LA\, 20121 Devonshire St\, Chatsworth\, CA\, 91311\, United States
CATEGORIES:Outreach,Service
ATTACH;FMTTYPE=image/jpeg:https://www.ghcc4u.org/wp-content/uploads/2024/08/walkforlife.jpg
ORGANIZER;CN="Open Arms Pregnancy Clinic":MAILTO:office@openarmspregnancy.com
END:VEVENT
BEGIN:VEVENT
DTSTART;TZID=America/Los_Angeles:20240926T094500
DTEND;TZID=America/Los_Angeles:20240926T113000
DTSTAMP:20260425T073331
CREATED:20240826T225753Z
LAST-MODIFIED:20240826T230104Z
UID:30749-1727343900-1727350200@www.ghcc4u.org
SUMMARY:Thursday Morning Women's Fall Bible Study
DESCRIPTION:This seven-week study encourages women to let go of striving and learn to trust in God’s character\, His control\, and even His correction.\nThe prophet Isaiah served as God’s spokesman to the people of Israel during a rebellious time in their history. It is a book with both warning and promise. Isaiah’s encouragement was to strive less and trust in our sovereign God’s purpose of salvation.
URL:https://www.ghcc4u.org/event/thursday-morning-womens-fall-bible-study-2024-03/
LOCATION:Granada Hills Community Church\, 11263 Balboa Blvd\, Granada Hills\, CA\, 91344\, United States
CATEGORIES:Women's Ministry
ATTACH;FMTTYPE=image/jpeg:https://www.ghcc4u.org/wp-content/uploads/2024/08/spoelstra.jpg
END:VEVENT
BEGIN:VEVENT
DTSTART;TZID=America/Los_Angeles:20240925T183000
DTEND;TZID=America/Los_Angeles:20240925T200000
DTSTAMP:20260425T073331
CREATED:20240826T225215Z
LAST-MODIFIED:20240826T225229Z
UID:30735-1727289000-1727294400@www.ghcc4u.org
SUMMARY:Wednesday Night Women's Fall Bible Study
DESCRIPTION:This seven-week study encourages women to let go of striving and learn to trust in God’s character\, His control\, and even His correction.\nThe prophet Isaiah served as God’s spokesman to the people of Israel during a rebellious time in their history. It is a book with both warning and promise. Isaiah’s encouragement was to strive less and trust in our sovereign God’s purpose of salvation.
URL:https://www.ghcc4u.org/event/wednesday-night-womens-fall-bible-study-2024-03/
LOCATION:Granada Hills Community Church\, 11263 Balboa Blvd\, Granada Hills\, CA\, 91344\, United States
CATEGORIES:Women's Ministry
ATTACH;FMTTYPE=image/jpeg:https://www.ghcc4u.org/wp-content/uploads/2024/08/spoelstra.jpg
END:VEVENT
BEGIN:VEVENT
DTSTART;TZID=America/Los_Angeles:20240925T180000
DTEND;TZID=America/Los_Angeles:20240925T200000
DTSTAMP:20260425T073331
CREATED:20240826T223746Z
LAST-MODIFIED:20240826T223801Z
UID:30722-1727287200-1727294400@www.ghcc4u.org
SUMMARY:Wednesday Night Youth Group
DESCRIPTION:Please join us for a great evening of fun activities\, pizza\, and study in God’s word!
URL:https://www.ghcc4u.org/event/wednesday-night-youth-group-2024-25/
LOCATION:Granada Hills Community Church\, 11263 Balboa Blvd\, Granada Hills\, CA\, 91344\, United States
CATEGORIES:Youth Ministry
ATTACH;FMTTYPE=image/jpeg:https://www.ghcc4u.org/wp-content/uploads/2022/09/youth.jpg
END:VEVENT
BEGIN:VEVENT
DTSTART;TZID=America/Los_Angeles:20240919T094500
DTEND;TZID=America/Los_Angeles:20240919T113000
DTSTAMP:20260425T073331
CREATED:20240826T225901Z
LAST-MODIFIED:20240826T230008Z
UID:30751-1726739100-1726745400@www.ghcc4u.org
SUMMARY:Thursday Morning Women's Fall Bible Study
DESCRIPTION:This seven-week study encourages women to let go of striving and learn to trust in God’s character\, His control\, and even His correction.\nThe prophet Isaiah served as God’s spokesman to the people of Israel during a rebellious time in their history. It is a book with both warning and promise. Isaiah’s encouragement was to strive less and trust in our sovereign God’s purpose of salvation.
URL:https://www.ghcc4u.org/event/thursday-morning-womens-fall-bible-study-2024-02/
LOCATION:Granada Hills Community Church\, 11263 Balboa Blvd\, Granada Hills\, CA\, 91344\, United States
CATEGORIES:Women's Ministry
ATTACH;FMTTYPE=image/jpeg:https://www.ghcc4u.org/wp-content/uploads/2024/08/spoelstra.jpg
END:VEVENT
BEGIN:VEVENT
DTSTART;TZID=America/Los_Angeles:20240918T183000
DTEND;TZID=America/Los_Angeles:20240918T200000
DTSTAMP:20260425T073331
CREATED:20240826T225141Z
LAST-MODIFIED:20240826T225158Z
UID:30733-1726684200-1726689600@www.ghcc4u.org
SUMMARY:Wednesday Night Women's Fall Bible Study
DESCRIPTION:This seven-week study encourages women to let go of striving and learn to trust in God’s character\, His control\, and even His correction.\nThe prophet Isaiah served as God’s spokesman to the people of Israel during a rebellious time in their history. It is a book with both warning and promise. Isaiah’s encouragement was to strive less and trust in our sovereign God’s purpose of salvation.
URL:https://www.ghcc4u.org/event/wednesday-night-womens-fall-bible-study-2024-02/
LOCATION:Granada Hills Community Church\, 11263 Balboa Blvd\, Granada Hills\, CA\, 91344\, United States
CATEGORIES:Women's Ministry
ATTACH;FMTTYPE=image/jpeg:https://www.ghcc4u.org/wp-content/uploads/2024/08/spoelstra.jpg
END:VEVENT
BEGIN:VEVENT
DTSTART;TZID=America/Los_Angeles:20240918T180000
DTEND;TZID=America/Los_Angeles:20240918T200000
DTSTAMP:20260425T073331
CREATED:20240826T223707Z
LAST-MODIFIED:20240826T223727Z
UID:30720-1726682400-1726689600@www.ghcc4u.org
SUMMARY:Wednesday Night Youth Group
DESCRIPTION:Please join us for a great evening of fun activities\, pizza\, and study in God’s word!
URL:https://www.ghcc4u.org/event/wednesday-night-youth-group-2024-24/
LOCATION:Granada Hills Community Church\, 11263 Balboa Blvd\, Granada Hills\, CA\, 91344\, United States
CATEGORIES:Youth Ministry
ATTACH;FMTTYPE=image/jpeg:https://www.ghcc4u.org/wp-content/uploads/2022/09/youth.jpg
END:VEVENT
BEGIN:VEVENT
DTSTART;TZID=America/Los_Angeles:20240914T080000
DTEND;TZID=America/Los_Angeles:20240914T090000
DTSTAMP:20260425T073331
CREATED:20240826T224004Z
LAST-MODIFIED:20240826T224016Z
UID:30726-1726300800-1726304400@www.ghcc4u.org
SUMMARY:Men's Bible Study
DESCRIPTION:Join us for faith and fellowship as we gather to talk about what genuine discipleship looks like in our lives as Christian men.\nWe meet at 8:00am in the Family Life Center (FLC) on the GHCC campus.
URL:https://www.ghcc4u.org/event/mens-bible-study-2024-17/
LOCATION:Granada Hills Community Church\, 11263 Balboa Blvd\, Granada Hills\, CA\, 91344\, United States
CATEGORIES:Men's Ministry
ATTACH;FMTTYPE=image/jpeg:https://www.ghcc4u.org/wp-content/uploads/2022/09/mens-bible-study.jpg
END:VEVENT
BEGIN:VEVENT
DTSTART;TZID=America/Los_Angeles:20240912T094500
DTEND;TZID=America/Los_Angeles:20240912T113000
DTSTAMP:20260425T073331
CREATED:20240826T225636Z
LAST-MODIFIED:20240826T230024Z
UID:30745-1726134300-1726140600@www.ghcc4u.org
SUMMARY:Thursday Morning Women's Fall Bible Study
DESCRIPTION:This seven-week study encourages women to let go of striving and learn to trust in God’s character\, His control\, and even His correction.\nThe prophet Isaiah served as God’s spokesman to the people of Israel during a rebellious time in their history. It is a book with both warning and promise. Isaiah’s encouragement was to strive less and trust in our sovereign God’s purpose of salvation.
URL:https://www.ghcc4u.org/event/thursday-morning-womens-fall-bible-study-2024-01/
LOCATION:Granada Hills Community Church\, 11263 Balboa Blvd\, Granada Hills\, CA\, 91344\, United States
CATEGORIES:Women's Ministry
ATTACH;FMTTYPE=image/jpeg:https://www.ghcc4u.org/wp-content/uploads/2024/08/spoelstra.jpg
END:VEVENT
BEGIN:VEVENT
DTSTART;TZID=America/Los_Angeles:20240911T183000
DTEND;TZID=America/Los_Angeles:20240911T200000
DTSTAMP:20260425T073331
CREATED:20240826T225100Z
LAST-MODIFIED:20240826T225123Z
UID:30731-1726079400-1726084800@www.ghcc4u.org
SUMMARY:Wednesday Night Women's Fall Bible Study
DESCRIPTION:This seven-week study encourages women to let go of striving and learn to trust in God’s character\, His control\, and even His correction.\nThe prophet Isaiah served as God’s spokesman to the people of Israel during a rebellious time in their history. It is a book with both warning and promise. Isaiah’s encouragement was to strive less and trust in our sovereign God’s purpose of salvation.
URL:https://www.ghcc4u.org/event/wednesday-night-womens-fall-bible-study-2024-01/
LOCATION:Granada Hills Community Church\, 11263 Balboa Blvd\, Granada Hills\, CA\, 91344\, United States
CATEGORIES:Women's Ministry
ATTACH;FMTTYPE=image/jpeg:https://www.ghcc4u.org/wp-content/uploads/2024/08/spoelstra.jpg
END:VEVENT
BEGIN:VEVENT
DTSTART;TZID=America/Los_Angeles:20240911T180000
DTEND;TZID=America/Los_Angeles:20240911T200000
DTSTAMP:20260425T073331
CREATED:20240826T223623Z
LAST-MODIFIED:20240826T223647Z
UID:30718-1726077600-1726084800@www.ghcc4u.org
SUMMARY:Wednesday Night Youth Group
DESCRIPTION:Please join us for a great evening of fun activities\, pizza\, and study in God’s word!
URL:https://www.ghcc4u.org/event/wednesday-night-youth-group-2024-23/
LOCATION:Granada Hills Community Church\, 11263 Balboa Blvd\, Granada Hills\, CA\, 91344\, United States
CATEGORIES:Youth Ministry
ATTACH;FMTTYPE=image/jpeg:https://www.ghcc4u.org/wp-content/uploads/2022/09/youth.jpg
END:VEVENT
BEGIN:VEVENT
DTSTART;TZID=America/Los_Angeles:20240904T180000
DTEND;TZID=America/Los_Angeles:20240904T200000
DTSTAMP:20260425T073331
CREATED:20240826T223553Z
LAST-MODIFIED:20240826T223606Z
UID:30716-1725472800-1725480000@www.ghcc4u.org
SUMMARY:Wednesday Night Youth Group
DESCRIPTION:Please join us for a great evening of fun activities\, pizza\, and study in God’s word!
URL:https://www.ghcc4u.org/event/wednesday-night-youth-group-2024-22/
LOCATION:Granada Hills Community Church\, 11263 Balboa Blvd\, Granada Hills\, CA\, 91344\, United States
CATEGORIES:Youth Ministry
ATTACH;FMTTYPE=image/jpeg:https://www.ghcc4u.org/wp-content/uploads/2022/09/youth.jpg
END:VEVENT
BEGIN:VEVENT
DTSTART;VALUE=DATE:20240902
DTEND;VALUE=DATE:20240903
DTSTAMP:20260425T073331
CREATED:20240826T223904Z
LAST-MODIFIED:20240826T223920Z
UID:30724-1725235200-1725321599@www.ghcc4u.org
SUMMARY:Church Office Closed
DESCRIPTION:The church office is closed for Labor Day.
URL:https://www.ghcc4u.org/event/church-office-closed-2024-05/
LOCATION:Granada Hills Community Church\, 11263 Balboa Blvd\, Granada Hills\, CA\, 91344\, United States
CATEGORIES:Holiday
ATTACH;FMTTYPE=image/jpeg:https://www.ghcc4u.org/wp-content/uploads/2019/02/closed.jpg
END:VEVENT
BEGIN:VEVENT
DTSTART;TZID=America/Los_Angeles:20240828T180000
DTEND;TZID=America/Los_Angeles:20240828T200000
DTSTAMP:20260425T073331
CREATED:20240729T182756Z
LAST-MODIFIED:20240729T182815Z
UID:30700-1724868000-1724875200@www.ghcc4u.org
SUMMARY:Wednesday Night Youth Group
DESCRIPTION:Please join us for a great evening of fun activities\, pizza\, and study in God’s word!
URL:https://www.ghcc4u.org/event/wednesday-night-youth-group-2024-21/
LOCATION:Granada Hills Community Church\, 11263 Balboa Blvd\, Granada Hills\, CA\, 91344\, United States
CATEGORIES:Youth Ministry
ATTACH;FMTTYPE=image/jpeg:https://www.ghcc4u.org/wp-content/uploads/2022/09/youth.jpg
END:VEVENT
BEGIN:VEVENT
DTSTART;TZID=America/Los_Angeles:20240824T080000
DTEND;TZID=America/Los_Angeles:20240824T090000
DTSTAMP:20260425T073331
CREATED:20240729T183122Z
LAST-MODIFIED:20240729T183141Z
UID:30704-1724486400-1724490000@www.ghcc4u.org
SUMMARY:Men's Bible Study
DESCRIPTION:Join us for faith and fellowship as we gather to talk about what genuine discipleship looks like in our lives as Christian men.\nWe meet at 8:00am in the Family Life Center (FLC) on the GHCC campus.
URL:https://www.ghcc4u.org/event/mens-bible-study-2024-16/
LOCATION:Granada Hills Community Church\, 11263 Balboa Blvd\, Granada Hills\, CA\, 91344\, United States
CATEGORIES:Men's Ministry
ATTACH;FMTTYPE=image/jpeg:https://www.ghcc4u.org/wp-content/uploads/2022/09/mens-bible-study.jpg
END:VEVENT
BEGIN:VEVENT
DTSTART;TZID=America/Los_Angeles:20240821T180000
DTEND;TZID=America/Los_Angeles:20240821T200000
DTSTAMP:20260425T073331
CREATED:20240729T182717Z
LAST-MODIFIED:20240729T182737Z
UID:30698-1724263200-1724270400@www.ghcc4u.org
SUMMARY:Wednesday Night Youth Group
DESCRIPTION:Please join us for a great evening of fun activities\, pizza\, and study in God’s word!
URL:https://www.ghcc4u.org/event/wednesday-night-youth-group-2024-20/
LOCATION:Granada Hills Community Church\, 11263 Balboa Blvd\, Granada Hills\, CA\, 91344\, United States
CATEGORIES:Youth Ministry
ATTACH;FMTTYPE=image/jpeg:https://www.ghcc4u.org/wp-content/uploads/2022/09/youth.jpg
END:VEVENT
BEGIN:VEVENT
DTSTART;TZID=America/Los_Angeles:20240814T180000
DTEND;TZID=America/Los_Angeles:20240814T200000
DTSTAMP:20260425T073331
CREATED:20240729T182632Z
LAST-MODIFIED:20240729T182653Z
UID:30696-1723658400-1723665600@www.ghcc4u.org
SUMMARY:Wednesday Night Youth Group
DESCRIPTION:Please join us for a great evening of fun activities\, pizza\, and study in God’s word!
URL:https://www.ghcc4u.org/event/wednesday-night-youth-group-2024-19/
LOCATION:Granada Hills Community Church\, 11263 Balboa Blvd\, Granada Hills\, CA\, 91344\, United States
CATEGORIES:Youth Ministry
ATTACH;FMTTYPE=image/jpeg:https://www.ghcc4u.org/wp-content/uploads/2022/09/youth.jpg
END:VEVENT
BEGIN:VEVENT
DTSTART;TZID=America/Los_Angeles:20240810T080000
DTEND;TZID=America/Los_Angeles:20240810T090000
DTSTAMP:20260425T073331
CREATED:20240729T183041Z
LAST-MODIFIED:20240729T183100Z
UID:30702-1723276800-1723280400@www.ghcc4u.org
SUMMARY:Men's Bible Study
DESCRIPTION:Join us for faith and fellowship as we gather to talk about what genuine discipleship looks like in our lives as Christian men.\nWe meet at 8:00am in the Family Life Center (FLC) on the GHCC campus.
URL:https://www.ghcc4u.org/event/mens-bible-study-2024-15/
LOCATION:Granada Hills Community Church\, 11263 Balboa Blvd\, Granada Hills\, CA\, 91344\, United States
CATEGORIES:Men's Ministry
ATTACH;FMTTYPE=image/jpeg:https://www.ghcc4u.org/wp-content/uploads/2022/09/mens-bible-study.jpg
END:VEVENT
BEGIN:VEVENT
DTSTART;TZID=America/Los_Angeles:20240803T130000
DTEND;TZID=America/Los_Angeles:20240803T170000
DTSTAMP:20260425T073331
CREATED:20240702T182800Z
LAST-MODIFIED:20240702T182822Z
UID:30684-1722690000-1722704400@www.ghcc4u.org
SUMMARY:Youth Pool Party
DESCRIPTION:Come join us for a great time of food and fun in the pool!\nThe event will start at 1:00pm at Kathi Adkins’s home: 11009 Gloria Ave Granada Hills CA 91344.
URL:https://www.ghcc4u.org/event/youth-pool-party-2024-1/
LOCATION:Kathi Adkins Home\, 11009 Gloria Ave\, Granada Hills\, CA\, 91344\, United States
CATEGORIES:Youth Ministry
ATTACH;FMTTYPE=image/jpeg:https://www.ghcc4u.org/wp-content/uploads/2019/02/pool.jpg
END:VEVENT
BEGIN:VEVENT
DTSTART;TZID=America/Los_Angeles:20240727T080000
DTEND;TZID=America/Los_Angeles:20240727T090000
DTSTAMP:20260425T073331
CREATED:20240702T182620Z
LAST-MODIFIED:20240702T182636Z
UID:30682-1722067200-1722070800@www.ghcc4u.org
SUMMARY:Men's Bible Study
DESCRIPTION:Join us for faith and fellowship as we gather to talk about what genuine discipleship looks like in our lives as Christian men.\nWe meet at 8:00am in the Family Life Center (FLC) on the GHCC campus.
URL:https://www.ghcc4u.org/event/mens-bible-study-2024-14/
LOCATION:Granada Hills Community Church\, 11263 Balboa Blvd\, Granada Hills\, CA\, 91344\, United States
CATEGORIES:Men's Ministry
ATTACH;FMTTYPE=image/jpeg:https://www.ghcc4u.org/wp-content/uploads/2022/09/mens-bible-study.jpg
END:VEVENT
BEGIN:VEVENT
DTSTART;TZID=America/Los_Angeles:20240720T100000
DTEND;TZID=America/Los_Angeles:20240720T200000
DTSTAMP:20260425T073331
CREATED:20240702T182245Z
LAST-MODIFIED:20240702T182324Z
UID:30674-1721469600-1721505600@www.ghcc4u.org
SUMMARY:Youth Beach Day
DESCRIPTION:Please come join us for some fun in the sun for our Youth Beach Day!\nThe GHCC Youth Group will spend the day at Oxnard State Beach Park. We will meet at church at 10:00am and caravan together to the beach\, or you can join us directly at the beach. We will return to church by 8:00pm. Parking at the beach park is $5.
URL:https://www.ghcc4u.org/event/youth-beach-day-2024-1/
LOCATION:Granada Hills Community Church\, 11263 Balboa Blvd\, Granada Hills\, CA\, 91344\, United States
CATEGORIES:Youth Ministry
ATTACH;FMTTYPE=image/jpeg:https://www.ghcc4u.org/wp-content/uploads/2019/02/beach.jpg
END:VEVENT
BEGIN:VEVENT
DTSTART;TZID=America/Los_Angeles:20240713T080000
DTEND;TZID=America/Los_Angeles:20240713T090000
DTSTAMP:20260425T073331
CREATED:20240702T182548Z
LAST-MODIFIED:20240702T182604Z
UID:30680-1720857600-1720861200@www.ghcc4u.org
SUMMARY:Men's Bible Study
DESCRIPTION:Join us for faith and fellowship as we gather to talk about what genuine discipleship looks like in our lives as Christian men.\nWe meet at 8:00am in the Family Life Center (FLC) on the GHCC campus.
URL:https://www.ghcc4u.org/event/mens-bible-study-2024-13/
LOCATION:Granada Hills Community Church\, 11263 Balboa Blvd\, Granada Hills\, CA\, 91344\, United States
CATEGORIES:Men's Ministry
ATTACH;FMTTYPE=image/jpeg:https://www.ghcc4u.org/wp-content/uploads/2022/09/mens-bible-study.jpg
END:VEVENT
BEGIN:VEVENT
DTSTART;TZID=America/Los_Angeles:20240707T120000
DTEND;TZID=America/Los_Angeles:20240707T133000
DTSTAMP:20260425T073331
CREATED:20240702T182017Z
LAST-MODIFIED:20240702T182017Z
UID:30671-1720353600-1720359000@www.ghcc4u.org
SUMMARY:Larry & Ou Yarger Luncheon
DESCRIPTION:Come join us for a wonderful time of food and fellowship as we hear from Larry & Ou Yarger\, our missionaries ministering in Thailand!
URL:https://www.ghcc4u.org/event/larry-and-ou-yarger-luncheon-2024-1/
LOCATION:Granada Hills Community Church\, 11263 Balboa Blvd\, Granada Hills\, CA\, 91344\, United States
CATEGORIES:Missions
ATTACH;FMTTYPE=image/jpeg:https://www.ghcc4u.org/wp-content/uploads/2024/07/luncheon.jpg
END:VEVENT
BEGIN:VEVENT
DTSTART;VALUE=DATE:20240704
DTEND;VALUE=DATE:20240705
DTSTAMP:20260425T073331
CREATED:20240702T180640Z
LAST-MODIFIED:20240702T180657Z
UID:30669-1720051200-1720137599@www.ghcc4u.org
SUMMARY:Church Office Closed
DESCRIPTION:The church office is closed for Independence Day.
URL:https://www.ghcc4u.org/event/church-office-closed-2024-04/
LOCATION:Granada Hills Community Church\, 11263 Balboa Blvd\, Granada Hills\, CA\, 91344\, United States
CATEGORIES:Holiday
ATTACH;FMTTYPE=image/jpeg:https://www.ghcc4u.org/wp-content/uploads/2019/02/closed.jpg
END:VEVENT
BEGIN:VEVENT
DTSTART;VALUE=DATE:20240628
DTEND;VALUE=DATE:20240702
DTSTAMP:20260425T073331
CREATED:20240610T203117Z
LAST-MODIFIED:20240610T203233Z
UID:30659-1719532800-1719878399@www.ghcc4u.org
SUMMARY:Youth Summer Camp
DESCRIPTION:The GHCC Youth Group will be joining the Summer Camp hosted by Grace Bible Church of Bakersfield at Hartland Christian Camp in Badger\, CA. The camp will start on Friday 6/28 and end on Monday 7/1. The cost to attend is $360 for students and $290 for leaders.\nAll GHCC Youth Group families are encouraged to reach out and invite teenagers\, grades 6-12!
URL:https://www.ghcc4u.org/event/youth-summer-camp-2024-1/
LOCATION:Hartland Christian Camp\, 57611 Eshom Valley Dr\, Badger\, CA\, 93603\, United States
CATEGORIES:Youth Ministry
ATTACH;FMTTYPE=image/jpeg:https://www.ghcc4u.org/wp-content/uploads/2019/02/tent.jpg
END:VEVENT
BEGIN:VEVENT
DTSTART;TZID=America/Los_Angeles:20240627T093000
DTEND;TZID=America/Los_Angeles:20240627T110000
DTSTAMP:20260425T073331
CREATED:20240610T200414Z
LAST-MODIFIED:20240610T200427Z
UID:30651-1719480600-1719486000@www.ghcc4u.org
SUMMARY:Thursday Morning Women's Summer Bible Study
DESCRIPTION:In this book\, “Overcomer: 8 Ways to Live a Life of Unstoppable Strength\, Unmovable Faith\, and Unbelievable Power\,” Dr. David Jeremiah uses Paul’s description of spiritual armor as an outline for exploring the Christian’s call to be an overcomer. This is not a technical description of Roman armor\, but an applicational study of what it means to stand firm and overcome sin\, the world\, and the devil.\nIn Christ\, we will discover the believer has everything necessary to live a victorious\, overcoming life.
URL:https://www.ghcc4u.org/event/thursday-morning-womens-summer-bible-study-2024-04/
LOCATION:Granada Hills Community Church\, 11263 Balboa Blvd\, Granada Hills\, CA\, 91344\, United States
CATEGORIES:Women's Ministry
ATTACH;FMTTYPE=image/jpeg:https://www.ghcc4u.org/wp-content/uploads/2024/06/overcomer.jpg
END:VEVENT
BEGIN:VEVENT
DTSTART;TZID=America/Los_Angeles:20240626T183000
DTEND;TZID=America/Los_Angeles:20240626T200000
DTSTAMP:20260425T073331
CREATED:20240610T200239Z
LAST-MODIFIED:20240610T200250Z
UID:30645-1719426600-1719432000@www.ghcc4u.org
SUMMARY:Wednesday Night Women's Summer Bible Study
DESCRIPTION:In this book\, “Overcomer: 8 Ways to Live a Life of Unstoppable Strength\, Unmovable Faith\, and Unbelievable Power\,” Dr. David Jeremiah uses Paul’s description of spiritual armor as an outline for exploring the Christian’s call to be an overcomer. This is not a technical description of Roman armor\, but an applicational study of what it means to stand firm and overcome sin\, the world\, and the devil.\nIn Christ\, we will discover the believer has everything necessary to live a victorious\, overcoming life.
URL:https://www.ghcc4u.org/event/wednesday-night-womens-summer-bible-study-2024-04/
LOCATION:Granada Hills Community Church\, 11263 Balboa Blvd\, Granada Hills\, CA\, 91344\, United States
CATEGORIES:Women's Ministry
ATTACH;FMTTYPE=image/jpeg:https://www.ghcc4u.org/wp-content/uploads/2024/06/overcomer.jpg
END:VEVENT
END:VCALENDAR