BEGIN:VCALENDAR
VERSION:2.0
PRODID:-//Granada Hills Community Church - ECPv6.15.20//NONSGML v1.0//EN
CALSCALE:GREGORIAN
METHOD:PUBLISH
X-WR-CALNAME:Granada Hills Community Church
X-ORIGINAL-URL:https://www.ghcc4u.org
X-WR-CALDESC:Events for Granada Hills Community Church
REFRESH-INTERVAL;VALUE=DURATION:PT1H
X-Robots-Tag:noindex
X-PUBLISHED-TTL:PT1H
BEGIN:VTIMEZONE
TZID:America/Los_Angeles
BEGIN:DAYLIGHT
TZOFFSETFROM:-0800
TZOFFSETTO:-0700
TZNAME:PDT
DTSTART:20220313T100000
END:DAYLIGHT
BEGIN:STANDARD
TZOFFSETFROM:-0700
TZOFFSETTO:-0800
TZNAME:PST
DTSTART:20221106T090000
END:STANDARD
BEGIN:DAYLIGHT
TZOFFSETFROM:-0800
TZOFFSETTO:-0700
TZNAME:PDT
DTSTART:20230312T100000
END:DAYLIGHT
BEGIN:STANDARD
TZOFFSETFROM:-0700
TZOFFSETTO:-0800
TZNAME:PST
DTSTART:20231105T090000
END:STANDARD
BEGIN:DAYLIGHT
TZOFFSETFROM:-0800
TZOFFSETTO:-0700
TZNAME:PDT
DTSTART:20240310T100000
END:DAYLIGHT
BEGIN:STANDARD
TZOFFSETFROM:-0700
TZOFFSETTO:-0800
TZNAME:PST
DTSTART:20241103T090000
END:STANDARD
END:VTIMEZONE
BEGIN:VEVENT
DTSTART;TZID=America/Los_Angeles:20230325T080000
DTEND;TZID=America/Los_Angeles:20230325T090000
DTSTAMP:20260425T160656
CREATED:20230227T181502Z
LAST-MODIFIED:20230227T181502Z
UID:30087-1679731200-1679734800@www.ghcc4u.org
SUMMARY:Men's Bible Study
DESCRIPTION:Join us for faith and fellowship as we gather to talk about what genuine discipleship looks like in our lives as Christian men.\nWe meet at 8:00am in the Family Life Center (FLC) on the GHCC campus.
URL:https://www.ghcc4u.org/event/mens-bible-study-2023-06/
LOCATION:Granada Hills Community Church\, 11263 Balboa Blvd\, Granada Hills\, CA\, 91344\, United States
CATEGORIES:Men's Ministry
ATTACH;FMTTYPE=image/jpeg:https://www.ghcc4u.org/wp-content/uploads/2022/09/mens-bible-study.jpg
END:VEVENT
BEGIN:VEVENT
DTSTART;TZID=America/Los_Angeles:20230322T180000
DTEND;TZID=America/Los_Angeles:20230322T200000
DTSTAMP:20260425T160656
CREATED:20230227T181822Z
LAST-MODIFIED:20230227T181822Z
UID:30095-1679508000-1679515200@www.ghcc4u.org
SUMMARY:Wednesday Night Youth Group
DESCRIPTION:Please join us for a great evening of fun activities\, pizza\, and study in God’s word!
URL:https://www.ghcc4u.org/event/wednesday-night-youth-group-2023-11/
LOCATION:Granada Hills Community Church\, 11263 Balboa Blvd\, Granada Hills\, CA\, 91344\, United States
CATEGORIES:Youth Ministry
ATTACH;FMTTYPE=image/jpeg:https://www.ghcc4u.org/wp-content/uploads/2022/09/youth.jpg
END:VEVENT
BEGIN:VEVENT
DTSTART;TZID=America/Los_Angeles:20230316T094500
DTEND;TZID=America/Los_Angeles:20230316T113000
DTSTAMP:20260425T160656
CREATED:20230227T210537Z
LAST-MODIFIED:20230227T210537Z
UID:30109-1678959900-1678966200@www.ghcc4u.org
SUMMARY:Thursday Morning Women's Winter Bible Study
DESCRIPTION:In this 10-week study we will go through the book of Hebrews verse by verse and see how Christ fulfills and completes the promises presented in the Old Testament. In Him alone we have the better covenant\, our salvation is complete\, and we have security for all eternity.\nThe study is for any woman who wants to gain a deeper understanding of how the Old Testament relates with the New.
URL:https://www.ghcc4u.org/event/thursday-morning-womens-winter-bible-study-2023-10/
LOCATION:Granada Hills Community Church\, 11263 Balboa Blvd\, Granada Hills\, CA\, 91344\, United States
CATEGORIES:Women's Ministry
ATTACH;FMTTYPE=image/jpeg:https://www.ghcc4u.org/wp-content/uploads/2022/12/better.jpg
END:VEVENT
BEGIN:VEVENT
DTSTART;TZID=America/Los_Angeles:20230315T183000
DTEND;TZID=America/Los_Angeles:20230315T200000
DTSTAMP:20260425T160656
CREATED:20230227T210514Z
LAST-MODIFIED:20230227T210514Z
UID:30107-1678905000-1678910400@www.ghcc4u.org
SUMMARY:Wednesday Night Women's Winter Bible Study
DESCRIPTION:In this 10-week study we will go through the book of Hebrews verse by verse and see how Christ fulfills and completes the promises presented in the Old Testament. In Him alone we have the better covenant\, our salvation is complete\, and we have security for all eternity.\nThe study is for any woman who wants to gain a deeper understanding of how the Old Testament relates with the New.
URL:https://www.ghcc4u.org/event/wednesday-night-womens-winter-bible-study-2023-10/
LOCATION:Granada Hills Community Church\, 11263 Balboa Blvd\, Granada Hills\, CA\, 91344\, United States
CATEGORIES:Women's Ministry
ATTACH;FMTTYPE=image/jpeg:https://www.ghcc4u.org/wp-content/uploads/2022/12/better.jpg
END:VEVENT
BEGIN:VEVENT
DTSTART;TZID=America/Los_Angeles:20230315T180000
DTEND;TZID=America/Los_Angeles:20230315T200000
DTSTAMP:20260425T160656
CREATED:20230227T181800Z
LAST-MODIFIED:20230227T181800Z
UID:30093-1678903200-1678910400@www.ghcc4u.org
SUMMARY:Wednesday Night Youth Group
DESCRIPTION:Please join us for a great evening of fun activities\, pizza\, and study in God’s word!
URL:https://www.ghcc4u.org/event/wednesday-night-youth-group-2023-10/
LOCATION:Granada Hills Community Church\, 11263 Balboa Blvd\, Granada Hills\, CA\, 91344\, United States
CATEGORIES:Youth Ministry
ATTACH;FMTTYPE=image/jpeg:https://www.ghcc4u.org/wp-content/uploads/2022/09/youth.jpg
END:VEVENT
BEGIN:VEVENT
DTSTART;TZID=America/Los_Angeles:20230311T080000
DTEND;TZID=America/Los_Angeles:20230311T090000
DTSTAMP:20260425T160656
CREATED:20230227T181421Z
LAST-MODIFIED:20230227T181421Z
UID:30085-1678521600-1678525200@www.ghcc4u.org
SUMMARY:Men's Bible Study
DESCRIPTION:Join us for faith and fellowship as we gather to talk about what genuine discipleship looks like in our lives as Christian men.\nWe meet at 8:00am in the Family Life Center (FLC) on the GHCC campus.
URL:https://www.ghcc4u.org/event/mens-bible-study-2023-05/
LOCATION:Granada Hills Community Church\, 11263 Balboa Blvd\, Granada Hills\, CA\, 91344\, United States
CATEGORIES:Men's Ministry
ATTACH;FMTTYPE=image/jpeg:https://www.ghcc4u.org/wp-content/uploads/2022/09/mens-bible-study.jpg
END:VEVENT
BEGIN:VEVENT
DTSTART;TZID=America/Los_Angeles:20230309T094500
DTEND;TZID=America/Los_Angeles:20230309T113000
DTSTAMP:20260425T160656
CREATED:20230227T182250Z
LAST-MODIFIED:20230227T182250Z
UID:30105-1678355100-1678361400@www.ghcc4u.org
SUMMARY:Thursday Morning Women's Winter Bible Study
DESCRIPTION:In this 10-week study we will go through the book of Hebrews verse by verse and see how Christ fulfills and completes the promises presented in the Old Testament. In Him alone we have the better covenant\, our salvation is complete\, and we have security for all eternity.\nThe study is for any woman who wants to gain a deeper understanding of how the Old Testament relates with the New.
URL:https://www.ghcc4u.org/event/thursday-morning-womens-winter-bible-study-2023-09/
LOCATION:Granada Hills Community Church\, 11263 Balboa Blvd\, Granada Hills\, CA\, 91344\, United States
CATEGORIES:Women's Ministry
ATTACH;FMTTYPE=image/jpeg:https://www.ghcc4u.org/wp-content/uploads/2022/12/better.jpg
END:VEVENT
BEGIN:VEVENT
DTSTART;TZID=America/Los_Angeles:20230308T183000
DTEND;TZID=America/Los_Angeles:20230308T200000
DTSTAMP:20260425T160656
CREATED:20230227T182156Z
LAST-MODIFIED:20230227T182156Z
UID:30101-1678300200-1678305600@www.ghcc4u.org
SUMMARY:Wednesday Night Women's Winter Bible Study
DESCRIPTION:In this 10-week study we will go through the book of Hebrews verse by verse and see how Christ fulfills and completes the promises presented in the Old Testament. In Him alone we have the better covenant\, our salvation is complete\, and we have security for all eternity.\nThe study is for any woman who wants to gain a deeper understanding of how the Old Testament relates with the New.
URL:https://www.ghcc4u.org/event/wednesday-night-womens-winter-bible-study-2023-09/
LOCATION:Granada Hills Community Church\, 11263 Balboa Blvd\, Granada Hills\, CA\, 91344\, United States
CATEGORIES:Women's Ministry
ATTACH;FMTTYPE=image/jpeg:https://www.ghcc4u.org/wp-content/uploads/2022/12/better.jpg
END:VEVENT
BEGIN:VEVENT
DTSTART;TZID=America/Los_Angeles:20230308T180000
DTEND;TZID=America/Los_Angeles:20230308T200000
DTSTAMP:20260425T160656
CREATED:20230227T181737Z
LAST-MODIFIED:20230227T181737Z
UID:30091-1678298400-1678305600@www.ghcc4u.org
SUMMARY:Wednesday Night Youth Group
DESCRIPTION:Please join us for a great evening of fun activities\, pizza\, and study in God’s word!
URL:https://www.ghcc4u.org/event/wednesday-night-youth-group-2023-09/
LOCATION:Granada Hills Community Church\, 11263 Balboa Blvd\, Granada Hills\, CA\, 91344\, United States
CATEGORIES:Youth Ministry
ATTACH;FMTTYPE=image/jpeg:https://www.ghcc4u.org/wp-content/uploads/2022/09/youth.jpg
END:VEVENT
BEGIN:VEVENT
DTSTART;TZID=America/Los_Angeles:20230302T094500
DTEND;TZID=America/Los_Angeles:20230302T113000
DTSTAMP:20260425T160656
CREATED:20230227T182226Z
LAST-MODIFIED:20230227T182226Z
UID:30103-1677750300-1677756600@www.ghcc4u.org
SUMMARY:Thursday Morning Women's Winter Bible Study
DESCRIPTION:In this 10-week study we will go through the book of Hebrews verse by verse and see how Christ fulfills and completes the promises presented in the Old Testament. In Him alone we have the better covenant\, our salvation is complete\, and we have security for all eternity.\nThe study is for any woman who wants to gain a deeper understanding of how the Old Testament relates with the New.
URL:https://www.ghcc4u.org/event/thursday-morning-womens-winter-bible-study-2023-08/
LOCATION:Granada Hills Community Church\, 11263 Balboa Blvd\, Granada Hills\, CA\, 91344\, United States
CATEGORIES:Women's Ministry
ATTACH;FMTTYPE=image/jpeg:https://www.ghcc4u.org/wp-content/uploads/2022/12/better.jpg
END:VEVENT
BEGIN:VEVENT
DTSTART;TZID=America/Los_Angeles:20230301T183000
DTEND;TZID=America/Los_Angeles:20230301T200000
DTSTAMP:20260425T160656
CREATED:20230227T182127Z
LAST-MODIFIED:20230227T182127Z
UID:30099-1677695400-1677700800@www.ghcc4u.org
SUMMARY:Wednesday Night Women's Winter Bible Study
DESCRIPTION:In this 10-week study we will go through the book of Hebrews verse by verse and see how Christ fulfills and completes the promises presented in the Old Testament. In Him alone we have the better covenant\, our salvation is complete\, and we have security for all eternity.\nThe study is for any woman who wants to gain a deeper understanding of how the Old Testament relates with the New.
URL:https://www.ghcc4u.org/event/wednesday-night-womens-winter-bible-study-2023-08/
LOCATION:Granada Hills Community Church\, 11263 Balboa Blvd\, Granada Hills\, CA\, 91344\, United States
CATEGORIES:Women's Ministry
ATTACH;FMTTYPE=image/jpeg:https://www.ghcc4u.org/wp-content/uploads/2022/12/better.jpg
END:VEVENT
BEGIN:VEVENT
DTSTART;TZID=America/Los_Angeles:20230301T180000
DTEND;TZID=America/Los_Angeles:20230301T200000
DTSTAMP:20260425T160656
CREATED:20230227T181715Z
LAST-MODIFIED:20230227T181715Z
UID:30089-1677693600-1677700800@www.ghcc4u.org
SUMMARY:Wednesday Night Youth Group
DESCRIPTION:Please join us for a great evening of fun activities\, pizza\, and study in God’s word!
URL:https://www.ghcc4u.org/event/wednesday-night-youth-group-2023-08/
LOCATION:Granada Hills Community Church\, 11263 Balboa Blvd\, Granada Hills\, CA\, 91344\, United States
CATEGORIES:Youth Ministry
ATTACH;FMTTYPE=image/jpeg:https://www.ghcc4u.org/wp-content/uploads/2022/09/youth.jpg
END:VEVENT
BEGIN:VEVENT
DTSTART;TZID=America/Los_Angeles:20230225T080000
DTEND;TZID=America/Los_Angeles:20230225T090000
DTSTAMP:20260425T160656
CREATED:20230117T205121Z
LAST-MODIFIED:20230117T205152Z
UID:30041-1677312000-1677315600@www.ghcc4u.org
SUMMARY:Men's Bible Study
DESCRIPTION:Join us for faith and fellowship as we gather to talk about what genuine discipleship looks like in our lives as Christian men.\nWe meet at 8:00am in the Family Life Center (FLC) on the GHCC campus.
URL:https://www.ghcc4u.org/event/mens-bible-study-2023-04/
LOCATION:Granada Hills Community Church\, 11263 Balboa Blvd\, Granada Hills\, CA\, 91344\, United States
CATEGORIES:Men's Ministry
ATTACH;FMTTYPE=image/jpeg:https://www.ghcc4u.org/wp-content/uploads/2022/09/mens-bible-study.jpg
END:VEVENT
BEGIN:VEVENT
DTSTART;TZID=America/Los_Angeles:20230223T094500
DTEND;TZID=America/Los_Angeles:20230223T113000
DTSTAMP:20260425T160656
CREATED:20230117T205938Z
LAST-MODIFIED:20230117T205949Z
UID:30065-1677145500-1677151800@www.ghcc4u.org
SUMMARY:Thursday Morning Women's Winter Bible Study
DESCRIPTION:In this 10-week study we will go through the book of Hebrews verse by verse and see how Christ fulfills and completes the promises presented in the Old Testament. In Him alone we have the better covenant\, our salvation is complete\, and we have security for all eternity.\nThe study is for any woman who wants to gain a deeper understanding of how the Old Testament relates with the New.
URL:https://www.ghcc4u.org/event/thursday-morning-womens-winter-bible-study-2023-07/
LOCATION:Granada Hills Community Church\, 11263 Balboa Blvd\, Granada Hills\, CA\, 91344\, United States
CATEGORIES:Women's Ministry
ATTACH;FMTTYPE=image/jpeg:https://www.ghcc4u.org/wp-content/uploads/2022/12/better.jpg
END:VEVENT
BEGIN:VEVENT
DTSTART;TZID=America/Los_Angeles:20230222T183000
DTEND;TZID=America/Los_Angeles:20230222T200000
DTSTAMP:20260425T160656
CREATED:20230117T205731Z
LAST-MODIFIED:20230117T205744Z
UID:30057-1677090600-1677096000@www.ghcc4u.org
SUMMARY:Wednesday Night Women's Winter Bible Study
DESCRIPTION:In this 10-week study we will go through the book of Hebrews verse by verse and see how Christ fulfills and completes the promises presented in the Old Testament. In Him alone we have the better covenant\, our salvation is complete\, and we have security for all eternity.\nThe study is for any woman who wants to gain a deeper understanding of how the Old Testament relates with the New.
URL:https://www.ghcc4u.org/event/wednesday-night-womens-winter-bible-study-2023-07/
LOCATION:Granada Hills Community Church\, 11263 Balboa Blvd\, Granada Hills\, CA\, 91344\, United States
CATEGORIES:Women's Ministry
ATTACH;FMTTYPE=image/jpeg:https://www.ghcc4u.org/wp-content/uploads/2022/12/better.jpg
END:VEVENT
BEGIN:VEVENT
DTSTART;TZID=America/Los_Angeles:20230222T180000
DTEND;TZID=America/Los_Angeles:20230222T200000
DTSTAMP:20260425T160656
CREATED:20230117T205448Z
LAST-MODIFIED:20230117T205502Z
UID:30049-1677088800-1677096000@www.ghcc4u.org
SUMMARY:Wednesday Night Youth Group
DESCRIPTION:Please join us for a great evening of fun activities\, pizza\, and study in God’s word!
URL:https://www.ghcc4u.org/event/wednesday-night-youth-group-2023-07/
LOCATION:Granada Hills Community Church\, 11263 Balboa Blvd\, Granada Hills\, CA\, 91344\, United States
CATEGORIES:Youth Ministry
ATTACH;FMTTYPE=image/jpeg:https://www.ghcc4u.org/wp-content/uploads/2022/09/youth.jpg
END:VEVENT
BEGIN:VEVENT
DTSTART;VALUE=DATE:20230220
DTEND;VALUE=DATE:20230221
DTSTAMP:20260425T160656
CREATED:20230117T210049Z
LAST-MODIFIED:20230117T210102Z
UID:30067-1676851200-1676937599@www.ghcc4u.org
SUMMARY:Church Office Closed
DESCRIPTION:The church office is closed for Presidents’ Day.
URL:https://www.ghcc4u.org/event/church-office-closed-2023-02/
LOCATION:Granada Hills Community Church\, 11263 Balboa Blvd\, Granada Hills\, CA\, 91344\, United States
CATEGORIES:Holiday
ATTACH;FMTTYPE=image/jpeg:https://www.ghcc4u.org/wp-content/uploads/2019/02/closed.jpg
END:VEVENT
BEGIN:VEVENT
DTSTART;TZID=America/Los_Angeles:20230216T094500
DTEND;TZID=America/Los_Angeles:20230216T113000
DTSTAMP:20260425T160656
CREATED:20230117T205912Z
LAST-MODIFIED:20230117T205923Z
UID:30063-1676540700-1676547000@www.ghcc4u.org
SUMMARY:Thursday Morning Women's Winter Bible Study
DESCRIPTION:In this 10-week study we will go through the book of Hebrews verse by verse and see how Christ fulfills and completes the promises presented in the Old Testament. In Him alone we have the better covenant\, our salvation is complete\, and we have security for all eternity.\nThe study is for any woman who wants to gain a deeper understanding of how the Old Testament relates with the New.
URL:https://www.ghcc4u.org/event/thursday-morning-womens-winter-bible-study-2023-06/
LOCATION:Granada Hills Community Church\, 11263 Balboa Blvd\, Granada Hills\, CA\, 91344\, United States
CATEGORIES:Women's Ministry
ATTACH;FMTTYPE=image/jpeg:https://www.ghcc4u.org/wp-content/uploads/2022/12/better.jpg
END:VEVENT
BEGIN:VEVENT
DTSTART;TZID=America/Los_Angeles:20230215T183000
DTEND;TZID=America/Los_Angeles:20230215T200000
DTSTAMP:20260425T160656
CREATED:20230117T205656Z
LAST-MODIFIED:20230117T205712Z
UID:30055-1676485800-1676491200@www.ghcc4u.org
SUMMARY:Wednesday Night Women's Winter Bible Study
DESCRIPTION:In this 10-week study we will go through the book of Hebrews verse by verse and see how Christ fulfills and completes the promises presented in the Old Testament. In Him alone we have the better covenant\, our salvation is complete\, and we have security for all eternity.\nThe study is for any woman who wants to gain a deeper understanding of how the Old Testament relates with the New.
URL:https://www.ghcc4u.org/event/wednesday-night-womens-winter-bible-study-2023-06/
LOCATION:Granada Hills Community Church\, 11263 Balboa Blvd\, Granada Hills\, CA\, 91344\, United States
CATEGORIES:Women's Ministry
ATTACH;FMTTYPE=image/jpeg:https://www.ghcc4u.org/wp-content/uploads/2022/12/better.jpg
END:VEVENT
BEGIN:VEVENT
DTSTART;TZID=America/Los_Angeles:20230215T180000
DTEND;TZID=America/Los_Angeles:20230215T200000
DTSTAMP:20260425T160656
CREATED:20230117T205417Z
LAST-MODIFIED:20230117T205431Z
UID:30047-1676484000-1676491200@www.ghcc4u.org
SUMMARY:Wednesday Night Youth Group
DESCRIPTION:Please join us for a great evening of fun activities\, pizza\, and study in God’s word!
URL:https://www.ghcc4u.org/event/wednesday-night-youth-group-2023-06/
LOCATION:Granada Hills Community Church\, 11263 Balboa Blvd\, Granada Hills\, CA\, 91344\, United States
CATEGORIES:Youth Ministry
ATTACH;FMTTYPE=image/jpeg:https://www.ghcc4u.org/wp-content/uploads/2022/09/youth.jpg
END:VEVENT
BEGIN:VEVENT
DTSTART;TZID=America/Los_Angeles:20230211T080000
DTEND;TZID=America/Los_Angeles:20230211T090000
DTSTAMP:20260425T160656
CREATED:20230117T205052Z
LAST-MODIFIED:20230117T205105Z
UID:30039-1676102400-1676106000@www.ghcc4u.org
SUMMARY:Men's Bible Study
DESCRIPTION:Join us for faith and fellowship as we gather to talk about what genuine discipleship looks like in our lives as Christian men.\nWe meet at 8:00am in the Family Life Center (FLC) on the GHCC campus.
URL:https://www.ghcc4u.org/event/mens-bible-study-2023-03/
LOCATION:Granada Hills Community Church\, 11263 Balboa Blvd\, Granada Hills\, CA\, 91344\, United States
CATEGORIES:Men's Ministry
ATTACH;FMTTYPE=image/jpeg:https://www.ghcc4u.org/wp-content/uploads/2022/09/mens-bible-study.jpg
END:VEVENT
BEGIN:VEVENT
DTSTART;TZID=America/Los_Angeles:20230209T094500
DTEND;TZID=America/Los_Angeles:20230209T113000
DTSTAMP:20260425T160656
CREATED:20230117T205843Z
LAST-MODIFIED:20230117T205857Z
UID:30061-1675935900-1675942200@www.ghcc4u.org
SUMMARY:Thursday Morning Women's Winter Bible Study
DESCRIPTION:In this 10-week study we will go through the book of Hebrews verse by verse and see how Christ fulfills and completes the promises presented in the Old Testament. In Him alone we have the better covenant\, our salvation is complete\, and we have security for all eternity.\nThe study is for any woman who wants to gain a deeper understanding of how the Old Testament relates with the New.
URL:https://www.ghcc4u.org/event/thursday-morning-womens-winter-bible-study-2023-05/
LOCATION:Granada Hills Community Church\, 11263 Balboa Blvd\, Granada Hills\, CA\, 91344\, United States
CATEGORIES:Women's Ministry
ATTACH;FMTTYPE=image/jpeg:https://www.ghcc4u.org/wp-content/uploads/2022/12/better.jpg
END:VEVENT
BEGIN:VEVENT
DTSTART;TZID=America/Los_Angeles:20230208T183000
DTEND;TZID=America/Los_Angeles:20230208T200000
DTSTAMP:20260425T160656
CREATED:20230117T205612Z
LAST-MODIFIED:20230117T205634Z
UID:30053-1675881000-1675886400@www.ghcc4u.org
SUMMARY:Wednesday Night Women's Winter Bible Study
DESCRIPTION:In this 10-week study we will go through the book of Hebrews verse by verse and see how Christ fulfills and completes the promises presented in the Old Testament. In Him alone we have the better covenant\, our salvation is complete\, and we have security for all eternity.\nThe study is for any woman who wants to gain a deeper understanding of how the Old Testament relates with the New.
URL:https://www.ghcc4u.org/event/wednesday-night-womens-winter-bible-study-2023-05/
LOCATION:Granada Hills Community Church\, 11263 Balboa Blvd\, Granada Hills\, CA\, 91344\, United States
CATEGORIES:Women's Ministry
ATTACH;FMTTYPE=image/jpeg:https://www.ghcc4u.org/wp-content/uploads/2022/12/better.jpg
END:VEVENT
BEGIN:VEVENT
DTSTART;TZID=America/Los_Angeles:20230208T180000
DTEND;TZID=America/Los_Angeles:20230208T200000
DTSTAMP:20260425T160656
CREATED:20230117T205341Z
LAST-MODIFIED:20230117T205400Z
UID:30045-1675879200-1675886400@www.ghcc4u.org
SUMMARY:Wednesday Night Youth Group
DESCRIPTION:Please join us for a great evening of fun activities\, pizza\, and study in God’s word!
URL:https://www.ghcc4u.org/event/wednesday-night-youth-group-2023-05/
LOCATION:Granada Hills Community Church\, 11263 Balboa Blvd\, Granada Hills\, CA\, 91344\, United States
CATEGORIES:Youth Ministry
ATTACH;FMTTYPE=image/jpeg:https://www.ghcc4u.org/wp-content/uploads/2022/09/youth.jpg
END:VEVENT
BEGIN:VEVENT
DTSTART;TZID=America/Los_Angeles:20230202T094500
DTEND;TZID=America/Los_Angeles:20230202T113000
DTSTAMP:20260425T160656
CREATED:20230117T205806Z
LAST-MODIFIED:20230117T205825Z
UID:30059-1675331100-1675337400@www.ghcc4u.org
SUMMARY:Thursday Morning Women's Winter Bible Study
DESCRIPTION:In this 10-week study we will go through the book of Hebrews verse by verse and see how Christ fulfills and completes the promises presented in the Old Testament. In Him alone we have the better covenant\, our salvation is complete\, and we have security for all eternity.\nThe study is for any woman who wants to gain a deeper understanding of how the Old Testament relates with the New.
URL:https://www.ghcc4u.org/event/thursday-morning-womens-winter-bible-study-2023-04/
LOCATION:Granada Hills Community Church\, 11263 Balboa Blvd\, Granada Hills\, CA\, 91344\, United States
CATEGORIES:Women's Ministry
ATTACH;FMTTYPE=image/jpeg:https://www.ghcc4u.org/wp-content/uploads/2022/12/better.jpg
END:VEVENT
BEGIN:VEVENT
DTSTART;TZID=America/Los_Angeles:20230201T183000
DTEND;TZID=America/Los_Angeles:20230201T200000
DTSTAMP:20260425T160656
CREATED:20230117T205542Z
LAST-MODIFIED:20230117T205555Z
UID:30051-1675276200-1675281600@www.ghcc4u.org
SUMMARY:Wednesday Night Women's Winter Bible Study
DESCRIPTION:In this 10-week study we will go through the book of Hebrews verse by verse and see how Christ fulfills and completes the promises presented in the Old Testament. In Him alone we have the better covenant\, our salvation is complete\, and we have security for all eternity.\nThe study is for any woman who wants to gain a deeper understanding of how the Old Testament relates with the New.
URL:https://www.ghcc4u.org/event/wednesday-night-womens-winter-bible-study-2023-04/
LOCATION:Granada Hills Community Church\, 11263 Balboa Blvd\, Granada Hills\, CA\, 91344\, United States
CATEGORIES:Women's Ministry
ATTACH;FMTTYPE=image/jpeg:https://www.ghcc4u.org/wp-content/uploads/2022/12/better.jpg
END:VEVENT
BEGIN:VEVENT
DTSTART;TZID=America/Los_Angeles:20230201T180000
DTEND;TZID=America/Los_Angeles:20230201T200000
DTSTAMP:20260425T160656
CREATED:20230117T205309Z
LAST-MODIFIED:20230117T205324Z
UID:30043-1675274400-1675281600@www.ghcc4u.org
SUMMARY:Wednesday Night Youth Group
DESCRIPTION:Please join us for a great evening of fun activities\, pizza\, and study in God’s word!
URL:https://www.ghcc4u.org/event/wednesday-night-youth-group-2023-04/
LOCATION:Granada Hills Community Church\, 11263 Balboa Blvd\, Granada Hills\, CA\, 91344\, United States
CATEGORIES:Youth Ministry
ATTACH;FMTTYPE=image/jpeg:https://www.ghcc4u.org/wp-content/uploads/2022/09/youth.jpg
END:VEVENT
BEGIN:VEVENT
DTSTART;TZID=America/Los_Angeles:20230128T080000
DTEND;TZID=America/Los_Angeles:20230128T090000
DTSTAMP:20260425T160656
CREATED:20230117T204856Z
LAST-MODIFIED:20230117T204957Z
UID:30037-1674892800-1674896400@www.ghcc4u.org
SUMMARY:Men's Bible Study
DESCRIPTION:Join us for faith and fellowship as we gather to talk about what genuine discipleship looks like in our lives as Christian men.\nWe meet at 8:00am in the Family Life Center (FLC) on the GHCC campus.
URL:https://www.ghcc4u.org/event/mens-bible-study-2023-02/
LOCATION:Granada Hills Community Church\, 11263 Balboa Blvd\, Granada Hills\, CA\, 91344\, United States
CATEGORIES:Men's Ministry
ATTACH;FMTTYPE=image/jpeg:https://www.ghcc4u.org/wp-content/uploads/2022/09/mens-bible-study.jpg
END:VEVENT
BEGIN:VEVENT
DTSTART;TZID=America/Los_Angeles:20230126T094500
DTEND;TZID=America/Los_Angeles:20230126T113000
DTSTAMP:20260425T160656
CREATED:20221205T204846Z
LAST-MODIFIED:20221205T204857Z
UID:30015-1674726300-1674732600@www.ghcc4u.org
SUMMARY:Thursday Morning Women's Winter Bible Study
DESCRIPTION:In this 10-week study we will go through the book of Hebrews verse by verse and see how Christ fulfills and completes the promises presented in the Old Testament. In Him alone we have the better covenant\, our salvation is complete\, and we have security for all eternity.\nThe study is for any woman who wants to gain a deeper understanding of how the Old Testament relates with the New.
URL:https://www.ghcc4u.org/event/thursday-morning-womens-winter-bible-study-2023-03/
LOCATION:Granada Hills Community Church\, 11263 Balboa Blvd\, Granada Hills\, CA\, 91344\, United States
CATEGORIES:Women's Ministry
ATTACH;FMTTYPE=image/jpeg:https://www.ghcc4u.org/wp-content/uploads/2022/12/better.jpg
END:VEVENT
BEGIN:VEVENT
DTSTART;TZID=America/Los_Angeles:20230125T183000
DTEND;TZID=America/Los_Angeles:20230125T200000
DTSTAMP:20260425T160656
CREATED:20221205T204426Z
LAST-MODIFIED:20221205T204644Z
UID:30006-1674671400-1674676800@www.ghcc4u.org
SUMMARY:Wednesday Night Women's Winter Bible Study
DESCRIPTION:In this 10-week study we will go through the book of Hebrews verse by verse and see how Christ fulfills and completes the promises presented in the Old Testament. In Him alone we have the better covenant\, our salvation is complete\, and we have security for all eternity.\nThe study is for any woman who wants to gain a deeper understanding of how the Old Testament relates with the New.
URL:https://www.ghcc4u.org/event/wednesday-night-womens-winter-bible-study-2023-03/
LOCATION:Granada Hills Community Church\, 11263 Balboa Blvd\, Granada Hills\, CA\, 91344\, United States
CATEGORIES:Women's Ministry
ATTACH;FMTTYPE=image/jpeg:https://www.ghcc4u.org/wp-content/uploads/2022/12/better.jpg
END:VEVENT
END:VCALENDAR