BEGIN:VCALENDAR
VERSION:2.0
PRODID:-//Granada Hills Community Church - ECPv6.15.20//NONSGML v1.0//EN
CALSCALE:GREGORIAN
METHOD:PUBLISH
X-WR-CALNAME:Granada Hills Community Church
X-ORIGINAL-URL:https://www.ghcc4u.org
X-WR-CALDESC:Events for Granada Hills Community Church
REFRESH-INTERVAL;VALUE=DURATION:PT1H
X-Robots-Tag:noindex
X-PUBLISHED-TTL:PT1H
BEGIN:VTIMEZONE
TZID:America/Los_Angeles
BEGIN:DAYLIGHT
TZOFFSETFROM:-0800
TZOFFSETTO:-0700
TZNAME:PDT
DTSTART:20220313T100000
END:DAYLIGHT
BEGIN:STANDARD
TZOFFSETFROM:-0700
TZOFFSETTO:-0800
TZNAME:PST
DTSTART:20221106T090000
END:STANDARD
BEGIN:DAYLIGHT
TZOFFSETFROM:-0800
TZOFFSETTO:-0700
TZNAME:PDT
DTSTART:20230312T100000
END:DAYLIGHT
BEGIN:STANDARD
TZOFFSETFROM:-0700
TZOFFSETTO:-0800
TZNAME:PST
DTSTART:20231105T090000
END:STANDARD
BEGIN:DAYLIGHT
TZOFFSETFROM:-0800
TZOFFSETTO:-0700
TZNAME:PDT
DTSTART:20240310T100000
END:DAYLIGHT
BEGIN:STANDARD
TZOFFSETFROM:-0700
TZOFFSETTO:-0800
TZNAME:PST
DTSTART:20241103T090000
END:STANDARD
END:VTIMEZONE
BEGIN:VEVENT
DTSTART;TZID=America/Los_Angeles:20231025T180000
DTEND;TZID=America/Los_Angeles:20231025T200000
DTSTAMP:20260425T050948
CREATED:20230830T222150Z
LAST-MODIFIED:20230830T222202Z
UID:30363-1698256800-1698264000@www.ghcc4u.org
SUMMARY:Wednesday Night Youth Group
DESCRIPTION:Please join us for a great evening of fun activities\, pizza\, and study in God’s word!
URL:https://www.ghcc4u.org/event/wednesday-night-youth-group-2023-30/
LOCATION:Granada Hills Community Church\, 11263 Balboa Blvd\, Granada Hills\, CA\, 91344\, United States
CATEGORIES:Youth Ministry
ATTACH;FMTTYPE=image/jpeg:https://www.ghcc4u.org/wp-content/uploads/2022/09/youth.jpg
END:VEVENT
BEGIN:VEVENT
DTSTART;TZID=America/Los_Angeles:20231019T094500
DTEND;TZID=America/Los_Angeles:20231019T113000
DTSTAMP:20260425T050948
CREATED:20230830T221844Z
LAST-MODIFIED:20230830T221854Z
UID:30353-1697708700-1697715000@www.ghcc4u.org
SUMMARY:Thursday Morning Women's Fall Bible Study
DESCRIPTION:This Bible study is unique in that each session is written by a different Life Way Women’s Bible study author. Every session has a video by the different authors.\nThe study begins and ends each day with guided prayer prompts to help build our conversations with our Lord.
URL:https://www.ghcc4u.org/event/thursday-morning-womens-fall-bible-study-2023-06/
LOCATION:Granada Hills Community Church\, 11263 Balboa Blvd\, Granada Hills\, CA\, 91344\, United States
CATEGORIES:Women's Ministry
ATTACH;FMTTYPE=image/jpeg:https://www.ghcc4u.org/wp-content/uploads/2023/08/pray.jpg
END:VEVENT
BEGIN:VEVENT
DTSTART;TZID=America/Los_Angeles:20231018T183000
DTEND;TZID=America/Los_Angeles:20231018T200000
DTSTAMP:20260425T050948
CREATED:20230830T202448Z
LAST-MODIFIED:20230830T221024Z
UID:30339-1697653800-1697659200@www.ghcc4u.org
SUMMARY:Wednesday Night Women's Fall Bible Study
DESCRIPTION:This Bible study is unique in that each session is written by a different Life Way Women’s Bible study author. Every session has a video by the different authors.\nThe study begins and ends each day with guided prayer prompts to help build our conversations with our Lord.
URL:https://www.ghcc4u.org/event/wednesday-night-womens-fall-bible-study-2023-06/
LOCATION:Granada Hills Community Church\, 11263 Balboa Blvd\, Granada Hills\, CA\, 91344\, United States
CATEGORIES:Women's Ministry
ATTACH;FMTTYPE=image/jpeg:https://www.ghcc4u.org/wp-content/uploads/2023/08/pray.jpg
END:VEVENT
BEGIN:VEVENT
DTSTART;TZID=America/Los_Angeles:20231018T180000
DTEND;TZID=America/Los_Angeles:20231018T200000
DTSTAMP:20260425T050948
CREATED:20230830T222122Z
LAST-MODIFIED:20230830T222133Z
UID:30361-1697652000-1697659200@www.ghcc4u.org
SUMMARY:Wednesday Night Youth Group
DESCRIPTION:Please join us for a great evening of fun activities\, pizza\, and study in God’s word!
URL:https://www.ghcc4u.org/event/wednesday-night-youth-group-2023-29/
LOCATION:Granada Hills Community Church\, 11263 Balboa Blvd\, Granada Hills\, CA\, 91344\, United States
CATEGORIES:Youth Ministry
ATTACH;FMTTYPE=image/jpeg:https://www.ghcc4u.org/wp-content/uploads/2022/09/youth.jpg
END:VEVENT
BEGIN:VEVENT
DTSTART;TZID=America/Los_Angeles:20231014T080000
DTEND;TZID=America/Los_Angeles:20231014T090000
DTSTAMP:20260425T050948
CREATED:20230830T222945Z
LAST-MODIFIED:20230830T223005Z
UID:30369-1697270400-1697274000@www.ghcc4u.org
SUMMARY:Men's Bible Study
DESCRIPTION:Join us for faith and fellowship as we gather to talk about what genuine discipleship looks like in our lives as Christian men.\nWe meet at 8:00am in the Family Life Center (FLC) on the GHCC campus.
URL:https://www.ghcc4u.org/event/mens-bible-study-2023-19/
LOCATION:Granada Hills Community Church\, 11263 Balboa Blvd\, Granada Hills\, CA\, 91344\, United States
CATEGORIES:Men's Ministry
ATTACH;FMTTYPE=image/jpeg:https://www.ghcc4u.org/wp-content/uploads/2022/09/mens-bible-study.jpg
END:VEVENT
BEGIN:VEVENT
DTSTART;TZID=America/Los_Angeles:20231012T094500
DTEND;TZID=America/Los_Angeles:20231012T113000
DTSTAMP:20260425T050948
CREATED:20230830T221805Z
LAST-MODIFIED:20230830T221819Z
UID:30351-1697103900-1697110200@www.ghcc4u.org
SUMMARY:Thursday Morning Women's Fall Bible Study
DESCRIPTION:This Bible study is unique in that each session is written by a different Life Way Women’s Bible study author. Every session has a video by the different authors.\nThe study begins and ends each day with guided prayer prompts to help build our conversations with our Lord.
URL:https://www.ghcc4u.org/event/thursday-morning-womens-fall-bible-study-2023-05/
LOCATION:Granada Hills Community Church\, 11263 Balboa Blvd\, Granada Hills\, CA\, 91344\, United States
CATEGORIES:Women's Ministry
ATTACH;FMTTYPE=image/jpeg:https://www.ghcc4u.org/wp-content/uploads/2023/08/pray.jpg
END:VEVENT
BEGIN:VEVENT
DTSTART;TZID=America/Los_Angeles:20231011T183000
DTEND;TZID=America/Los_Angeles:20231011T200000
DTSTAMP:20260425T050948
CREATED:20230830T202422Z
LAST-MODIFIED:20230830T221454Z
UID:30337-1697049000-1697054400@www.ghcc4u.org
SUMMARY:Wednesday Night Women's Fall Bible Study
DESCRIPTION:This Bible study is unique in that each session is written by a different Life Way Women’s Bible study author. Every session has a video by the different authors.\nThe study begins and ends each day with guided prayer prompts to help build our conversations with our Lord.
URL:https://www.ghcc4u.org/event/wednesday-night-womens-fall-bible-study-2023-05/
LOCATION:Granada Hills Community Church\, 11263 Balboa Blvd\, Granada Hills\, CA\, 91344\, United States
CATEGORIES:Women's Ministry
ATTACH;FMTTYPE=image/jpeg:https://www.ghcc4u.org/wp-content/uploads/2023/08/pray.jpg
END:VEVENT
BEGIN:VEVENT
DTSTART;TZID=America/Los_Angeles:20231011T180000
DTEND;TZID=America/Los_Angeles:20231011T200000
DTSTAMP:20260425T050948
CREATED:20230830T222055Z
LAST-MODIFIED:20230830T222106Z
UID:30359-1697047200-1697054400@www.ghcc4u.org
SUMMARY:Wednesday Night Youth Group
DESCRIPTION:Please join us for a great evening of fun activities\, pizza\, and study in God’s word!
URL:https://www.ghcc4u.org/event/wednesday-night-youth-group-2023-28/
LOCATION:Granada Hills Community Church\, 11263 Balboa Blvd\, Granada Hills\, CA\, 91344\, United States
CATEGORIES:Youth Ministry
ATTACH;FMTTYPE=image/jpeg:https://www.ghcc4u.org/wp-content/uploads/2022/09/youth.jpg
END:VEVENT
BEGIN:VEVENT
DTSTART;TZID=America/Los_Angeles:20231005T094500
DTEND;TZID=America/Los_Angeles:20231005T113000
DTSTAMP:20260425T050948
CREATED:20230830T221729Z
LAST-MODIFIED:20230830T221741Z
UID:30349-1696499100-1696505400@www.ghcc4u.org
SUMMARY:Thursday Morning Women's Fall Bible Study
DESCRIPTION:This Bible study is unique in that each session is written by a different Life Way Women’s Bible study author. Every session has a video by the different authors.\nThe study begins and ends each day with guided prayer prompts to help build our conversations with our Lord.
URL:https://www.ghcc4u.org/event/thursday-morning-womens-fall-bible-study-2023-04/
LOCATION:Granada Hills Community Church\, 11263 Balboa Blvd\, Granada Hills\, CA\, 91344\, United States
CATEGORIES:Women's Ministry
ATTACH;FMTTYPE=image/jpeg:https://www.ghcc4u.org/wp-content/uploads/2023/08/pray.jpg
END:VEVENT
BEGIN:VEVENT
DTSTART;TZID=America/Los_Angeles:20231004T183000
DTEND;TZID=America/Los_Angeles:20231004T200000
DTSTAMP:20260425T050948
CREATED:20230830T202354Z
LAST-MODIFIED:20230830T221006Z
UID:30335-1696444200-1696449600@www.ghcc4u.org
SUMMARY:Wednesday Night Women's Fall Bible Study
DESCRIPTION:This Bible study is unique in that each session is written by a different Life Way Women’s Bible study author. Every session has a video by the different authors.\nThe study begins and ends each day with guided prayer prompts to help build our conversations with our Lord.
URL:https://www.ghcc4u.org/event/wednesday-night-womens-fall-bible-study-2023-04/
LOCATION:Granada Hills Community Church\, 11263 Balboa Blvd\, Granada Hills\, CA\, 91344\, United States
CATEGORIES:Women's Ministry
ATTACH;FMTTYPE=image/jpeg:https://www.ghcc4u.org/wp-content/uploads/2023/08/pray.jpg
END:VEVENT
BEGIN:VEVENT
DTSTART;TZID=America/Los_Angeles:20231004T180000
DTEND;TZID=America/Los_Angeles:20231004T200000
DTSTAMP:20260425T050948
CREATED:20230830T222021Z
LAST-MODIFIED:20230830T222039Z
UID:30357-1696442400-1696449600@www.ghcc4u.org
SUMMARY:Wednesday Night Youth Group
DESCRIPTION:Please join us for a great evening of fun activities\, pizza\, and study in God’s word!
URL:https://www.ghcc4u.org/event/wednesday-night-youth-group-2023-27/
LOCATION:Granada Hills Community Church\, 11263 Balboa Blvd\, Granada Hills\, CA\, 91344\, United States
CATEGORIES:Youth Ministry
ATTACH;FMTTYPE=image/jpeg:https://www.ghcc4u.org/wp-content/uploads/2022/09/youth.jpg
END:VEVENT
BEGIN:VEVENT
DTSTART;TZID=America/Los_Angeles:20230928T094500
DTEND;TZID=America/Los_Angeles:20230928T113000
DTSTAMP:20260425T050948
CREATED:20230830T221635Z
LAST-MODIFIED:20230830T221657Z
UID:30347-1695894300-1695900600@www.ghcc4u.org
SUMMARY:Thursday Morning Women's Fall Bible Study
DESCRIPTION:This Bible study is unique in that each session is written by a different Life Way Women’s Bible study author. Every session has a video by the different authors.\nThe study begins and ends each day with guided prayer prompts to help build our conversations with our Lord.
URL:https://www.ghcc4u.org/event/thursday-morning-womens-fall-bible-study-2023-03/
LOCATION:Granada Hills Community Church\, 11263 Balboa Blvd\, Granada Hills\, CA\, 91344\, United States
CATEGORIES:Women's Ministry
ATTACH;FMTTYPE=image/jpeg:https://www.ghcc4u.org/wp-content/uploads/2023/08/pray.jpg
END:VEVENT
BEGIN:VEVENT
DTSTART;TZID=America/Los_Angeles:20230927T183000
DTEND;TZID=America/Los_Angeles:20230927T200000
DTSTAMP:20260425T050948
CREATED:20230830T202140Z
LAST-MODIFIED:20230830T221352Z
UID:30333-1695839400-1695844800@www.ghcc4u.org
SUMMARY:Wednesday Night Women's Fall Bible Study
DESCRIPTION:This Bible study is unique in that each session is written by a different Life Way Women’s Bible study author. Every session has a video by the different authors.\nThe study begins and ends each day with guided prayer prompts to help build our conversations with our Lord.
URL:https://www.ghcc4u.org/event/wednesday-night-womens-fall-bible-study-2023-03/
LOCATION:Granada Hills Community Church\, 11263 Balboa Blvd\, Granada Hills\, CA\, 91344\, United States
CATEGORIES:Women's Ministry
ATTACH;FMTTYPE=image/jpeg:https://www.ghcc4u.org/wp-content/uploads/2023/08/pray.jpg
END:VEVENT
BEGIN:VEVENT
DTSTART;TZID=America/Los_Angeles:20230927T180000
DTEND;TZID=America/Los_Angeles:20230927T200000
DTSTAMP:20260425T050948
CREATED:20230830T194709Z
LAST-MODIFIED:20230830T194722Z
UID:30321-1695837600-1695844800@www.ghcc4u.org
SUMMARY:Wednesday Night Youth Group
DESCRIPTION:Please join us for a great evening of fun activities\, pizza\, and study in God’s word!
URL:https://www.ghcc4u.org/event/wednesday-night-youth-group-2023-26/
LOCATION:Granada Hills Community Church\, 11263 Balboa Blvd\, Granada Hills\, CA\, 91344\, United States
CATEGORIES:Youth Ministry
ATTACH;FMTTYPE=image/jpeg:https://www.ghcc4u.org/wp-content/uploads/2022/09/youth.jpg
END:VEVENT
BEGIN:VEVENT
DTSTART;TZID=America/Los_Angeles:20230923T080000
DTEND;TZID=America/Los_Angeles:20230923T090000
DTSTAMP:20260425T050948
CREATED:20230830T222910Z
LAST-MODIFIED:20230830T222925Z
UID:30367-1695456000-1695459600@www.ghcc4u.org
SUMMARY:Men's Bible Study
DESCRIPTION:Join us for faith and fellowship as we gather to talk about what genuine discipleship looks like in our lives as Christian men.\nWe meet at 8:00am in the Family Life Center (FLC) on the GHCC campus.
URL:https://www.ghcc4u.org/event/mens-bible-study-2023-18/
LOCATION:Granada Hills Community Church\, 11263 Balboa Blvd\, Granada Hills\, CA\, 91344\, United States
CATEGORIES:Men's Ministry
ATTACH;FMTTYPE=image/jpeg:https://www.ghcc4u.org/wp-content/uploads/2022/09/mens-bible-study.jpg
END:VEVENT
BEGIN:VEVENT
DTSTART;TZID=America/Los_Angeles:20230921T094500
DTEND;TZID=America/Los_Angeles:20230921T113000
DTSTAMP:20260425T050948
CREATED:20230830T202808Z
LAST-MODIFIED:20230830T221706Z
UID:30345-1695289500-1695295800@www.ghcc4u.org
SUMMARY:Thursday Morning Women's Fall Bible Study
DESCRIPTION:This Bible study is unique in that each session is written by a different Life Way Women’s Bible study author. Every session has a video by the different authors.\nThe study begins and ends each day with guided prayer prompts to help build our conversations with our Lord.
URL:https://www.ghcc4u.org/event/thursday-morning-womens-fall-bible-study-2023-02/
LOCATION:Granada Hills Community Church\, 11263 Balboa Blvd\, Granada Hills\, CA\, 91344\, United States
CATEGORIES:Women's Ministry
ATTACH;FMTTYPE=image/jpeg:https://www.ghcc4u.org/wp-content/uploads/2023/08/pray.jpg
END:VEVENT
BEGIN:VEVENT
DTSTART;TZID=America/Los_Angeles:20230920T183000
DTEND;TZID=America/Los_Angeles:20230920T200000
DTSTAMP:20260425T050948
CREATED:20230830T202048Z
LAST-MODIFIED:20230830T220938Z
UID:30331-1695234600-1695240000@www.ghcc4u.org
SUMMARY:Wednesday Night Women's Fall Bible Study
DESCRIPTION:This Bible study is unique in that each session is written by a different Life Way Women’s Bible study author. Every session has a video by the different authors.\nThe study begins and ends each day with guided prayer prompts to help build our conversations with our Lord.
URL:https://www.ghcc4u.org/event/wednesday-night-womens-fall-bible-study-2023-02/
LOCATION:Granada Hills Community Church\, 11263 Balboa Blvd\, Granada Hills\, CA\, 91344\, United States
CATEGORIES:Women's Ministry
ATTACH;FMTTYPE=image/jpeg:https://www.ghcc4u.org/wp-content/uploads/2023/08/pray.jpg
END:VEVENT
BEGIN:VEVENT
DTSTART;TZID=America/Los_Angeles:20230920T180000
DTEND;TZID=America/Los_Angeles:20230920T200000
DTSTAMP:20260425T050948
CREATED:20230830T194638Z
LAST-MODIFIED:20230830T194653Z
UID:30319-1695232800-1695240000@www.ghcc4u.org
SUMMARY:Wednesday Night Youth Group
DESCRIPTION:Please join us for a great evening of fun activities\, pizza\, and study in God’s word!
URL:https://www.ghcc4u.org/event/wednesday-night-youth-group-2023-25/
LOCATION:Granada Hills Community Church\, 11263 Balboa Blvd\, Granada Hills\, CA\, 91344\, United States
CATEGORIES:Youth Ministry
ATTACH;FMTTYPE=image/jpeg:https://www.ghcc4u.org/wp-content/uploads/2022/09/youth.jpg
END:VEVENT
BEGIN:VEVENT
DTSTART;TZID=America/Los_Angeles:20230914T094500
DTEND;TZID=America/Los_Angeles:20230914T113000
DTSTAMP:20260425T050948
CREATED:20230830T202727Z
LAST-MODIFIED:20230830T220809Z
UID:30343-1694684700-1694691000@www.ghcc4u.org
SUMMARY:Thursday Morning Women's Fall Bible Study
DESCRIPTION:This Bible study is unique in that each session is written by a different Life Way Women’s Bible study author. Every session has a video by the different authors.\nThe study begins and ends each day with guided prayer prompts to help build our conversations with our Lord.
URL:https://www.ghcc4u.org/event/thursday-morning-womens-fall-bible-study-2023-01/
LOCATION:Granada Hills Community Church\, 11263 Balboa Blvd\, Granada Hills\, CA\, 91344\, United States
CATEGORIES:Women's Ministry
ATTACH;FMTTYPE=image/jpeg:https://www.ghcc4u.org/wp-content/uploads/2023/08/pray.jpg
END:VEVENT
BEGIN:VEVENT
DTSTART;TZID=America/Los_Angeles:20230913T183000
DTEND;TZID=America/Los_Angeles:20230913T200000
DTSTAMP:20260425T050948
CREATED:20230830T202023Z
LAST-MODIFIED:20230830T220748Z
UID:30328-1694629800-1694635200@www.ghcc4u.org
SUMMARY:Wednesday Night Women's Fall Bible Study
DESCRIPTION:This Bible study is unique in that each session is written by a different Life Way Women’s Bible study author. Every session has a video by the different authors.\nThe study begins and ends each day with guided prayer prompts to help build our conversations with our Lord.
URL:https://www.ghcc4u.org/event/wednesday-night-womens-fall-bible-study-2023-01/
LOCATION:Granada Hills Community Church\, 11263 Balboa Blvd\, Granada Hills\, CA\, 91344\, United States
CATEGORIES:Women's Ministry
ATTACH;FMTTYPE=image/jpeg:https://www.ghcc4u.org/wp-content/uploads/2023/08/pray.jpg
END:VEVENT
BEGIN:VEVENT
DTSTART;TZID=America/Los_Angeles:20230913T180000
DTEND;TZID=America/Los_Angeles:20230913T200000
DTSTAMP:20260425T050948
CREATED:20230830T194611Z
LAST-MODIFIED:20230830T194623Z
UID:30317-1694628000-1694635200@www.ghcc4u.org
SUMMARY:Wednesday Night Youth Group
DESCRIPTION:Please join us for a great evening of fun activities\, pizza\, and study in God’s word!
URL:https://www.ghcc4u.org/event/wednesday-night-youth-group-2023-24/
LOCATION:Granada Hills Community Church\, 11263 Balboa Blvd\, Granada Hills\, CA\, 91344\, United States
CATEGORIES:Youth Ministry
ATTACH;FMTTYPE=image/jpeg:https://www.ghcc4u.org/wp-content/uploads/2022/09/youth.jpg
END:VEVENT
BEGIN:VEVENT
DTSTART;TZID=America/Los_Angeles:20230909T080000
DTEND;TZID=America/Los_Angeles:20230909T090000
DTSTAMP:20260425T050948
CREATED:20230830T222833Z
LAST-MODIFIED:20230830T222855Z
UID:30365-1694246400-1694250000@www.ghcc4u.org
SUMMARY:Men's Bible Study
DESCRIPTION:Join us for faith and fellowship as we gather to talk about what genuine discipleship looks like in our lives as Christian men.\nWe meet at 8:00am in the Family Life Center (FLC) on the GHCC campus.
URL:https://www.ghcc4u.org/event/mens-bible-study-2023-17/
LOCATION:Granada Hills Community Church\, 11263 Balboa Blvd\, Granada Hills\, CA\, 91344\, United States
CATEGORIES:Men's Ministry
ATTACH;FMTTYPE=image/jpeg:https://www.ghcc4u.org/wp-content/uploads/2022/09/mens-bible-study.jpg
END:VEVENT
BEGIN:VEVENT
DTSTART;TZID=America/Los_Angeles:20230907T094500
DTEND;TZID=America/Los_Angeles:20230907T113000
DTSTAMP:20260425T050948
CREATED:20230830T200438Z
LAST-MODIFIED:20230830T203114Z
UID:30326-1694079900-1694086200@www.ghcc4u.org
SUMMARY:Women's Worship & Praise Gathering
DESCRIPTION:All women are invited to attend a time of worship and praise. Please join us for this exciting time!\nThis has been a summer of many challenges for our church family. Sharing our testimonies of God’s faithfulness and tender mercies will bless His heart as well as ours.
URL:https://www.ghcc4u.org/event/womens-worship-and-praise-gathering-2023-02/
LOCATION:Granada Hills Community Church\, 11263 Balboa Blvd\, Granada Hills\, CA\, 91344\, United States
CATEGORIES:Women's Ministry
ATTACH;FMTTYPE=image/jpeg:https://www.ghcc4u.org/wp-content/uploads/2023/08/prayer.jpg
END:VEVENT
BEGIN:VEVENT
DTSTART;TZID=America/Los_Angeles:20230906T183000
DTEND;TZID=America/Los_Angeles:20230906T200000
DTSTAMP:20260425T050948
CREATED:20230830T200253Z
LAST-MODIFIED:20230830T203055Z
UID:30323-1694025000-1694030400@www.ghcc4u.org
SUMMARY:Women's Worship & Praise Gathering
DESCRIPTION:All women are invited to attend a time of worship and praise. Please join us for this exciting time!\nThis has been a summer of many challenges for our church family. Sharing our testimonies of God’s faithfulness and tender mercies will bless His heart as well as ours.
URL:https://www.ghcc4u.org/event/womens-worship-and-praise-gathering-2023-01/
LOCATION:Granada Hills Community Church\, 11263 Balboa Blvd\, Granada Hills\, CA\, 91344\, United States
CATEGORIES:Women's Ministry
ATTACH;FMTTYPE=image/jpeg:https://www.ghcc4u.org/wp-content/uploads/2023/08/prayer.jpg
END:VEVENT
BEGIN:VEVENT
DTSTART;TZID=America/Los_Angeles:20230906T180000
DTEND;TZID=America/Los_Angeles:20230906T200000
DTSTAMP:20260425T050948
CREATED:20230830T194537Z
LAST-MODIFIED:20230830T194553Z
UID:30315-1694023200-1694030400@www.ghcc4u.org
SUMMARY:Wednesday Night Youth Group
DESCRIPTION:Please join us for a great evening of fun activities\, pizza\, and study in God’s word!
URL:https://www.ghcc4u.org/event/wednesday-night-youth-group-2023-23/
LOCATION:Granada Hills Community Church\, 11263 Balboa Blvd\, Granada Hills\, CA\, 91344\, United States
CATEGORIES:Youth Ministry
ATTACH;FMTTYPE=image/jpeg:https://www.ghcc4u.org/wp-content/uploads/2022/09/youth.jpg
END:VEVENT
BEGIN:VEVENT
DTSTART;VALUE=DATE:20230904
DTEND;VALUE=DATE:20230905
DTSTAMP:20260425T050948
CREATED:20230830T224816Z
LAST-MODIFIED:20230830T224838Z
UID:30375-1693785600-1693871999@www.ghcc4u.org
SUMMARY:Church Office Closed
DESCRIPTION:The church office is closed for Labor Day.
URL:https://www.ghcc4u.org/event/church-office-closed-2023-05/
LOCATION:Granada Hills Community Church\, 11263 Balboa Blvd\, Granada Hills\, CA\, 91344\, United States
CATEGORIES:Holiday
ATTACH;FMTTYPE=image/jpeg:https://www.ghcc4u.org/wp-content/uploads/2019/02/closed.jpg
END:VEVENT
BEGIN:VEVENT
DTSTART;TZID=America/Los_Angeles:20230830T180000
DTEND;TZID=America/Los_Angeles:20230830T200000
DTSTAMP:20260425T050948
CREATED:20230717T194729Z
LAST-MODIFIED:20230717T194743Z
UID:30281-1693418400-1693425600@www.ghcc4u.org
SUMMARY:Wednesday Night Youth Group
DESCRIPTION:Please join us for a great evening of fun activities\, pizza\, and study in God’s word!
URL:https://www.ghcc4u.org/event/wednesday-night-youth-group-2023-22/
LOCATION:Granada Hills Community Church\, 11263 Balboa Blvd\, Granada Hills\, CA\, 91344\, United States
CATEGORIES:Youth Ministry
ATTACH;FMTTYPE=image/jpeg:https://www.ghcc4u.org/wp-content/uploads/2022/09/youth.jpg
END:VEVENT
BEGIN:VEVENT
DTSTART;TZID=America/Los_Angeles:20230826T080000
DTEND;TZID=America/Los_Angeles:20230826T090000
DTSTAMP:20260425T050948
CREATED:20230717T191401Z
LAST-MODIFIED:20230717T191414Z
UID:30272-1693036800-1693040400@www.ghcc4u.org
SUMMARY:Men's Bible Study
DESCRIPTION:Join us for faith and fellowship as we gather to talk about what genuine discipleship looks like in our lives as Christian men.\nWe meet at 8:00am in the Family Life Center (FLC) on the GHCC campus.
URL:https://www.ghcc4u.org/event/mens-bible-study-2023-16/
LOCATION:Granada Hills Community Church\, 11263 Balboa Blvd\, Granada Hills\, CA\, 91344\, United States
CATEGORIES:Men's Ministry
ATTACH;FMTTYPE=image/jpeg:https://www.ghcc4u.org/wp-content/uploads/2022/09/mens-bible-study.jpg
END:VEVENT
BEGIN:VEVENT
DTSTART;TZID=America/Los_Angeles:20230823T180000
DTEND;TZID=America/Los_Angeles:20230823T200000
DTSTAMP:20260425T050948
CREATED:20230717T194700Z
LAST-MODIFIED:20230717T194712Z
UID:30279-1692813600-1692820800@www.ghcc4u.org
SUMMARY:Wednesday Night Youth Group
DESCRIPTION:Please join us for a great evening of fun activities\, pizza\, and study in God’s word!
URL:https://www.ghcc4u.org/event/wednesday-night-youth-group-2023-21/
LOCATION:Granada Hills Community Church\, 11263 Balboa Blvd\, Granada Hills\, CA\, 91344\, United States
CATEGORIES:Youth Ministry
ATTACH;FMTTYPE=image/jpeg:https://www.ghcc4u.org/wp-content/uploads/2022/09/youth.jpg
END:VEVENT
BEGIN:VEVENT
DTSTART;TZID=America/Los_Angeles:20230816T183000
DTEND;TZID=America/Los_Angeles:20230816T200000
DTSTAMP:20260425T050948
CREATED:20230801T165311Z
LAST-MODIFIED:20230801T165324Z
UID:30301-1692210600-1692216000@www.ghcc4u.org
SUMMARY:Wednesday Night Women's Summer Bible Study
DESCRIPTION:Today’s news headlines are filled with despair and discouragement. We may ask\, “Is God still in control?” Trusted Bible teacher and pastor Dr. David Jeremiah opens the Word of God to reveal what it has to say about the days we are living in.\nWhether one is new to Biblical prophecy or a longtime student of the Bible\, this timely message will encourage and help us to focus on the mission of God in our daily lives.
URL:https://www.ghcc4u.org/event/wednesday-night-womens-summer-bible-study-2023-10/
LOCATION:Granada Hills Community Church\, 11263 Balboa Blvd\, Granada Hills\, CA\, 91344\, United States
CATEGORIES:Women's Ministry
ATTACH;FMTTYPE=image/jpeg:https://www.ghcc4u.org/wp-content/uploads/2023/05/where.jpg
END:VEVENT
END:VCALENDAR