BEGIN:VCALENDAR
VERSION:2.0
PRODID:-//Granada Hills Community Church - ECPv6.15.20//NONSGML v1.0//EN
CALSCALE:GREGORIAN
METHOD:PUBLISH
X-ORIGINAL-URL:https://www.ghcc4u.org
X-WR-CALDESC:Events for Granada Hills Community Church
REFRESH-INTERVAL;VALUE=DURATION:PT1H
X-Robots-Tag:noindex
X-PUBLISHED-TTL:PT1H
BEGIN:VTIMEZONE
TZID:America/Los_Angeles
BEGIN:DAYLIGHT
TZOFFSETFROM:-0800
TZOFFSETTO:-0700
TZNAME:PDT
DTSTART:20250309T100000
END:DAYLIGHT
BEGIN:STANDARD
TZOFFSETFROM:-0700
TZOFFSETTO:-0800
TZNAME:PST
DTSTART:20251102T090000
END:STANDARD
BEGIN:DAYLIGHT
TZOFFSETFROM:-0800
TZOFFSETTO:-0700
TZNAME:PDT
DTSTART:20260308T100000
END:DAYLIGHT
BEGIN:STANDARD
TZOFFSETFROM:-0700
TZOFFSETTO:-0800
TZNAME:PST
DTSTART:20261101T090000
END:STANDARD
BEGIN:DAYLIGHT
TZOFFSETFROM:-0800
TZOFFSETTO:-0700
TZNAME:PDT
DTSTART:20270314T100000
END:DAYLIGHT
BEGIN:STANDARD
TZOFFSETFROM:-0700
TZOFFSETTO:-0800
TZNAME:PST
DTSTART:20271107T090000
END:STANDARD
END:VTIMEZONE
BEGIN:VEVENT
DTSTART;TZID=America/Los_Angeles:20260523T080000
DTEND;TZID=America/Los_Angeles:20260523T090000
DTSTAMP:20260423T135211
CREATED:20260421T215710Z
LAST-MODIFIED:20260421T215723Z
UID:31783-1779523200-1779526800@www.ghcc4u.org
SUMMARY:Men's Bible Study
DESCRIPTION:Join us for faith and fellowship as we gather to talk about what genuine discipleship looks like in our lives as Christian men.\nWe meet at 8:00am in the Family Life Center (FLC) on the GHCC campus.
URL:https://www.ghcc4u.org/event/mens-bible-study-2026-10/
LOCATION:Granada Hills Community Church\, 11263 Balboa Blvd\, Granada Hills\, CA\, 91344\, United States
CATEGORIES:Men's Ministry
ATTACH;FMTTYPE=image/jpeg:https://www.ghcc4u.org/wp-content/uploads/2022/09/mens-bible-study.jpg
END:VEVENT
BEGIN:VEVENT
DTSTART;VALUE=DATE:20260525
DTEND;VALUE=DATE:20260526
DTSTAMP:20260423T135211
CREATED:20260421T220104Z
LAST-MODIFIED:20260421T220125Z
UID:31787-1779667200-1779753599@www.ghcc4u.org
SUMMARY:Church Office Closed
DESCRIPTION:The church office is closed for Memorial Day.
URL:https://www.ghcc4u.org/event/church-office-closed-2026-03/
LOCATION:Granada Hills Community Church\, 11263 Balboa Blvd\, Granada Hills\, CA\, 91344\, United States
CATEGORIES:Holiday
ATTACH;FMTTYPE=image/jpeg:https://www.ghcc4u.org/wp-content/uploads/2019/02/closed.jpg
END:VEVENT
BEGIN:VEVENT
DTSTART;TZID=America/Los_Angeles:20260527T180000
DTEND;TZID=America/Los_Angeles:20260527T200000
DTSTAMP:20260423T135211
CREATED:20260421T220539Z
LAST-MODIFIED:20260421T220552Z
UID:31795-1779904800-1779912000@www.ghcc4u.org
SUMMARY:Wednesday Night Youth Group
DESCRIPTION:Please join us for a great evening of fun activities\, pizza\, and study in God’s word!
URL:https://www.ghcc4u.org/event/wednesday-night-youth-group-2026-19/
LOCATION:Granada Hills Community Church\, 11263 Balboa Blvd\, Granada Hills\, CA\, 91344\, United States
CATEGORIES:Youth Ministry
ATTACH;FMTTYPE=image/jpeg:https://www.ghcc4u.org/wp-content/uploads/2022/09/youth.jpg
END:VEVENT
BEGIN:VEVENT
DTSTART;TZID=America/Los_Angeles:20260527T183000
DTEND;TZID=America/Los_Angeles:20260527T200000
DTSTAMP:20260423T135211
CREATED:20260421T214910Z
LAST-MODIFIED:20260421T214920Z
UID:31759-1779906600-1779912000@www.ghcc4u.org
SUMMARY:Wednesday Night Women's Spring Bible Study
DESCRIPTION:Where can women get the wisdom that will help them make the right choices in the many decisions of life? How can they develop a faith that won’t waver or crumble when they’re overwhelmed by life’s trials and temptations? “James: Growing Strong in Wisdom and Faith” by Elizabeth George answers these questions and more and provides practical guidance on many issues that affect Christian women daily.\nIn this 7-week study we will study topics that include: living in faith\, speaking with wisdom\, how to pray\, how to persevere through trials\, how to resist temptation\, and lots more. We hope you will join us!
URL:https://www.ghcc4u.org/event/wednesday-night-womens-spring-bible-study-2026-06/
LOCATION:Granada Hills Community Church\, 11263 Balboa Blvd\, Granada Hills\, CA\, 91344\, United States
CATEGORIES:Women's Ministry
ATTACH;FMTTYPE=image/jpeg:https://www.ghcc4u.org/wp-content/uploads/2026/04/james.jpg
END:VEVENT
BEGIN:VEVENT
DTSTART;TZID=America/Los_Angeles:20260528T094500
DTEND;TZID=America/Los_Angeles:20260528T113000
DTSTAMP:20260423T135211
CREATED:20260421T215356Z
LAST-MODIFIED:20260421T215406Z
UID:31773-1779961500-1779967800@www.ghcc4u.org
SUMMARY:Thursday Morning Women's Spring Bible Study
DESCRIPTION:Where can women get the wisdom that will help them make the right choices in the many decisions of life? How can they develop a faith that won’t waver or crumble when they’re overwhelmed by life’s trials and temptations? “James: Growing Strong in Wisdom and Faith” by Elizabeth George answers these questions and more and provides practical guidance on many issues that affect Christian women daily.\nIn this 7-week study we will study topics that include: living in faith\, speaking with wisdom\, how to pray\, how to persevere through trials\, how to resist temptation\, and lots more. We hope you will join us!
URL:https://www.ghcc4u.org/event/thursday-morning-womens-spring-bible-study-2026-06/
LOCATION:Granada Hills Community Church\, 11263 Balboa Blvd\, Granada Hills\, CA\, 91344\, United States
CATEGORIES:Women's Ministry
ATTACH;FMTTYPE=image/jpeg:https://www.ghcc4u.org/wp-content/uploads/2026/04/james.jpg
END:VEVENT
BEGIN:VEVENT
DTSTART;TZID=America/Los_Angeles:20260603T180000
DTEND;TZID=America/Los_Angeles:20260603T200000
DTSTAMP:20260423T135211
CREATED:20260421T220646Z
LAST-MODIFIED:20260421T220657Z
UID:31797-1780509600-1780516800@www.ghcc4u.org
SUMMARY:Wednesday Night Youth Group
DESCRIPTION:Please join us for a great evening of fun activities\, pizza\, and study in God’s word!
URL:https://www.ghcc4u.org/event/wednesday-night-youth-group-2026-20/
LOCATION:Granada Hills Community Church\, 11263 Balboa Blvd\, Granada Hills\, CA\, 91344\, United States
CATEGORIES:Youth Ministry
ATTACH;FMTTYPE=image/jpeg:https://www.ghcc4u.org/wp-content/uploads/2022/09/youth.jpg
END:VEVENT
BEGIN:VEVENT
DTSTART;TZID=America/Los_Angeles:20260603T183000
DTEND;TZID=America/Los_Angeles:20260603T200000
DTSTAMP:20260423T135211
CREATED:20260421T214935Z
LAST-MODIFIED:20260421T214947Z
UID:31761-1780511400-1780516800@www.ghcc4u.org
SUMMARY:Wednesday Night Women's Spring Bible Study
DESCRIPTION:Where can women get the wisdom that will help them make the right choices in the many decisions of life? How can they develop a faith that won’t waver or crumble when they’re overwhelmed by life’s trials and temptations? “James: Growing Strong in Wisdom and Faith” by Elizabeth George answers these questions and more and provides practical guidance on many issues that affect Christian women daily.\nIn this 7-week study we will study topics that include: living in faith\, speaking with wisdom\, how to pray\, how to persevere through trials\, how to resist temptation\, and lots more. We hope you will join us!
URL:https://www.ghcc4u.org/event/wednesday-night-womens-spring-bible-study-2026-07/
LOCATION:Granada Hills Community Church\, 11263 Balboa Blvd\, Granada Hills\, CA\, 91344\, United States
CATEGORIES:Women's Ministry
ATTACH;FMTTYPE=image/jpeg:https://www.ghcc4u.org/wp-content/uploads/2026/04/james.jpg
END:VEVENT
BEGIN:VEVENT
DTSTART;TZID=America/Los_Angeles:20260604T094500
DTEND;TZID=America/Los_Angeles:20260604T113000
DTSTAMP:20260423T135211
CREATED:20260421T215444Z
LAST-MODIFIED:20260421T215514Z
UID:31776-1780566300-1780572600@www.ghcc4u.org
SUMMARY:Thursday Morning Women's Spring Bible Study
DESCRIPTION:Where can women get the wisdom that will help them make the right choices in the many decisions of life? How can they develop a faith that won’t waver or crumble when they’re overwhelmed by life’s trials and temptations? “James: Growing Strong in Wisdom and Faith” by Elizabeth George answers these questions and more and provides practical guidance on many issues that affect Christian women daily.\nIn this 7-week study we will study topics that include: living in faith\, speaking with wisdom\, how to pray\, how to persevere through trials\, how to resist temptation\, and lots more. We hope you will join us!
URL:https://www.ghcc4u.org/event/thursday-morning-womens-spring-bible-study-2026-07/
LOCATION:Granada Hills Community Church\, 11263 Balboa Blvd\, Granada Hills\, CA\, 91344\, United States
CATEGORIES:Women's Ministry
ATTACH;FMTTYPE=image/jpeg:https://www.ghcc4u.org/wp-content/uploads/2026/04/james.jpg
END:VEVENT
BEGIN:VEVENT
DTSTART;TZID=America/Los_Angeles:20260610T180000
DTEND;TZID=America/Los_Angeles:20260610T200000
DTSTAMP:20260423T135211
CREATED:20260421T220725Z
LAST-MODIFIED:20260421T220738Z
UID:31799-1781114400-1781121600@www.ghcc4u.org
SUMMARY:Wednesday Night Youth Group
DESCRIPTION:Please join us for a great evening of fun activities\, pizza\, and study in God’s word!
URL:https://www.ghcc4u.org/event/wednesday-night-youth-group-2026-21/
LOCATION:Granada Hills Community Church\, 11263 Balboa Blvd\, Granada Hills\, CA\, 91344\, United States
CATEGORIES:Youth Ministry
ATTACH;FMTTYPE=image/jpeg:https://www.ghcc4u.org/wp-content/uploads/2022/09/youth.jpg
END:VEVENT
BEGIN:VEVENT
DTSTART;TZID=America/Los_Angeles:20260610T183000
DTEND;TZID=America/Los_Angeles:20260610T200000
DTSTAMP:20260423T135211
CREATED:20260421T215533Z
LAST-MODIFIED:20260421T215547Z
UID:31775-1781116200-1781121600@www.ghcc4u.org
SUMMARY:Wednesday Night Women's Spring Bible Study
DESCRIPTION:Where can women get the wisdom that will help them make the right choices in the many decisions of life? How can they develop a faith that won’t waver or crumble when they’re overwhelmed by life’s trials and temptations? “James: Growing Strong in Wisdom and Faith” by Elizabeth George answers these questions and more and provides practical guidance on many issues that affect Christian women daily.\nIn this 7-week study we will study topics that include: living in faith\, speaking with wisdom\, how to pray\, how to persevere through trials\, how to resist temptation\, and lots more. We hope you will join us!
URL:https://www.ghcc4u.org/event/wednesday-night-womens-spring-bible-study-2026-08/
LOCATION:Granada Hills Community Church\, 11263 Balboa Blvd\, Granada Hills\, CA\, 91344\, United States
CATEGORIES:Women's Ministry
ATTACH;FMTTYPE=image/jpeg:https://www.ghcc4u.org/wp-content/uploads/2026/04/james.jpg
END:VEVENT
BEGIN:VEVENT
DTSTART;TZID=America/Los_Angeles:20260611T094500
DTEND;TZID=America/Los_Angeles:20260611T113000
DTSTAMP:20260423T135211
CREATED:20260421T215601Z
LAST-MODIFIED:20260421T215611Z
UID:31779-1781171100-1781177400@www.ghcc4u.org
SUMMARY:Thursday Morning Women's Spring Bible Study
DESCRIPTION:Where can women get the wisdom that will help them make the right choices in the many decisions of life? How can they develop a faith that won’t waver or crumble when they’re overwhelmed by life’s trials and temptations? “James: Growing Strong in Wisdom and Faith” by Elizabeth George answers these questions and more and provides practical guidance on many issues that affect Christian women daily.\nIn this 7-week study we will study topics that include: living in faith\, speaking with wisdom\, how to pray\, how to persevere through trials\, how to resist temptation\, and lots more. We hope you will join us!
URL:https://www.ghcc4u.org/event/thursday-morning-womens-spring-bible-study-2026-08/
LOCATION:Granada Hills Community Church\, 11263 Balboa Blvd\, Granada Hills\, CA\, 91344\, United States
CATEGORIES:Women's Ministry
ATTACH;FMTTYPE=image/jpeg:https://www.ghcc4u.org/wp-content/uploads/2026/04/james.jpg
END:VEVENT
BEGIN:VEVENT
DTSTART;TZID=America/Los_Angeles:20260621T103000
DTEND;TZID=America/Los_Angeles:20260621T114500
DTSTAMP:20260423T135211
CREATED:20260421T220847Z
LAST-MODIFIED:20260421T220859Z
UID:31801-1782037800-1782042300@www.ghcc4u.org
SUMMARY:Father's Day Celebration
DESCRIPTION:Come join us as we celebrate God’s providence through fathers!
URL:https://www.ghcc4u.org/event/fathers-day-2026-1/
LOCATION:Granada Hills Community Church\, 11263 Balboa Blvd\, Granada Hills\, CA\, 91344\, United States
CATEGORIES:Holiday
ATTACH;FMTTYPE=image/jpeg:https://www.ghcc4u.org/wp-content/uploads/2024/06/fathers-day.jpg
END:VEVENT
END:VCALENDAR