BEGIN:VCALENDAR
VERSION:2.0
PRODID:-//Granada Hills Community Church - ECPv6.15.20//NONSGML v1.0//EN
CALSCALE:GREGORIAN
METHOD:PUBLISH
X-WR-CALNAME:Granada Hills Community Church
X-ORIGINAL-URL:https://www.ghcc4u.org
X-WR-CALDESC:Events for Granada Hills Community Church
REFRESH-INTERVAL;VALUE=DURATION:PT1H
X-Robots-Tag:noindex
X-PUBLISHED-TTL:PT1H
BEGIN:VTIMEZONE
TZID:America/Los_Angeles
BEGIN:DAYLIGHT
TZOFFSETFROM:-0800
TZOFFSETTO:-0700
TZNAME:PDT
DTSTART:20240310T100000
END:DAYLIGHT
BEGIN:STANDARD
TZOFFSETFROM:-0700
TZOFFSETTO:-0800
TZNAME:PST
DTSTART:20241103T090000
END:STANDARD
BEGIN:DAYLIGHT
TZOFFSETFROM:-0800
TZOFFSETTO:-0700
TZNAME:PDT
DTSTART:20250309T100000
END:DAYLIGHT
BEGIN:STANDARD
TZOFFSETFROM:-0700
TZOFFSETTO:-0800
TZNAME:PST
DTSTART:20251102T090000
END:STANDARD
BEGIN:DAYLIGHT
TZOFFSETFROM:-0800
TZOFFSETTO:-0700
TZNAME:PDT
DTSTART:20260308T100000
END:DAYLIGHT
BEGIN:STANDARD
TZOFFSETFROM:-0700
TZOFFSETTO:-0800
TZNAME:PST
DTSTART:20261101T090000
END:STANDARD
END:VTIMEZONE
BEGIN:VTIMEZONE
TZID:America/Denver
BEGIN:DAYLIGHT
TZOFFSETFROM:-0700
TZOFFSETTO:-0600
TZNAME:MDT
DTSTART:20240310T090000
END:DAYLIGHT
BEGIN:STANDARD
TZOFFSETFROM:-0600
TZOFFSETTO:-0700
TZNAME:MST
DTSTART:20241103T080000
END:STANDARD
BEGIN:DAYLIGHT
TZOFFSETFROM:-0700
TZOFFSETTO:-0600
TZNAME:MDT
DTSTART:20250309T090000
END:DAYLIGHT
BEGIN:STANDARD
TZOFFSETFROM:-0600
TZOFFSETTO:-0700
TZNAME:MST
DTSTART:20251102T080000
END:STANDARD
BEGIN:DAYLIGHT
TZOFFSETFROM:-0700
TZOFFSETTO:-0600
TZNAME:MDT
DTSTART:20260308T090000
END:DAYLIGHT
BEGIN:STANDARD
TZOFFSETFROM:-0600
TZOFFSETTO:-0700
TZNAME:MST
DTSTART:20261101T080000
END:STANDARD
END:VTIMEZONE
BEGIN:VEVENT
DTSTART;VALUE=DATE:20251127
DTEND;VALUE=DATE:20251129
DTSTAMP:20260423T171753
CREATED:20251103T201218Z
LAST-MODIFIED:20251103T201440Z
UID:31484-1764201600-1764374399@www.ghcc4u.org
SUMMARY:Church Office Closed
DESCRIPTION:The church office is closed for Thanksgiving.
URL:https://www.ghcc4u.org/event/church-office-closed-2025-07/
LOCATION:Granada Hills Community Church\, 11263 Balboa Blvd\, Granada Hills\, CA\, 91344\, United States
CATEGORIES:Holiday
ATTACH;FMTTYPE=image/jpeg:https://www.ghcc4u.org/wp-content/uploads/2019/02/closed.jpg
END:VEVENT
BEGIN:VEVENT
DTSTART;TZID=America/Denver:20251125T190000
DTEND;TZID=America/Denver:20251125T203000
DTSTAMP:20260423T171753
CREATED:20251103T201718Z
LAST-MODIFIED:20251103T201802Z
UID:31488-1764097200-1764102600@www.ghcc4u.org
SUMMARY:Thanksgiving Celebration
DESCRIPTION:Please come join us for communion and thanksgiving as we worship together as a church family.
URL:https://www.ghcc4u.org/event/thanksgiving-celebration-2025-1/
LOCATION:Granada Hills Community Church\, 11263 Balboa Blvd\, Granada Hills\, CA\, 91344\, United States
CATEGORIES:Service
ATTACH;FMTTYPE=image/jpeg:https://www.ghcc4u.org/wp-content/uploads/2019/02/thanksgiving-service.jpg
END:VEVENT
BEGIN:VEVENT
DTSTART;TZID=America/Los_Angeles:20251122T080000
DTEND;TZID=America/Los_Angeles:20251122T090000
DTSTAMP:20260423T171753
CREATED:20251103T195407Z
LAST-MODIFIED:20251103T195423Z
UID:31464-1763798400-1763802000@www.ghcc4u.org
SUMMARY:Men's Bible Study
DESCRIPTION:Join us for faith and fellowship as we gather to talk about what genuine discipleship looks like in our lives as Christian men.\nWe meet at 8:00am in the Family Life Center (FLC) on the GHCC campus.
URL:https://www.ghcc4u.org/event/mens-bible-study-2025-15/
LOCATION:Granada Hills Community Church\, 11263 Balboa Blvd\, Granada Hills\, CA\, 91344\, United States
CATEGORIES:Men's Ministry
ATTACH;FMTTYPE=image/jpeg:https://www.ghcc4u.org/wp-content/uploads/2022/09/mens-bible-study.jpg
END:VEVENT
BEGIN:VEVENT
DTSTART;TZID=America/Los_Angeles:20251120T094500
DTEND;TZID=America/Los_Angeles:20251120T113000
DTSTAMP:20260423T171753
CREATED:20251103T200857Z
LAST-MODIFIED:20251103T200913Z
UID:31480-1763631900-1763638200@www.ghcc4u.org
SUMMARY:Thursday Morning Women's Christmas Book Study
DESCRIPTION:The very first Christmas changed everything! The baby in the manger was and is Emmanuel\, God with us.\nIn this 4-week study we will be reading and discussing this life-changing message together. It is biblical character study of everyone involved in the nativity with practical application for today.
URL:https://www.ghcc4u.org/event/thursday-morning-womens-christmas-book-study-2025-03/
LOCATION:Granada Hills Community Church\, 11263 Balboa Blvd\, Granada Hills\, CA\, 91344\, United States
CATEGORIES:Women's Ministry
ATTACH;FMTTYPE=image/jpeg:https://www.ghcc4u.org/wp-content/uploads/2025/11/elise-morgan.jpg
END:VEVENT
BEGIN:VEVENT
DTSTART;TZID=America/Los_Angeles:20251119T183000
DTEND;TZID=America/Los_Angeles:20251119T200000
DTSTAMP:20260423T171753
CREATED:20251103T200525Z
LAST-MODIFIED:20251103T200537Z
UID:31472-1763577000-1763582400@www.ghcc4u.org
SUMMARY:Wednesday Night Women's Christmas Book Study
DESCRIPTION:The very first Christmas changed everything! The baby in the manger was and is Emmanuel\, God with us.\nIn this 4-week study we will be reading and discussing this life-changing message together. It is biblical character study of everyone involved in the nativity with practical application for today.
URL:https://www.ghcc4u.org/event/wednesday-night-womens-christmas-book-study-2025-03/
LOCATION:Granada Hills Community Church\, 11263 Balboa Blvd\, Granada Hills\, CA\, 91344\, United States
CATEGORIES:Women's Ministry
ATTACH;FMTTYPE=image/jpeg:https://www.ghcc4u.org/wp-content/uploads/2025/11/elise-morgan.jpg
END:VEVENT
BEGIN:VEVENT
DTSTART;TZID=America/Los_Angeles:20251119T180000
DTEND;TZID=America/Los_Angeles:20251119T200000
DTSTAMP:20260423T171753
CREATED:20251103T195117Z
LAST-MODIFIED:20251103T195142Z
UID:31462-1763575200-1763582400@www.ghcc4u.org
SUMMARY:Wednesday Night Youth Group
DESCRIPTION:Please join us for a great evening of fun activities\, pizza\, and study in God’s word!
URL:https://www.ghcc4u.org/event/wednesday-night-youth-group-2025-32/
LOCATION:Granada Hills Community Church\, 11263 Balboa Blvd\, Granada Hills\, CA\, 91344\, United States
CATEGORIES:Youth Ministry
ATTACH;FMTTYPE=image/jpeg:https://www.ghcc4u.org/wp-content/uploads/2022/09/youth.jpg
END:VEVENT
BEGIN:VEVENT
DTSTART;TZID=America/Los_Angeles:20251116T160000
DTEND;TZID=America/Los_Angeles:20251116T210000
DTSTAMP:20260423T171753
CREATED:20251103T202104Z
LAST-MODIFIED:20251103T202119Z
UID:31492-1763308800-1763326800@www.ghcc4u.org
SUMMARY:818 Night Market
DESCRIPTION:Please join us in enjoying an evening of food and shopping and in reaching out to our community with the gospel.
URL:https://www.ghcc4u.org/event/818-night-market-2025-31/
LOCATION:Granada Hills Community Church\, 11263 Balboa Blvd\, Granada Hills\, CA\, 91344\, United States
CATEGORIES:Outreach
ATTACH;FMTTYPE=image/jpeg:https://www.ghcc4u.org/wp-content/uploads/2024/09/818.jpg
END:VEVENT
BEGIN:VEVENT
DTSTART;TZID=America/Los_Angeles:20251113T094500
DTEND;TZID=America/Los_Angeles:20251113T113000
DTSTAMP:20260423T171753
CREATED:20251103T200828Z
LAST-MODIFIED:20251103T200840Z
UID:31478-1763027100-1763033400@www.ghcc4u.org
SUMMARY:Thursday Morning Women's Christmas Book Study
DESCRIPTION:The very first Christmas changed everything! The baby in the manger was and is Emmanuel\, God with us.\nIn this 4-week study we will be reading and discussing this life-changing message together. It is biblical character study of everyone involved in the nativity with practical application for today.
URL:https://www.ghcc4u.org/event/thursday-morning-womens-christmas-book-study-2025-02/
LOCATION:Granada Hills Community Church\, 11263 Balboa Blvd\, Granada Hills\, CA\, 91344\, United States
CATEGORIES:Women's Ministry
ATTACH;FMTTYPE=image/jpeg:https://www.ghcc4u.org/wp-content/uploads/2025/11/elise-morgan.jpg
END:VEVENT
BEGIN:VEVENT
DTSTART;TZID=America/Los_Angeles:20251112T183000
DTEND;TZID=America/Los_Angeles:20251112T200000
DTSTAMP:20260423T171753
CREATED:20251103T200457Z
LAST-MODIFIED:20251103T200512Z
UID:31470-1762972200-1762977600@www.ghcc4u.org
SUMMARY:Wednesday Night Women's Christmas Book Study
DESCRIPTION:The very first Christmas changed everything! The baby in the manger was and is Emmanuel\, God with us.\nIn this 4-week study we will be reading and discussing this life-changing message together. It is biblical character study of everyone involved in the nativity with practical application for today.
URL:https://www.ghcc4u.org/event/wednesday-night-womens-christmas-book-study-2025-02/
LOCATION:Granada Hills Community Church\, 11263 Balboa Blvd\, Granada Hills\, CA\, 91344\, United States
CATEGORIES:Women's Ministry
ATTACH;FMTTYPE=image/jpeg:https://www.ghcc4u.org/wp-content/uploads/2025/11/elise-morgan.jpg
END:VEVENT
BEGIN:VEVENT
DTSTART;TZID=America/Los_Angeles:20251112T180000
DTEND;TZID=America/Los_Angeles:20251112T200000
DTSTAMP:20260423T171753
CREATED:20251103T195046Z
LAST-MODIFIED:20251103T195058Z
UID:31460-1762970400-1762977600@www.ghcc4u.org
SUMMARY:Wednesday Night Youth Group
DESCRIPTION:Please join us for a great evening of fun activities\, pizza\, and study in God’s word!
URL:https://www.ghcc4u.org/event/wednesday-night-youth-group-2025-31/
LOCATION:Granada Hills Community Church\, 11263 Balboa Blvd\, Granada Hills\, CA\, 91344\, United States
CATEGORIES:Youth Ministry
ATTACH;FMTTYPE=image/jpeg:https://www.ghcc4u.org/wp-content/uploads/2022/09/youth.jpg
END:VEVENT
BEGIN:VEVENT
DTSTART;VALUE=DATE:20251111
DTEND;VALUE=DATE:20251112
DTSTAMP:20260423T171753
CREATED:20251103T201414Z
LAST-MODIFIED:20251103T201513Z
UID:31486-1762819200-1762905599@www.ghcc4u.org
SUMMARY:Church Office Closed
DESCRIPTION:The church office is closed for Veterans Day.
URL:https://www.ghcc4u.org/event/church-office-closed-2025-06/
LOCATION:Granada Hills Community Church\, 11263 Balboa Blvd\, Granada Hills\, CA\, 91344\, United States
CATEGORIES:Holiday
ATTACH;FMTTYPE=image/jpeg:https://www.ghcc4u.org/wp-content/uploads/2019/02/closed.jpg
END:VEVENT
BEGIN:VEVENT
DTSTART;TZID=America/Los_Angeles:20251109T160000
DTEND;TZID=America/Los_Angeles:20251109T210000
DTSTAMP:20260423T171753
CREATED:20251103T202031Z
LAST-MODIFIED:20251103T202049Z
UID:31490-1762704000-1762722000@www.ghcc4u.org
SUMMARY:818 Night Market
DESCRIPTION:Please join us in enjoying an evening of food and shopping and in reaching out to our community with the gospel.
URL:https://www.ghcc4u.org/event/818-night-market-2025-30/
LOCATION:Granada Hills Community Church\, 11263 Balboa Blvd\, Granada Hills\, CA\, 91344\, United States
CATEGORIES:Outreach
ATTACH;FMTTYPE=image/jpeg:https://www.ghcc4u.org/wp-content/uploads/2024/09/818.jpg
END:VEVENT
BEGIN:VEVENT
DTSTART;TZID=America/Los_Angeles:20251108T080000
DTEND;TZID=America/Los_Angeles:20251108T090000
DTSTAMP:20260423T171753
CREATED:20251103T194928Z
LAST-MODIFIED:20251103T194944Z
UID:31456-1762588800-1762592400@www.ghcc4u.org
SUMMARY:Men's Bible Study
DESCRIPTION:Join us for faith and fellowship as we gather to talk about what genuine discipleship looks like in our lives as Christian men.\nWe meet at 8:00am in the Family Life Center (FLC) on the GHCC campus.
URL:https://www.ghcc4u.org/event/mens-bible-study-2025-14/
LOCATION:Granada Hills Community Church\, 11263 Balboa Blvd\, Granada Hills\, CA\, 91344\, United States
CATEGORIES:Men's Ministry
ATTACH;FMTTYPE=image/jpeg:https://www.ghcc4u.org/wp-content/uploads/2022/09/mens-bible-study.jpg
END:VEVENT
BEGIN:VEVENT
DTSTART;TZID=America/Los_Angeles:20251106T094500
DTEND;TZID=America/Los_Angeles:20251106T113000
DTSTAMP:20260423T171753
CREATED:20251103T200756Z
LAST-MODIFIED:20251103T200808Z
UID:31476-1762422300-1762428600@www.ghcc4u.org
SUMMARY:Thursday Morning Women's Christmas Book Study
DESCRIPTION:The very first Christmas changed everything! The baby in the manger was and is Emmanuel\, God with us.\nIn this 4-week study we will be reading and discussing this life-changing message together. It is biblical character study of everyone involved in the nativity with practical application for today.
URL:https://www.ghcc4u.org/event/thursday-morning-womens-christmas-book-study-2025-01/
LOCATION:Granada Hills Community Church\, 11263 Balboa Blvd\, Granada Hills\, CA\, 91344\, United States
CATEGORIES:Women's Ministry
ATTACH;FMTTYPE=image/jpeg:https://www.ghcc4u.org/wp-content/uploads/2025/11/elise-morgan.jpg
END:VEVENT
BEGIN:VEVENT
DTSTART;TZID=America/Los_Angeles:20251105T183000
DTEND;TZID=America/Los_Angeles:20251105T200000
DTSTAMP:20260423T171753
CREATED:20251103T200207Z
LAST-MODIFIED:20251103T200339Z
UID:31467-1762367400-1762372800@www.ghcc4u.org
SUMMARY:Wednesday Night Women's Christmas Book Study
DESCRIPTION:The very first Christmas changed everything! The baby in the manger was and is Emmanuel\, God with us.\nIn this 4-week study we will be reading and discussing this life-changing message together. It is biblical character study of everyone involved in the nativity with practical application for today.
URL:https://www.ghcc4u.org/event/wednesday-night-womens-christmas-book-study-2025-01/
LOCATION:Granada Hills Community Church\, 11263 Balboa Blvd\, Granada Hills\, CA\, 91344\, United States
CATEGORIES:Women's Ministry
ATTACH;FMTTYPE=image/jpeg:https://www.ghcc4u.org/wp-content/uploads/2025/11/elise-morgan.jpg
END:VEVENT
BEGIN:VEVENT
DTSTART;TZID=America/Los_Angeles:20251105T180000
DTEND;TZID=America/Los_Angeles:20251105T200000
DTSTAMP:20260423T171753
CREATED:20251103T195016Z
LAST-MODIFIED:20251103T195030Z
UID:31458-1762365600-1762372800@www.ghcc4u.org
SUMMARY:Wednesday Night Youth Group
DESCRIPTION:Please join us for a great evening of fun activities\, pizza\, and study in God’s word!
URL:https://www.ghcc4u.org/event/wednesday-night-youth-group-2025-30/
LOCATION:Granada Hills Community Church\, 11263 Balboa Blvd\, Granada Hills\, CA\, 91344\, United States
CATEGORIES:Youth Ministry
ATTACH;FMTTYPE=image/jpeg:https://www.ghcc4u.org/wp-content/uploads/2022/09/youth.jpg
END:VEVENT
BEGIN:VEVENT
DTSTART;TZID=America/Los_Angeles:20251030T094500
DTEND;TZID=America/Los_Angeles:20251030T113000
DTSTAMP:20260423T171753
CREATED:20250929T173402Z
LAST-MODIFIED:20250929T173419Z
UID:31350-1761817500-1761823800@www.ghcc4u.org
SUMMARY:Thursday Morning Women's Fall Bible Study
DESCRIPTION:“Nobody can take away from you those texts from the Bible which you have learned by heart.” — Corrie ten Boom\nHave you ever said\, “I wish I could memorize Scripture but it’s just too hard for me!”? This 8-week study is designed to guide us through a simple method that will help us. The study centers on the very rich passage of Philippians 4:4-9. We hope you will pray about joining us for this encouraging and fun study.
URL:https://www.ghcc4u.org/event/thursday-morning-womens-fall-bible-study-2025-08/
LOCATION:Granada Hills Community Church\, 11263 Balboa Blvd\, Granada Hills\, CA\, 91344\, United States
CATEGORIES:Women's Ministry
ATTACH;FMTTYPE=image/jpeg:https://www.ghcc4u.org/wp-content/uploads/2025/09/dwell.jpg
END:VEVENT
BEGIN:VEVENT
DTSTART;TZID=America/Los_Angeles:20251029T183000
DTEND;TZID=America/Los_Angeles:20251029T200000
DTSTAMP:20260423T171753
CREATED:20250929T172834Z
LAST-MODIFIED:20250929T172850Z
UID:31334-1761762600-1761768000@www.ghcc4u.org
SUMMARY:Wednesday Night Women's Fall Bible Study
DESCRIPTION:“Nobody can take away from you those texts from the Bible which you have learned by heart.” — Corrie ten Boom\nHave you ever said\, “I wish I could memorize Scripture but it’s just too hard for me!”? This 8-week study is designed to guide us through a simple method that will help us. The study centers on the very rich passage of Philippians 4:4-9. We hope you will pray about joining us for this encouraging and fun study.
URL:https://www.ghcc4u.org/event/wednesday-night-womens-fall-bible-study-2025-08/
LOCATION:Granada Hills Community Church\, 11263 Balboa Blvd\, Granada Hills\, CA\, 91344\, United States
CATEGORIES:Women's Ministry
ATTACH;FMTTYPE=image/jpeg:https://www.ghcc4u.org/wp-content/uploads/2025/09/dwell.jpg
END:VEVENT
BEGIN:VEVENT
DTSTART;TZID=America/Los_Angeles:20251029T180000
DTEND;TZID=America/Los_Angeles:20251029T200000
DTSTAMP:20260423T171753
CREATED:20250929T170656Z
LAST-MODIFIED:20250929T170711Z
UID:31317-1761760800-1761768000@www.ghcc4u.org
SUMMARY:Wednesday Night Youth Group
DESCRIPTION:Please join us for a great evening of fun activities\, pizza\, and study in God’s word!
URL:https://www.ghcc4u.org/event/wednesday-night-youth-group-2025-29/
LOCATION:Granada Hills Community Church\, 11263 Balboa Blvd\, Granada Hills\, CA\, 91344\, United States
CATEGORIES:Youth Ministry
ATTACH;FMTTYPE=image/jpeg:https://www.ghcc4u.org/wp-content/uploads/2022/09/youth.jpg
END:VEVENT
BEGIN:VEVENT
DTSTART;TZID=America/Los_Angeles:20251025T080000
DTEND;TZID=America/Los_Angeles:20251025T090000
DTSTAMP:20260423T171753
CREATED:20250929T175046Z
LAST-MODIFIED:20250929T175104Z
UID:31358-1761379200-1761382800@www.ghcc4u.org
SUMMARY:Men's Bible Study
DESCRIPTION:Join us for faith and fellowship as we gather to talk about what genuine discipleship looks like in our lives as Christian men.\nWe meet at 8:00am in the Family Life Center (FLC) on the GHCC campus.
URL:https://www.ghcc4u.org/event/mens-bible-study-2025-13/
LOCATION:Granada Hills Community Church\, 11263 Balboa Blvd\, Granada Hills\, CA\, 91344\, United States
CATEGORIES:Men's Ministry
ATTACH;FMTTYPE=image/jpeg:https://www.ghcc4u.org/wp-content/uploads/2022/09/mens-bible-study.jpg
END:VEVENT
BEGIN:VEVENT
DTSTART;TZID=America/Los_Angeles:20251023T094500
DTEND;TZID=America/Los_Angeles:20251023T113000
DTSTAMP:20260423T171753
CREATED:20250929T173326Z
LAST-MODIFIED:20250929T173336Z
UID:31348-1761212700-1761219000@www.ghcc4u.org
SUMMARY:Thursday Morning Women's Fall Bible Study
DESCRIPTION:“Nobody can take away from you those texts from the Bible which you have learned by heart.” — Corrie ten Boom\nHave you ever said\, “I wish I could memorize Scripture but it’s just too hard for me!”? This 8-week study is designed to guide us through a simple method that will help us. The study centers on the very rich passage of Philippians 4:4-9. We hope you will pray about joining us for this encouraging and fun study.
URL:https://www.ghcc4u.org/event/thursday-morning-womens-fall-bible-study-2025-07/
LOCATION:Granada Hills Community Church\, 11263 Balboa Blvd\, Granada Hills\, CA\, 91344\, United States
CATEGORIES:Women's Ministry
ATTACH;FMTTYPE=image/jpeg:https://www.ghcc4u.org/wp-content/uploads/2025/09/dwell.jpg
END:VEVENT
BEGIN:VEVENT
DTSTART;TZID=America/Los_Angeles:20251022T183000
DTEND;TZID=America/Los_Angeles:20251022T200000
DTSTAMP:20260423T171753
CREATED:20250929T172807Z
LAST-MODIFIED:20250929T172819Z
UID:31332-1761157800-1761163200@www.ghcc4u.org
SUMMARY:Wednesday Night Women's Fall Bible Study
DESCRIPTION:“Nobody can take away from you those texts from the Bible which you have learned by heart.” — Corrie ten Boom\nHave you ever said\, “I wish I could memorize Scripture but it’s just too hard for me!”? This 8-week study is designed to guide us through a simple method that will help us. The study centers on the very rich passage of Philippians 4:4-9. We hope you will pray about joining us for this encouraging and fun study.
URL:https://www.ghcc4u.org/event/wednesday-night-womens-fall-bible-study-2025-07/
LOCATION:Granada Hills Community Church\, 11263 Balboa Blvd\, Granada Hills\, CA\, 91344\, United States
CATEGORIES:Women's Ministry
ATTACH;FMTTYPE=image/jpeg:https://www.ghcc4u.org/wp-content/uploads/2025/09/dwell.jpg
END:VEVENT
BEGIN:VEVENT
DTSTART;TZID=America/Los_Angeles:20251022T180000
DTEND;TZID=America/Los_Angeles:20251022T200000
DTSTAMP:20260423T171753
CREATED:20250929T170630Z
LAST-MODIFIED:20250929T170642Z
UID:31315-1761156000-1761163200@www.ghcc4u.org
SUMMARY:Wednesday Night Youth Group
DESCRIPTION:Please join us for a great evening of fun activities\, pizza\, and study in God’s word!
URL:https://www.ghcc4u.org/event/wednesday-night-youth-group-2025-28/
LOCATION:Granada Hills Community Church\, 11263 Balboa Blvd\, Granada Hills\, CA\, 91344\, United States
CATEGORIES:Youth Ministry
ATTACH;FMTTYPE=image/jpeg:https://www.ghcc4u.org/wp-content/uploads/2022/09/youth.jpg
END:VEVENT
BEGIN:VEVENT
DTSTART;TZID=America/Los_Angeles:20251016T094500
DTEND;TZID=America/Los_Angeles:20251016T113000
DTSTAMP:20260423T171753
CREATED:20250929T173259Z
LAST-MODIFIED:20250929T173311Z
UID:31346-1760607900-1760614200@www.ghcc4u.org
SUMMARY:Thursday Morning Women's Fall Bible Study
DESCRIPTION:“Nobody can take away from you those texts from the Bible which you have learned by heart.” — Corrie ten Boom\nHave you ever said\, “I wish I could memorize Scripture but it’s just too hard for me!”? This 8-week study is designed to guide us through a simple method that will help us. The study centers on the very rich passage of Philippians 4:4-9. We hope you will pray about joining us for this encouraging and fun study.
URL:https://www.ghcc4u.org/event/thursday-morning-womens-fall-bible-study-2025-06/
LOCATION:Granada Hills Community Church\, 11263 Balboa Blvd\, Granada Hills\, CA\, 91344\, United States
CATEGORIES:Women's Ministry
ATTACH;FMTTYPE=image/jpeg:https://www.ghcc4u.org/wp-content/uploads/2025/09/dwell.jpg
END:VEVENT
BEGIN:VEVENT
DTSTART;TZID=America/Los_Angeles:20251015T183000
DTEND;TZID=America/Los_Angeles:20251015T200000
DTSTAMP:20260423T171753
CREATED:20250929T172741Z
LAST-MODIFIED:20250929T172752Z
UID:31330-1760553000-1760558400@www.ghcc4u.org
SUMMARY:Wednesday Night Women's Fall Bible Study
DESCRIPTION:“Nobody can take away from you those texts from the Bible which you have learned by heart.” — Corrie ten Boom\nHave you ever said\, “I wish I could memorize Scripture but it’s just too hard for me!”? This 8-week study is designed to guide us through a simple method that will help us. The study centers on the very rich passage of Philippians 4:4-9. We hope you will pray about joining us for this encouraging and fun study.
URL:https://www.ghcc4u.org/event/wednesday-night-womens-fall-bible-study-2025-06/
LOCATION:Granada Hills Community Church\, 11263 Balboa Blvd\, Granada Hills\, CA\, 91344\, United States
CATEGORIES:Women's Ministry
ATTACH;FMTTYPE=image/jpeg:https://www.ghcc4u.org/wp-content/uploads/2025/09/dwell.jpg
END:VEVENT
BEGIN:VEVENT
DTSTART;TZID=America/Los_Angeles:20251015T180000
DTEND;TZID=America/Los_Angeles:20251015T200000
DTSTAMP:20260423T171753
CREATED:20250929T170600Z
LAST-MODIFIED:20250929T170616Z
UID:31313-1760551200-1760558400@www.ghcc4u.org
SUMMARY:Wednesday Night Youth Group
DESCRIPTION:Please join us for a great evening of fun activities\, pizza\, and study in God’s word!
URL:https://www.ghcc4u.org/event/wednesday-night-youth-group-2025-27/
LOCATION:Granada Hills Community Church\, 11263 Balboa Blvd\, Granada Hills\, CA\, 91344\, United States
CATEGORIES:Youth Ministry
ATTACH;FMTTYPE=image/jpeg:https://www.ghcc4u.org/wp-content/uploads/2022/09/youth.jpg
END:VEVENT
BEGIN:VEVENT
DTSTART;TZID=America/Los_Angeles:20251011T080000
DTEND;TZID=America/Los_Angeles:20251011T090000
DTSTAMP:20260423T171753
CREATED:20250929T175016Z
LAST-MODIFIED:20250929T175032Z
UID:31356-1760169600-1760173200@www.ghcc4u.org
SUMMARY:Men's Bible Study
DESCRIPTION:Join us for faith and fellowship as we gather to talk about what genuine discipleship looks like in our lives as Christian men.\nWe meet at 8:00am in the Family Life Center (FLC) on the GHCC campus.
URL:https://www.ghcc4u.org/event/mens-bible-study-2025-12/
LOCATION:Granada Hills Community Church\, 11263 Balboa Blvd\, Granada Hills\, CA\, 91344\, United States
CATEGORIES:Men's Ministry
ATTACH;FMTTYPE=image/jpeg:https://www.ghcc4u.org/wp-content/uploads/2022/09/mens-bible-study.jpg
END:VEVENT
BEGIN:VEVENT
DTSTART;TZID=America/Los_Angeles:20251009T094500
DTEND;TZID=America/Los_Angeles:20251009T113000
DTSTAMP:20260423T171753
CREATED:20250929T173234Z
LAST-MODIFIED:20250929T173246Z
UID:31344-1760003100-1760009400@www.ghcc4u.org
SUMMARY:Thursday Morning Women's Fall Bible Study
DESCRIPTION:“Nobody can take away from you those texts from the Bible which you have learned by heart.” — Corrie ten Boom\nHave you ever said\, “I wish I could memorize Scripture but it’s just too hard for me!”? This 8-week study is designed to guide us through a simple method that will help us. The study centers on the very rich passage of Philippians 4:4-9. We hope you will pray about joining us for this encouraging and fun study.
URL:https://www.ghcc4u.org/event/thursday-morning-womens-fall-bible-study-2025-05/
LOCATION:Granada Hills Community Church\, 11263 Balboa Blvd\, Granada Hills\, CA\, 91344\, United States
CATEGORIES:Women's Ministry
ATTACH;FMTTYPE=image/jpeg:https://www.ghcc4u.org/wp-content/uploads/2025/09/dwell.jpg
END:VEVENT
BEGIN:VEVENT
DTSTART;TZID=America/Los_Angeles:20251008T183000
DTEND;TZID=America/Los_Angeles:20251008T200000
DTSTAMP:20260423T171753
CREATED:20250929T172714Z
LAST-MODIFIED:20250929T172727Z
UID:31328-1759948200-1759953600@www.ghcc4u.org
SUMMARY:Wednesday Night Women's Fall Bible Study
DESCRIPTION:“Nobody can take away from you those texts from the Bible which you have learned by heart.” — Corrie ten Boom\nHave you ever said\, “I wish I could memorize Scripture but it’s just too hard for me!”? This 8-week study is designed to guide us through a simple method that will help us. The study centers on the very rich passage of Philippians 4:4-9. We hope you will pray about joining us for this encouraging and fun study.
URL:https://www.ghcc4u.org/event/wednesday-night-womens-fall-bible-study-2025-05/
LOCATION:Granada Hills Community Church\, 11263 Balboa Blvd\, Granada Hills\, CA\, 91344\, United States
CATEGORIES:Women's Ministry
ATTACH;FMTTYPE=image/jpeg:https://www.ghcc4u.org/wp-content/uploads/2025/09/dwell.jpg
END:VEVENT
BEGIN:VEVENT
DTSTART;TZID=America/Los_Angeles:20251008T180000
DTEND;TZID=America/Los_Angeles:20251008T200000
DTSTAMP:20260423T171753
CREATED:20250929T170532Z
LAST-MODIFIED:20250929T170546Z
UID:31311-1759946400-1759953600@www.ghcc4u.org
SUMMARY:Wednesday Night Youth Group
DESCRIPTION:Please join us for a great evening of fun activities\, pizza\, and study in God’s word!
URL:https://www.ghcc4u.org/event/wednesday-night-youth-group-2025-26/
LOCATION:Granada Hills Community Church\, 11263 Balboa Blvd\, Granada Hills\, CA\, 91344\, United States
CATEGORIES:Youth Ministry
ATTACH;FMTTYPE=image/jpeg:https://www.ghcc4u.org/wp-content/uploads/2022/09/youth.jpg
END:VEVENT
END:VCALENDAR