BEGIN:VCALENDAR
VERSION:2.0
PRODID:-//Granada Hills Community Church - ECPv6.15.20//NONSGML v1.0//EN
CALSCALE:GREGORIAN
METHOD:PUBLISH
X-WR-CALNAME:Granada Hills Community Church
X-ORIGINAL-URL:https://www.ghcc4u.org
X-WR-CALDESC:Events for Granada Hills Community Church
REFRESH-INTERVAL;VALUE=DURATION:PT1H
X-Robots-Tag:noindex
X-PUBLISHED-TTL:PT1H
BEGIN:VTIMEZONE
TZID:America/Los_Angeles
BEGIN:DAYLIGHT
TZOFFSETFROM:-0800
TZOFFSETTO:-0700
TZNAME:PDT
DTSTART:20170312T100000
END:DAYLIGHT
BEGIN:STANDARD
TZOFFSETFROM:-0700
TZOFFSETTO:-0800
TZNAME:PST
DTSTART:20171105T090000
END:STANDARD
BEGIN:DAYLIGHT
TZOFFSETFROM:-0800
TZOFFSETTO:-0700
TZNAME:PDT
DTSTART:20180311T100000
END:DAYLIGHT
BEGIN:STANDARD
TZOFFSETFROM:-0700
TZOFFSETTO:-0800
TZNAME:PST
DTSTART:20181104T090000
END:STANDARD
BEGIN:DAYLIGHT
TZOFFSETFROM:-0800
TZOFFSETTO:-0700
TZNAME:PDT
DTSTART:20190310T100000
END:DAYLIGHT
BEGIN:STANDARD
TZOFFSETFROM:-0700
TZOFFSETTO:-0800
TZNAME:PST
DTSTART:20191103T090000
END:STANDARD
END:VTIMEZONE
BEGIN:VEVENT
DTSTART;TZID=America/Los_Angeles:20181027T140000
DTEND;TZID=America/Los_Angeles:20181027T160000
DTSTAMP:20260424T184952
CREATED:20181008T200629Z
LAST-MODIFIED:20181008T200700Z
UID:28361-1540648800-1540656000@www.ghcc4u.org
SUMMARY:Youth Group @ Silent Spooky Movie
DESCRIPTION:Please join our youth group as we take in a silent spooky movie on a vintage hand-cranked projector with live organ accompaniment at the Nethercutt Collection!\nThe event will start at 2:00pm at the Nethercutt Collection: 15151 Bledsoe St\, Sylmar\, CA 91342.
URL:https://www.ghcc4u.org/event/youth-group-at-silent-spooky-movie-2018-01/
LOCATION:Nethercutt Collection\, 15151 Bledsoe St\, Sylmar\, CA\, 91342\, United States
CATEGORIES:Youth Ministry
ATTACH;FMTTYPE=image/jpeg:https://www.ghcc4u.org/wp-content/uploads/2018/10/film-projector.jpg
END:VEVENT
BEGIN:VEVENT
DTSTART;TZID=America/Los_Angeles:20181024T180000
DTEND;TZID=America/Los_Angeles:20181024T200000
DTSTAMP:20260424T184952
CREATED:20180905T180712Z
LAST-MODIFIED:20180905T180732Z
UID:28296-1540404000-1540411200@www.ghcc4u.org
SUMMARY:Wednesday Night Youth Group
DESCRIPTION:Please join us for a great evening of fun activities\, pizza\, and study in God’s word!
URL:https://www.ghcc4u.org/event/wednesday-night-youth-group-2018-29/
LOCATION:Granada Hills Community Church\, 11263 Balboa Blvd\, Granada Hills\, CA\, 91344\, United States
CATEGORIES:Youth Ministry
END:VEVENT
BEGIN:VEVENT
DTSTART;TZID=America/Los_Angeles:20181017T180000
DTEND;TZID=America/Los_Angeles:20181017T200000
DTSTAMP:20260424T184952
CREATED:20180905T180619Z
LAST-MODIFIED:20180905T180650Z
UID:28294-1539799200-1539806400@www.ghcc4u.org
SUMMARY:Wednesday Night Youth Group
DESCRIPTION:Please join us for a great evening of fun activities\, pizza\, and study in God’s word!
URL:https://www.ghcc4u.org/event/wednesday-night-youth-group-2018-28/
LOCATION:Granada Hills Community Church\, 11263 Balboa Blvd\, Granada Hills\, CA\, 91344\, United States
CATEGORIES:Youth Ministry
END:VEVENT
BEGIN:VEVENT
DTSTART;TZID=America/Los_Angeles:20181010T180000
DTEND;TZID=America/Los_Angeles:20181010T200000
DTSTAMP:20260424T184952
CREATED:20180905T180528Z
LAST-MODIFIED:20180905T180553Z
UID:28292-1539194400-1539201600@www.ghcc4u.org
SUMMARY:Wednesday Night Youth Group
DESCRIPTION:Please join us for a great evening of fun activities\, pizza\, and study in God’s word!
URL:https://www.ghcc4u.org/event/wednesday-night-youth-group-2018-27/
LOCATION:Granada Hills Community Church\, 11263 Balboa Blvd\, Granada Hills\, CA\, 91344\, United States
CATEGORIES:Youth Ministry
END:VEVENT
BEGIN:VEVENT
DTSTART;TZID=America/Los_Angeles:20181003T180000
DTEND;TZID=America/Los_Angeles:20181003T200000
DTSTAMP:20260424T184952
CREATED:20180905T180439Z
LAST-MODIFIED:20180905T180505Z
UID:28290-1538589600-1538596800@www.ghcc4u.org
SUMMARY:Wednesday Night Youth Group
DESCRIPTION:Please join us for a great evening of fun activities\, pizza\, and study in God’s word!
URL:https://www.ghcc4u.org/event/wednesday-night-youth-group-2018-26/
LOCATION:Granada Hills Community Church\, 11263 Balboa Blvd\, Granada Hills\, CA\, 91344\, United States
CATEGORIES:Youth Ministry
END:VEVENT
BEGIN:VEVENT
DTSTART;TZID=America/Los_Angeles:20180926T180000
DTEND;TZID=America/Los_Angeles:20180926T200000
DTSTAMP:20260424T184952
CREATED:20180905T163553Z
LAST-MODIFIED:20180905T163615Z
UID:28234-1537984800-1537992000@www.ghcc4u.org
SUMMARY:Wednesday Night Youth Group
DESCRIPTION:Please join us for a great evening of fun activities\, pizza\, and study in God’s word!
URL:https://www.ghcc4u.org/event/wednesday-night-youth-group-2018-25/
LOCATION:Granada Hills Community Church\, 11263 Balboa Blvd\, Granada Hills\, CA\, 91344\, United States
CATEGORIES:Youth Ministry
END:VEVENT
BEGIN:VEVENT
DTSTART;TZID=America/Los_Angeles:20180919T180000
DTEND;TZID=America/Los_Angeles:20180919T200000
DTSTAMP:20260424T184952
CREATED:20180905T173112Z
LAST-MODIFIED:20180905T182637Z
UID:28240-1537380000-1537387200@www.ghcc4u.org
SUMMARY:Youth Group @ Amazing Escape Room
DESCRIPTION:Our youth group will put our brains together to find clues that will lead to a way to escape a locked room!\nThe event will start at 6:00pm at Amazing Escape Room: 16933 Parthenia St #100 North Hills CA 91343.
URL:https://www.ghcc4u.org/event/youth-group-at-amazing-escape-room-2018-01/
LOCATION:Amazing Escape Room\, 16933 Parthenia St #100\, North Hills\, CA\, 91343\, United States
CATEGORIES:Youth Ministry
ATTACH;FMTTYPE=image/jpeg:https://www.ghcc4u.org/wp-content/uploads/2018/09/escape-room.jpg
END:VEVENT
BEGIN:VEVENT
DTSTART;TZID=America/Los_Angeles:20180912T180000
DTEND;TZID=America/Los_Angeles:20180912T200000
DTSTAMP:20260424T184952
CREATED:20180905T163457Z
LAST-MODIFIED:20180905T163520Z
UID:28232-1536775200-1536782400@www.ghcc4u.org
SUMMARY:Wednesday Night Youth Group
DESCRIPTION:Please join us for a great evening of fun activities\, pizza\, and study in God’s word!
URL:https://www.ghcc4u.org/event/wednesday-night-youth-group-2018-24/
LOCATION:Granada Hills Community Church\, 11263 Balboa Blvd\, Granada Hills\, CA\, 91344\, United States
CATEGORIES:Youth Ministry
END:VEVENT
BEGIN:VEVENT
DTSTART;TZID=America/Los_Angeles:20180908T130000
DTEND;TZID=America/Los_Angeles:20180908T160000
DTSTAMP:20260424T184952
CREATED:20180905T163752Z
LAST-MODIFIED:20180905T173405Z
UID:28236-1536411600-1536422400@www.ghcc4u.org
SUMMARY:Youth Pool Party
DESCRIPTION:Come join us for a great time of food and fun in the pool!\nThe event will start at 1:00pm at Elias & Renee Barbinis’ home: 10038 Collett Ave North Hills CA 91343.
URL:https://www.ghcc4u.org/event/youth-pool-party-2018-1/
LOCATION:Elias & Renee Barbinis Home\, 10038 Collett Ave\, North Hills\, CA\, 91343\, United States
CATEGORIES:Youth Ministry
END:VEVENT
BEGIN:VEVENT
DTSTART;TZID=America/Los_Angeles:20180905T180000
DTEND;TZID=America/Los_Angeles:20180905T200000
DTSTAMP:20260424T184952
CREATED:20180905T163402Z
LAST-MODIFIED:20180905T163424Z
UID:28230-1536170400-1536177600@www.ghcc4u.org
SUMMARY:Wednesday Night Youth Group
DESCRIPTION:Please join us for a great evening of fun activities\, pizza\, and study in God’s word!
URL:https://www.ghcc4u.org/event/wednesday-night-youth-group-2018-23/
LOCATION:Granada Hills Community Church\, 11263 Balboa Blvd\, Granada Hills\, CA\, 91344\, United States
CATEGORIES:Youth Ministry
END:VEVENT
BEGIN:VEVENT
DTSTART;TZID=America/Los_Angeles:20180829T180000
DTEND;TZID=America/Los_Angeles:20180829T200000
DTSTAMP:20260424T184952
CREATED:20180730T174535Z
LAST-MODIFIED:20180730T174556Z
UID:28174-1535565600-1535572800@www.ghcc4u.org
SUMMARY:Wednesday Night Youth Group
DESCRIPTION:Please join us for a great evening of fun activities\, pizza\, and study in God’s word!
URL:https://www.ghcc4u.org/event/wednesday-night-youth-group-2018-22/
LOCATION:Granada Hills Community Church\, 11263 Balboa Blvd\, Granada Hills\, CA\, 91344\, United States
CATEGORIES:Youth Ministry
END:VEVENT
BEGIN:VEVENT
DTSTART;TZID=America/Los_Angeles:20180822T180000
DTEND;TZID=America/Los_Angeles:20180822T200000
DTSTAMP:20260424T184952
CREATED:20180730T174434Z
LAST-MODIFIED:20180730T174513Z
UID:28172-1534960800-1534968000@www.ghcc4u.org
SUMMARY:Wednesday Night Youth Group
DESCRIPTION:Please join us for a great evening of fun activities\, pizza\, and study in God’s word!
URL:https://www.ghcc4u.org/event/wednesday-night-youth-group-2018-21/
LOCATION:Granada Hills Community Church\, 11263 Balboa Blvd\, Granada Hills\, CA\, 91344\, United States
CATEGORIES:Youth Ministry
END:VEVENT
BEGIN:VEVENT
DTSTART;TZID=America/Los_Angeles:20180815T180000
DTEND;TZID=America/Los_Angeles:20180815T200000
DTSTAMP:20260424T184952
CREATED:20180730T173747Z
LAST-MODIFIED:20180730T174056Z
UID:28170-1534356000-1534363200@www.ghcc4u.org
SUMMARY:Wednesday Night Youth Group
DESCRIPTION:Please join us for a great evening of fun activities\, pizza\, and study in God’s word!
URL:https://www.ghcc4u.org/event/wednesday-night-youth-group-2018-20/
LOCATION:Granada Hills Community Church\, 11263 Balboa Blvd\, Granada Hills\, CA\, 91344\, United States
CATEGORIES:Youth Ministry
END:VEVENT
BEGIN:VEVENT
DTSTART;TZID=America/Los_Angeles:20180630T150000
DTEND;TZID=America/Los_Angeles:20180630T180000
DTSTAMP:20260424T184952
CREATED:20180531T233920Z
LAST-MODIFIED:20180531T233946Z
UID:28112-1530370800-1530381600@www.ghcc4u.org
SUMMARY:Youth Friends & Family BBQ
DESCRIPTION:Please come join us for food\, fun\, and fellowship at this summer’s Youth Friends & Family BBQ!\nAll GHCC Youth Group families are encouraged to reach out and invite neighbors and friends!
URL:https://www.ghcc4u.org/event/youth-friends-and-family-bbq-2018-1/
LOCATION:Granada Hills Community Church\, 11263 Balboa Blvd\, Granada Hills\, CA\, 91344\, United States
CATEGORIES:Youth Ministry
END:VEVENT
BEGIN:VEVENT
DTSTART;TZID=America/Los_Angeles:20180616T110000
DTEND;TZID=America/Los_Angeles:20180616T180000
DTSTAMP:20260424T184952
CREATED:20180531T234117Z
LAST-MODIFIED:20180531T234141Z
UID:28114-1529146800-1529172000@www.ghcc4u.org
SUMMARY:Youth Beach Day
DESCRIPTION:Please come join us for some fun in the sun for our Youth Beach Day!
URL:https://www.ghcc4u.org/event/youth-beach-day-2018-1/
LOCATION:Granada Hills Community Church\, 11263 Balboa Blvd\, Granada Hills\, CA\, 91344\, United States
CATEGORIES:Youth Ministry
END:VEVENT
BEGIN:VEVENT
DTSTART;TZID=America/Los_Angeles:20180606T180000
DTEND;TZID=America/Los_Angeles:20180606T203000
DTSTAMP:20260424T184952
CREATED:20180531T225052Z
LAST-MODIFIED:20180531T225115Z
UID:28070-1528308000-1528317000@www.ghcc4u.org
SUMMARY:Youth Movie Night
DESCRIPTION:Come join us for a fun evening of pizza\, snacks\, and a movie!
URL:https://www.ghcc4u.org/event/youth-movie-night-2018-1/
LOCATION:Granada Hills Community Church\, 11263 Balboa Blvd\, Granada Hills\, CA\, 91344\, United States
CATEGORIES:Youth Ministry
END:VEVENT
BEGIN:VEVENT
DTSTART;TZID=America/Los_Angeles:20180530T180000
DTEND;TZID=America/Los_Angeles:20180530T200000
DTSTAMP:20260424T184952
CREATED:20180502T174411Z
LAST-MODIFIED:20180502T174439Z
UID:28016-1527703200-1527710400@www.ghcc4u.org
SUMMARY:Wednesday Night Youth Group
DESCRIPTION:Please join us for a great evening of fun activities\, pizza\, and study in God’s word!
URL:https://www.ghcc4u.org/event/wednesday-night-youth-group-2018-19/
LOCATION:Granada Hills Community Church\, 11263 Balboa Blvd\, Granada Hills\, CA\, 91344\, United States
CATEGORIES:Youth Ministry
END:VEVENT
BEGIN:VEVENT
DTSTART;TZID=America/Los_Angeles:20180516T180000
DTEND;TZID=America/Los_Angeles:20180516T200000
DTSTAMP:20260424T184952
CREATED:20180502T174124Z
LAST-MODIFIED:20180502T174450Z
UID:28014-1526493600-1526500800@www.ghcc4u.org
SUMMARY:Wednesday Night Youth Group
DESCRIPTION:Please join us for a great evening of fun activities\, pizza\, and study in God’s word!
URL:https://www.ghcc4u.org/event/wednesday-night-youth-group-2018-18/
LOCATION:Granada Hills Community Church\, 11263 Balboa Blvd\, Granada Hills\, CA\, 91344\, United States
CATEGORIES:Youth Ministry
END:VEVENT
BEGIN:VEVENT
DTSTART;TZID=America/Los_Angeles:20180509T180000
DTEND;TZID=America/Los_Angeles:20180509T200000
DTSTAMP:20260424T184952
CREATED:20180502T174037Z
LAST-MODIFIED:20180502T174100Z
UID:28012-1525888800-1525896000@www.ghcc4u.org
SUMMARY:Wednesday Night Youth Group
DESCRIPTION:Please join us for a great evening of fun activities\, pizza\, and study in God’s word!
URL:https://www.ghcc4u.org/event/wednesday-night-youth-group-2018-17/
LOCATION:Granada Hills Community Church\, 11263 Balboa Blvd\, Granada Hills\, CA\, 91344\, United States
CATEGORIES:Youth Ministry
END:VEVENT
BEGIN:VEVENT
DTSTART;TZID=America/Los_Angeles:20180502T180000
DTEND;TZID=America/Los_Angeles:20180502T200000
DTSTAMP:20260424T184952
CREATED:20180502T173937Z
LAST-MODIFIED:20180502T174009Z
UID:28010-1525284000-1525291200@www.ghcc4u.org
SUMMARY:Wednesday Night Youth Group
DESCRIPTION:Please join us for a great evening of fun activities\, pizza\, and study in God’s word!
URL:https://www.ghcc4u.org/event/wednesday-night-youth-group-2018-16/
LOCATION:Granada Hills Community Church\, 11263 Balboa Blvd\, Granada Hills\, CA\, 91344\, United States
CATEGORIES:Youth Ministry
END:VEVENT
BEGIN:VEVENT
DTSTART;TZID=America/Los_Angeles:20180425T180000
DTEND;TZID=America/Los_Angeles:20180425T200000
DTSTAMP:20260424T184952
CREATED:20180328T171725Z
LAST-MODIFIED:20180328T171751Z
UID:27969-1524679200-1524686400@www.ghcc4u.org
SUMMARY:Wednesday Night Youth Group
DESCRIPTION:Please join us for a great evening of fun activities\, pizza\, and study in God’s word!
URL:https://www.ghcc4u.org/event/wednesday-night-youth-group-2018-15/
LOCATION:Granada Hills Community Church\, 11263 Balboa Blvd\, Granada Hills\, CA\, 91344\, United States
CATEGORIES:Youth Ministry
END:VEVENT
BEGIN:VEVENT
DTSTART;TZID=America/Los_Angeles:20180418T180000
DTEND;TZID=America/Los_Angeles:20180418T200000
DTSTAMP:20260424T184952
CREATED:20180328T171622Z
LAST-MODIFIED:20180328T171657Z
UID:27967-1524074400-1524081600@www.ghcc4u.org
SUMMARY:Wednesday Night Youth Group
DESCRIPTION:Please join us for a great evening of fun activities\, pizza\, and study in God’s word!
URL:https://www.ghcc4u.org/event/wednesday-night-youth-group-2018-14/
LOCATION:Granada Hills Community Church\, 11263 Balboa Blvd\, Granada Hills\, CA\, 91344\, United States
CATEGORIES:Youth Ministry
END:VEVENT
BEGIN:VEVENT
DTSTART;TZID=America/Los_Angeles:20180413T180000
DTEND;TZID=America/Los_Angeles:20180413T210000
DTSTAMP:20260424T184952
CREATED:20180328T201635Z
LAST-MODIFIED:20180328T202021Z
UID:27994-1523642400-1523653200@www.ghcc4u.org
SUMMARY:Youth Group @ Silver Ring Thing 2018
DESCRIPTION:Please come first to the church at 6:00pm. We will then carpool together to The Bridge Bible Fellowship campus located at:\n18644 Sherman Way\, Reseda\, CA 91335.
URL:https://www.ghcc4u.org/event/youth-group-%40-silver-ring-thing-2018-1/
LOCATION:Granada Hills Community Church\, 11263 Balboa Blvd\, Granada Hills\, CA\, 91344\, United States
CATEGORIES:Youth Ministry
END:VEVENT
BEGIN:VEVENT
DTSTART;TZID=America/Los_Angeles:20180411T180000
DTEND;TZID=America/Los_Angeles:20180411T200000
DTSTAMP:20260424T184952
CREATED:20180328T171513Z
LAST-MODIFIED:20180328T171554Z
UID:27965-1523469600-1523476800@www.ghcc4u.org
SUMMARY:Wednesday Night Youth Group
DESCRIPTION:Please join us for a great evening of fun activities\, pizza\, and study in God’s word!
URL:https://www.ghcc4u.org/event/wednesday-night-youth-group-2018-13/
LOCATION:Granada Hills Community Church\, 11263 Balboa Blvd\, Granada Hills\, CA\, 91344\, United States
CATEGORIES:Youth Ministry
END:VEVENT
BEGIN:VEVENT
DTSTART;TZID=America/Los_Angeles:20180404T180000
DTEND;TZID=America/Los_Angeles:20180404T200000
DTSTAMP:20260424T184952
CREATED:20180328T171415Z
LAST-MODIFIED:20180328T171440Z
UID:27963-1522864800-1522872000@www.ghcc4u.org
SUMMARY:Wednesday Night Youth Group
DESCRIPTION:Please join us for a great evening of fun activities\, pizza\, and study in God’s word!
URL:https://www.ghcc4u.org/event/wednesday-night-youth-group-2018-12/
LOCATION:Granada Hills Community Church\, 11263 Balboa Blvd\, Granada Hills\, CA\, 91344\, United States
CATEGORIES:Youth Ministry
END:VEVENT
BEGIN:VEVENT
DTSTART;TZID=America/Los_Angeles:20180321T180000
DTEND;TZID=America/Los_Angeles:20180321T200000
DTSTAMP:20260424T184952
CREATED:20180223T002128Z
LAST-MODIFIED:20180223T002256Z
UID:27902-1521655200-1521662400@www.ghcc4u.org
SUMMARY:Wednesday Night Youth Group
DESCRIPTION:Please join us for a great evening of fun activities\, pizza\, and study in God’s word!
URL:https://www.ghcc4u.org/event/wednesday-night-youth-group-2018-11/
LOCATION:Granada Hills Community Church\, 11263 Balboa Blvd\, Granada Hills\, CA\, 91344\, United States
CATEGORIES:Youth Ministry
END:VEVENT
BEGIN:VEVENT
DTSTART;TZID=America/Los_Angeles:20180317T140000
DTEND;TZID=America/Los_Angeles:20180317T210000
DTSTAMP:20260424T184952
CREATED:20180223T012748Z
LAST-MODIFIED:20180226T230844Z
UID:27937-1521295200-1521320400@www.ghcc4u.org
SUMMARY:Youth Group @ Night of Champions 2018
DESCRIPTION:Please come first to the church at 2:00pm. We will then carpool together to the Azusa Pacific University campus located at:\n701 E. Foothill Blvd.\, Azusa\, CA 91702.
URL:https://www.ghcc4u.org/event/youth-group-%40-noc-2018-1/
LOCATION:Granada Hills Community Church\, 11263 Balboa Blvd\, Granada Hills\, CA\, 91344\, United States
CATEGORIES:Youth Ministry
END:VEVENT
BEGIN:VEVENT
DTSTART;TZID=America/Los_Angeles:20180314T180000
DTEND;TZID=America/Los_Angeles:20180314T200000
DTSTAMP:20260424T184952
CREATED:20180223T002003Z
LAST-MODIFIED:20180223T002058Z
UID:27900-1521050400-1521057600@www.ghcc4u.org
SUMMARY:Wednesday Night Youth Group
DESCRIPTION:Please join us for a great evening of fun activities\, pizza\, and study in God’s word!
URL:https://www.ghcc4u.org/event/wednesday-night-youth-group-2018-10/
LOCATION:Granada Hills Community Church\, 11263 Balboa Blvd\, Granada Hills\, CA\, 91344\, United States
CATEGORIES:Youth Ministry
END:VEVENT
BEGIN:VEVENT
DTSTART;TZID=America/Los_Angeles:20180307T180000
DTEND;TZID=America/Los_Angeles:20180307T200000
DTSTAMP:20260424T184952
CREATED:20180223T001911Z
LAST-MODIFIED:20180223T001936Z
UID:27898-1520445600-1520452800@www.ghcc4u.org
SUMMARY:Wednesday Night Youth Group
DESCRIPTION:Please join us for a great evening of fun activities\, pizza\, and study in God’s word!
URL:https://www.ghcc4u.org/event/wednesday-night-youth-group-2018-09/
LOCATION:Granada Hills Community Church\, 11263 Balboa Blvd\, Granada Hills\, CA\, 91344\, United States
CATEGORIES:Youth Ministry
END:VEVENT
BEGIN:VEVENT
DTSTART;TZID=America/Los_Angeles:20180228T180000
DTEND;TZID=America/Los_Angeles:20180228T200000
DTSTAMP:20260424T184952
CREATED:20180129T203706Z
LAST-MODIFIED:20180129T203733Z
UID:27867-1519840800-1519848000@www.ghcc4u.org
SUMMARY:Wednesday Night Youth Group
DESCRIPTION:Please join us for a great evening of fun activities\, pizza\, and study in God’s word!
URL:https://www.ghcc4u.org/event/wednesday-night-youth-group-2018-08/
LOCATION:Granada Hills Community Church\, 11263 Balboa Blvd\, Granada Hills\, CA\, 91344\, United States
CATEGORIES:Youth Ministry
END:VEVENT
END:VCALENDAR