BEGIN:VCALENDAR
VERSION:2.0
PRODID:-//Granada Hills Community Church - ECPv6.15.20//NONSGML v1.0//EN
CALSCALE:GREGORIAN
METHOD:PUBLISH
X-WR-CALNAME:Granada Hills Community Church
X-ORIGINAL-URL:https://www.ghcc4u.org
X-WR-CALDESC:Events for Granada Hills Community Church
REFRESH-INTERVAL;VALUE=DURATION:PT1H
X-Robots-Tag:noindex
X-PUBLISHED-TTL:PT1H
BEGIN:VTIMEZONE
TZID:America/Los_Angeles
BEGIN:DAYLIGHT
TZOFFSETFROM:-0800
TZOFFSETTO:-0700
TZNAME:PDT
DTSTART:20170312T100000
END:DAYLIGHT
BEGIN:STANDARD
TZOFFSETFROM:-0700
TZOFFSETTO:-0800
TZNAME:PST
DTSTART:20171105T090000
END:STANDARD
BEGIN:DAYLIGHT
TZOFFSETFROM:-0800
TZOFFSETTO:-0700
TZNAME:PDT
DTSTART:20180311T100000
END:DAYLIGHT
BEGIN:STANDARD
TZOFFSETFROM:-0700
TZOFFSETTO:-0800
TZNAME:PST
DTSTART:20181104T090000
END:STANDARD
BEGIN:DAYLIGHT
TZOFFSETFROM:-0800
TZOFFSETTO:-0700
TZNAME:PDT
DTSTART:20190310T100000
END:DAYLIGHT
BEGIN:STANDARD
TZOFFSETFROM:-0700
TZOFFSETTO:-0800
TZNAME:PST
DTSTART:20191103T090000
END:STANDARD
BEGIN:DAYLIGHT
TZOFFSETFROM:-0800
TZOFFSETTO:-0700
TZNAME:PDT
DTSTART:20200308T100000
END:DAYLIGHT
BEGIN:STANDARD
TZOFFSETFROM:-0700
TZOFFSETTO:-0800
TZNAME:PST
DTSTART:20201101T090000
END:STANDARD
END:VTIMEZONE
BEGIN:VEVENT
DTSTART;TZID=America/Los_Angeles:20190629T150000
DTEND;TZID=America/Los_Angeles:20190629T180000
DTSTAMP:20260424T150107
CREATED:20190606T223238Z
LAST-MODIFIED:20190606T223310Z
UID:28927-1561820400-1561831200@www.ghcc4u.org
SUMMARY:Youth Summer BBQ
DESCRIPTION:Please come join us for food\, fun\, and fellowship at our Youth Summer BBQ!\nAll GHCC Youth Group families are encouraged to reach out and invite neighbors and friends!
URL:https://www.ghcc4u.org/event/youth-summer-bbq-2019-1/
LOCATION:Granada Hills Community Church\, 11263 Balboa Blvd\, Granada Hills\, CA\, 91344\, United States
CATEGORIES:Youth Ministry
ATTACH;FMTTYPE=image/jpeg:https://www.ghcc4u.org/wp-content/uploads/2019/02/youth-bbq.jpg
END:VEVENT
BEGIN:VEVENT
DTSTART;TZID=America/Los_Angeles:20190605T180000
DTEND;TZID=America/Los_Angeles:20190605T203000
DTSTAMP:20260424T150107
CREATED:20190520T184738Z
LAST-MODIFIED:20190520T184813Z
UID:28848-1559757600-1559766600@www.ghcc4u.org
SUMMARY:Youth Movie Night
DESCRIPTION:Come join us for a fun evening of pizza\, snacks\, and a movie!
URL:https://www.ghcc4u.org/event/youth-movie-night-2019-2/
LOCATION:Granada Hills Community Church\, 11263 Balboa Blvd\, Granada Hills\, CA\, 91344\, United States
CATEGORIES:Youth Ministry
ATTACH;FMTTYPE=image/jpeg:https://www.ghcc4u.org/wp-content/uploads/2019/02/movie.jpg
END:VEVENT
BEGIN:VEVENT
DTSTART;TZID=America/Los_Angeles:20190529T180000
DTEND;TZID=America/Los_Angeles:20190529T210000
DTSTAMP:20260424T150107
CREATED:20190520T184503Z
LAST-MODIFIED:20190520T184544Z
UID:28845-1559152800-1559163600@www.ghcc4u.org
SUMMARY:Youth Group @ Skateland
DESCRIPTION:The GHCC Youth Group will be having a fun outing at Skateland\, a rollerskating rink located at 18140 Parthenia St Northridge CA 91325. Admission is $8 and $6 to rent skates. You can also bring your own skates. It will cost $3 if you want to come but not skate.\nWe will meet at GHCC at 6:00pm to have pizza\, and then carpool over to Skateland at 6:30pm.
URL:https://www.ghcc4u.org/event/youth-group-at-skateland-2019-1/
LOCATION:Skateland\, 18140 Parthenia St\, Northridge\, CA\, 91325\, United States
CATEGORIES:Youth Ministry
ATTACH;FMTTYPE=image/jpeg:https://www.ghcc4u.org/wp-content/uploads/2019/05/skates.jpg
END:VEVENT
BEGIN:VEVENT
DTSTART;TZID=America/Los_Angeles:20190515T180000
DTEND;TZID=America/Los_Angeles:20190515T200000
DTSTAMP:20260424T150107
CREATED:20190501T184320Z
LAST-MODIFIED:20190501T184357Z
UID:28816-1557943200-1557950400@www.ghcc4u.org
SUMMARY:Wednesday Night Youth Group
DESCRIPTION:Please join us for a great evening of fun activities\, pizza\, and study in God’s word!
URL:https://www.ghcc4u.org/event/wednesday-night-youth-group-2019-17/
LOCATION:Granada Hills Community Church\, 11263 Balboa Blvd\, Granada Hills\, CA\, 91344\, United States
CATEGORIES:Youth Ministry
ATTACH;FMTTYPE=image/jpeg:https://www.ghcc4u.org/wp-content/uploads/2019/02/skateboarders.jpg
END:VEVENT
BEGIN:VEVENT
DTSTART;TZID=America/Los_Angeles:20190511T070000
DTEND;TZID=America/Los_Angeles:20190511T083000
DTSTAMP:20260424T150107
CREATED:20190501T185625Z
LAST-MODIFIED:20190501T185656Z
UID:28830-1557558000-1557563400@www.ghcc4u.org
SUMMARY:Men's Breakfast @ Open Arms
DESCRIPTION:The GHCC Men’s Breakfast will head over to the Open Arms Pregnancy Clinic to serve them by washing their glass indoor partitions.\nWe will meet in the Open Arms Pregnancy Clinic parking lot at 7:00am. Coffee and donuts will be provided.
URL:https://www.ghcc4u.org/event/mens-breakfast-at-open-arms-2019-1/
LOCATION:Open Arms Pregnancy Clinic\, 9535 Reseda Blvd #303\, Northridge\, CA\, 91324\, United States
CATEGORIES:Youth Ministry
ATTACH;FMTTYPE=image/jpeg:https://www.ghcc4u.org/wp-content/uploads/2019/02/mens-breakfast.jpg
END:VEVENT
BEGIN:VEVENT
DTSTART;TZID=America/Los_Angeles:20190508T180000
DTEND;TZID=America/Los_Angeles:20190508T200000
DTSTAMP:20260424T150107
CREATED:20190501T183731Z
LAST-MODIFIED:20190501T183805Z
UID:28814-1557338400-1557345600@www.ghcc4u.org
SUMMARY:Wednesday Night Youth Group
DESCRIPTION:Please join us for a great evening of fun activities\, pizza\, and study in God’s word!
URL:https://www.ghcc4u.org/event/wednesday-night-youth-group-2019-16/
LOCATION:Granada Hills Community Church\, 11263 Balboa Blvd\, Granada Hills\, CA\, 91344\, United States
CATEGORIES:Youth Ministry
ATTACH;FMTTYPE=image/jpeg:https://www.ghcc4u.org/wp-content/uploads/2019/02/skateboarders.jpg
END:VEVENT
BEGIN:VEVENT
DTSTART;TZID=America/Los_Angeles:20190501T180000
DTEND;TZID=America/Los_Angeles:20190501T200000
DTSTAMP:20260424T150107
CREATED:20190501T183642Z
LAST-MODIFIED:20190501T183816Z
UID:28812-1556733600-1556740800@www.ghcc4u.org
SUMMARY:Wednesday Night Youth Group
DESCRIPTION:Please join us for a great evening of fun activities\, pizza\, and study in God’s word!
URL:https://www.ghcc4u.org/event/wednesday-night-youth-group-2019-15/
LOCATION:Granada Hills Community Church\, 11263 Balboa Blvd\, Granada Hills\, CA\, 91344\, United States
CATEGORIES:Youth Ministry
ATTACH;FMTTYPE=image/jpeg:https://www.ghcc4u.org/wp-content/uploads/2019/02/skateboarders.jpg
END:VEVENT
BEGIN:VEVENT
DTSTART;TZID=America/Los_Angeles:20190426T190000
DTEND;TZID=America/Los_Angeles:20190426T210000
DTSTAMP:20260424T150107
CREATED:20190401T190533Z
LAST-MODIFIED:20190401T190657Z
UID:28784-1556305200-1556312400@www.ghcc4u.org
SUMMARY:Youth Group @ Unaltered
DESCRIPTION:The GHCC Youth Group will attend the UNALTERED Tour\, which defines the original purpose of love\, sex and life and inspires teens to live with integrity and influence. Unaltered is more than an event\, it’s a lifestyle\, a movement rooted in the Gospel. It exists to raise awareness of our brokenness\, present the hope found in Christ\, and reveal God’s design for love\, sex and life.\nWe will meet at West Valley Christian Church at 6:30pm when doors open.
URL:https://www.ghcc4u.org/event/youth-group-at-unaltered-2019-1/
LOCATION:West Valley Christian Church\, 22450 Sherman Way\, West Hills\, CA\, 91307\, United States
CATEGORIES:Youth Ministry
ATTACH;FMTTYPE=image/jpeg:https://www.ghcc4u.org/wp-content/uploads/2019/04/unaltered.jpg
END:VEVENT
BEGIN:VEVENT
DTSTART;TZID=America/Los_Angeles:20190424T180000
DTEND;TZID=America/Los_Angeles:20190424T200000
DTSTAMP:20260424T150107
CREATED:20190401T173244Z
LAST-MODIFIED:20190401T173318Z
UID:28767-1556128800-1556136000@www.ghcc4u.org
SUMMARY:Wednesday Night Youth Group
DESCRIPTION:Please join us for a great evening of fun activities\, pizza\, and study in God’s word!
URL:https://www.ghcc4u.org/event/wednesday-night-youth-group-2019-14/
LOCATION:Granada Hills Community Church\, 11263 Balboa Blvd\, Granada Hills\, CA\, 91344\, United States
CATEGORIES:Youth Ministry
ATTACH;FMTTYPE=image/jpeg:https://www.ghcc4u.org/wp-content/uploads/2019/02/skateboarders.jpg
END:VEVENT
BEGIN:VEVENT
DTSTART;TZID=America/Los_Angeles:20190410T180000
DTEND;TZID=America/Los_Angeles:20190410T200000
DTSTAMP:20260424T150107
CREATED:20190401T173146Z
LAST-MODIFIED:20190401T173216Z
UID:28765-1554919200-1554926400@www.ghcc4u.org
SUMMARY:Wednesday Night Youth Group
DESCRIPTION:Please join us for a great evening of fun activities\, pizza\, and study in God’s word!
URL:https://www.ghcc4u.org/event/wednesday-night-youth-group-2019-13/
LOCATION:Granada Hills Community Church\, 11263 Balboa Blvd\, Granada Hills\, CA\, 91344\, United States
CATEGORIES:Youth Ministry
ATTACH;FMTTYPE=image/jpeg:https://www.ghcc4u.org/wp-content/uploads/2019/02/skateboarders.jpg
END:VEVENT
BEGIN:VEVENT
DTSTART;TZID=America/Los_Angeles:20190403T180000
DTEND;TZID=America/Los_Angeles:20190403T200000
DTSTAMP:20260424T150107
CREATED:20190401T173041Z
LAST-MODIFIED:20190401T173115Z
UID:28763-1554314400-1554321600@www.ghcc4u.org
SUMMARY:Wednesday Night Youth Group
DESCRIPTION:Please join us for a great evening of fun activities\, pizza\, and study in God’s word!
URL:https://www.ghcc4u.org/event/wednesday-night-youth-group-2019-12/
LOCATION:Granada Hills Community Church\, 11263 Balboa Blvd\, Granada Hills\, CA\, 91344\, United States
CATEGORIES:Youth Ministry
ATTACH;FMTTYPE=image/jpeg:https://www.ghcc4u.org/wp-content/uploads/2019/02/skateboarders.jpg
END:VEVENT
BEGIN:VEVENT
DTSTART;TZID=America/Los_Angeles:20190327T180000
DTEND;TZID=America/Los_Angeles:20190327T200000
DTSTAMP:20260424T150107
CREATED:20190228T183002Z
LAST-MODIFIED:20190228T183037Z
UID:28693-1553709600-1553716800@www.ghcc4u.org
SUMMARY:Wednesday Night Youth Group
DESCRIPTION:Please join us for a great evening of fun activities\, pizza\, and study in God’s word!
URL:https://www.ghcc4u.org/event/wednesday-night-youth-group-2019-11/
LOCATION:Granada Hills Community Church\, 11263 Balboa Blvd\, Granada Hills\, CA\, 91344\, United States
CATEGORIES:Youth Ministry
ATTACH;FMTTYPE=image/jpeg:https://www.ghcc4u.org/wp-content/uploads/2019/02/skateboarders.jpg
END:VEVENT
BEGIN:VEVENT
DTSTART;TZID=America/Los_Angeles:20190323T140000
DTEND;TZID=America/Los_Angeles:20190323T210000
DTSTAMP:20260424T150107
CREATED:20190228T190635Z
LAST-MODIFIED:20190228T190717Z
UID:28720-1553349600-1553374800@www.ghcc4u.org
SUMMARY:Youth Group @ Night of Champions 2019
DESCRIPTION:Please come first to the church at 2:00pm. We will then carpool together to the Azusa Pacific University campus located at:\n701 E. Foothill Blvd.\, Azusa\, CA 91702.
URL:https://www.ghcc4u.org/event/youth-group-at-noc-2019-1/
LOCATION:Granada Hills Community Church\, 11263 Balboa Blvd\, Granada Hills\, CA\, 91344\, United States
CATEGORIES:Youth Ministry
ATTACH;FMTTYPE=image/jpeg:https://www.ghcc4u.org/wp-content/uploads/2019/02/noc.jpg
END:VEVENT
BEGIN:VEVENT
DTSTART;TZID=America/Los_Angeles:20190320T180000
DTEND;TZID=America/Los_Angeles:20190320T200000
DTSTAMP:20260424T150107
CREATED:20190228T182901Z
LAST-MODIFIED:20190228T182934Z
UID:28691-1553104800-1553112000@www.ghcc4u.org
SUMMARY:Wednesday Night Youth Group
DESCRIPTION:Please join us for a great evening of fun activities\, pizza\, and study in God’s word!
URL:https://www.ghcc4u.org/event/wednesday-night-youth-group-2019-10/
LOCATION:Granada Hills Community Church\, 11263 Balboa Blvd\, Granada Hills\, CA\, 91344\, United States
CATEGORIES:Youth Ministry
ATTACH;FMTTYPE=image/jpeg:https://www.ghcc4u.org/wp-content/uploads/2019/02/skateboarders.jpg
END:VEVENT
BEGIN:VEVENT
DTSTART;TZID=America/Los_Angeles:20190313T180000
DTEND;TZID=America/Los_Angeles:20190313T200000
DTSTAMP:20260424T150107
CREATED:20190228T182805Z
LAST-MODIFIED:20190228T182835Z
UID:28689-1552500000-1552507200@www.ghcc4u.org
SUMMARY:Wednesday Night Youth Group
DESCRIPTION:Please join us for a great evening of fun activities\, pizza\, and study in God’s word!
URL:https://www.ghcc4u.org/event/wednesday-night-youth-group-2019-09/
LOCATION:Granada Hills Community Church\, 11263 Balboa Blvd\, Granada Hills\, CA\, 91344\, United States
CATEGORIES:Youth Ministry
ATTACH;FMTTYPE=image/jpeg:https://www.ghcc4u.org/wp-content/uploads/2019/02/skateboarders.jpg
END:VEVENT
BEGIN:VEVENT
DTSTART;TZID=America/Los_Angeles:20190306T180000
DTEND;TZID=America/Los_Angeles:20190306T200000
DTSTAMP:20260424T150107
CREATED:20190228T182636Z
LAST-MODIFIED:20190228T182719Z
UID:28687-1551895200-1551902400@www.ghcc4u.org
SUMMARY:Wednesday Night Youth Group
DESCRIPTION:Please join us for a great evening of fun activities\, pizza\, and study in God’s word!
URL:https://www.ghcc4u.org/event/wednesday-night-youth-group-2019-08/
LOCATION:Granada Hills Community Church\, 11263 Balboa Blvd\, Granada Hills\, CA\, 91344\, United States
CATEGORIES:Youth Ministry
ATTACH;FMTTYPE=image/jpeg:https://www.ghcc4u.org/wp-content/uploads/2019/02/skateboarders.jpg
END:VEVENT
BEGIN:VEVENT
DTSTART;TZID=America/Los_Angeles:20190227T180000
DTEND;TZID=America/Los_Angeles:20190227T200000
DTSTAMP:20260424T150107
CREATED:20190129T221015Z
LAST-MODIFIED:20190129T221103Z
UID:28531-1551290400-1551297600@www.ghcc4u.org
SUMMARY:Wednesday Night Youth Group
DESCRIPTION:Please join us for a great evening of fun activities\, pizza\, and study in God’s word!
URL:https://www.ghcc4u.org/event/wednesday-night-youth-group-2019-07/
LOCATION:Granada Hills Community Church\, 11263 Balboa Blvd\, Granada Hills\, CA\, 91344\, United States
CATEGORIES:Youth Ministry
END:VEVENT
BEGIN:VEVENT
DTSTART;TZID=America/Los_Angeles:20190220T180000
DTEND;TZID=America/Los_Angeles:20190220T203000
DTSTAMP:20260424T150107
CREATED:20190129T221217Z
LAST-MODIFIED:20190129T221245Z
UID:28533-1550685600-1550694600@www.ghcc4u.org
SUMMARY:Youth Movie Night
DESCRIPTION:Come join us for a fun evening of pizza\, snacks\, and a movie!
URL:https://www.ghcc4u.org/event/youth-movie-night-2019-1/
LOCATION:Granada Hills Community Church\, 11263 Balboa Blvd\, Granada Hills\, CA\, 91344\, United States
CATEGORIES:Youth Ministry
END:VEVENT
BEGIN:VEVENT
DTSTART;TZID=America/Los_Angeles:20190213T180000
DTEND;TZID=America/Los_Angeles:20190213T200000
DTSTAMP:20260424T150107
CREATED:20190129T220931Z
LAST-MODIFIED:20190129T220951Z
UID:28529-1550080800-1550088000@www.ghcc4u.org
SUMMARY:Wednesday Night Youth Group
DESCRIPTION:Please join us for a great evening of fun activities\, pizza\, and study in God’s word!
URL:https://www.ghcc4u.org/event/wednesday-night-youth-group-2019-06/
LOCATION:Granada Hills Community Church\, 11263 Balboa Blvd\, Granada Hills\, CA\, 91344\, United States
CATEGORIES:Youth Ministry
END:VEVENT
BEGIN:VEVENT
DTSTART;TZID=America/Los_Angeles:20190206T180000
DTEND;TZID=America/Los_Angeles:20190206T200000
DTSTAMP:20260424T150107
CREATED:20190129T220821Z
LAST-MODIFIED:20190129T220900Z
UID:28527-1549476000-1549483200@www.ghcc4u.org
SUMMARY:Wednesday Night Youth Group
DESCRIPTION:Please join us for a great evening of fun activities\, pizza\, and study in God’s word!
URL:https://www.ghcc4u.org/event/wednesday-night-youth-group-2019-05/
LOCATION:Granada Hills Community Church\, 11263 Balboa Blvd\, Granada Hills\, CA\, 91344\, United States
CATEGORIES:Youth Ministry
END:VEVENT
BEGIN:VEVENT
DTSTART;TZID=America/Los_Angeles:20190130T180000
DTEND;TZID=America/Los_Angeles:20190130T200000
DTSTAMP:20260424T150107
CREATED:20181231T190032Z
LAST-MODIFIED:20181231T190056Z
UID:28461-1548871200-1548878400@www.ghcc4u.org
SUMMARY:Wednesday Night Youth Group
DESCRIPTION:Please join us for a great evening of fun activities\, pizza\, and study in God’s word!
URL:https://www.ghcc4u.org/event/wednesday-night-youth-group-2019-04/
LOCATION:Granada Hills Community Church\, 11263 Balboa Blvd\, Granada Hills\, CA\, 91344\, United States
CATEGORIES:Youth Ministry
END:VEVENT
BEGIN:VEVENT
DTSTART;TZID=America/Los_Angeles:20190123T180000
DTEND;TZID=America/Los_Angeles:20190123T200000
DTSTAMP:20260424T150107
CREATED:20181231T185941Z
LAST-MODIFIED:20181231T190004Z
UID:28459-1548266400-1548273600@www.ghcc4u.org
SUMMARY:Wednesday Night Youth Group
DESCRIPTION:Please join us for a great evening of fun activities\, pizza\, and study in God’s word!
URL:https://www.ghcc4u.org/event/wednesday-night-youth-group-2019-03/
LOCATION:Granada Hills Community Church\, 11263 Balboa Blvd\, Granada Hills\, CA\, 91344\, United States
CATEGORIES:Youth Ministry
END:VEVENT
BEGIN:VEVENT
DTSTART;TZID=America/Los_Angeles:20190116T180000
DTEND;TZID=America/Los_Angeles:20190116T200000
DTSTAMP:20260424T150107
CREATED:20181231T185855Z
LAST-MODIFIED:20181231T185916Z
UID:28457-1547661600-1547668800@www.ghcc4u.org
SUMMARY:Wednesday Night Youth Group
DESCRIPTION:Please join us for a great evening of fun activities\, pizza\, and study in God’s word!
URL:https://www.ghcc4u.org/event/wednesday-night-youth-group-2019-02/
LOCATION:Granada Hills Community Church\, 11263 Balboa Blvd\, Granada Hills\, CA\, 91344\, United States
CATEGORIES:Youth Ministry
END:VEVENT
BEGIN:VEVENT
DTSTART;TZID=America/Los_Angeles:20190109T180000
DTEND;TZID=America/Los_Angeles:20190109T200000
DTSTAMP:20260424T150107
CREATED:20181231T185751Z
LAST-MODIFIED:20181231T185816Z
UID:28455-1547056800-1547064000@www.ghcc4u.org
SUMMARY:Wednesday Night Youth Group
DESCRIPTION:Please join us for a great evening of fun activities\, pizza\, and study in God’s word!
URL:https://www.ghcc4u.org/event/wednesday-night-youth-group-2019-01/
LOCATION:Granada Hills Community Church\, 11263 Balboa Blvd\, Granada Hills\, CA\, 91344\, United States
CATEGORIES:Youth Ministry
END:VEVENT
BEGIN:VEVENT
DTSTART;TZID=America/Los_Angeles:20181212T180000
DTEND;TZID=America/Los_Angeles:20181212T200000
DTSTAMP:20260424T150107
CREATED:20181205T001648Z
LAST-MODIFIED:20181205T001713Z
UID:28419-1544637600-1544644800@www.ghcc4u.org
SUMMARY:Youth Christmas Party
DESCRIPTION:Come celebrate Christmas with us and enjoy some great food! \nIf you’d like to participate in our Christmas gift exchange\, please come with a wrapped gift between $5 and $10 in value.
URL:https://www.ghcc4u.org/event/youth-christmas-party-2018-1/
LOCATION:Granada Hills Community Church\, 11263 Balboa Blvd\, Granada Hills\, CA\, 91344\, United States
CATEGORIES:Youth Ministry
END:VEVENT
BEGIN:VEVENT
DTSTART;TZID=America/Los_Angeles:20181205T180000
DTEND;TZID=America/Los_Angeles:20181205T200000
DTSTAMP:20260424T150107
CREATED:20181205T001523Z
LAST-MODIFIED:20181205T001548Z
UID:28417-1544032800-1544040000@www.ghcc4u.org
SUMMARY:Wednesday Night Youth Group
DESCRIPTION:Please join us for a great evening of fun activities\, pizza\, and study in God’s word!
URL:https://www.ghcc4u.org/event/wednesday-night-youth-group-2018-34/
LOCATION:Granada Hills Community Church\, 11263 Balboa Blvd\, Granada Hills\, CA\, 91344\, United States
CATEGORIES:Youth Ministry
END:VEVENT
BEGIN:VEVENT
DTSTART;TZID=America/Los_Angeles:20181128T180000
DTEND;TZID=America/Los_Angeles:20181128T200000
DTSTAMP:20260424T150107
CREATED:20181029T224341Z
LAST-MODIFIED:20181029T224406Z
UID:28375-1543428000-1543435200@www.ghcc4u.org
SUMMARY:Wednesday Night Youth Group
DESCRIPTION:Please join us for a great evening of fun activities\, pizza\, and study in God’s word!
URL:https://www.ghcc4u.org/event/wednesday-night-youth-group-2018-33/
LOCATION:Granada Hills Community Church\, 11263 Balboa Blvd\, Granada Hills\, CA\, 91344\, United States
CATEGORIES:Youth Ministry
END:VEVENT
BEGIN:VEVENT
DTSTART;TZID=America/Los_Angeles:20181114T180000
DTEND;TZID=America/Los_Angeles:20181114T200000
DTSTAMP:20260424T150107
CREATED:20181029T224231Z
LAST-MODIFIED:20181029T224311Z
UID:28373-1542218400-1542225600@www.ghcc4u.org
SUMMARY:Wednesday Night Youth Group
DESCRIPTION:Please join us for a great evening of fun activities\, pizza\, and study in God’s word!
URL:https://www.ghcc4u.org/event/wednesday-night-youth-group-2018-32/
LOCATION:Granada Hills Community Church\, 11263 Balboa Blvd\, Granada Hills\, CA\, 91344\, United States
CATEGORIES:Youth Ministry
END:VEVENT
BEGIN:VEVENT
DTSTART;TZID=America/Los_Angeles:20181107T180000
DTEND;TZID=America/Los_Angeles:20181107T200000
DTSTAMP:20260424T150107
CREATED:20181029T224135Z
LAST-MODIFIED:20181029T224206Z
UID:28371-1541613600-1541620800@www.ghcc4u.org
SUMMARY:Wednesday Night Youth Group
DESCRIPTION:Please join us for a great evening of fun activities\, pizza\, and study in God’s word!
URL:https://www.ghcc4u.org/event/wednesday-night-youth-group-2018-31/
LOCATION:Granada Hills Community Church\, 11263 Balboa Blvd\, Granada Hills\, CA\, 91344\, United States
CATEGORIES:Youth Ministry
END:VEVENT
BEGIN:VEVENT
DTSTART;TZID=America/Los_Angeles:20181031T180000
DTEND;TZID=America/Los_Angeles:20181031T200000
DTSTAMP:20260424T150107
CREATED:20180905T180801Z
LAST-MODIFIED:20180905T180837Z
UID:28298-1541008800-1541016000@www.ghcc4u.org
SUMMARY:Wednesday Night Youth Group
DESCRIPTION:Please join us for a great evening of fun activities\, pizza\, and study in God’s word!
URL:https://www.ghcc4u.org/event/wednesday-night-youth-group-2018-30/
LOCATION:Granada Hills Community Church\, 11263 Balboa Blvd\, Granada Hills\, CA\, 91344\, United States
CATEGORIES:Youth Ministry
END:VEVENT
END:VCALENDAR