BEGIN:VCALENDAR
VERSION:2.0
PRODID:-//Granada Hills Community Church - ECPv6.15.20//NONSGML v1.0//EN
CALSCALE:GREGORIAN
METHOD:PUBLISH
X-ORIGINAL-URL:https://www.ghcc4u.org
X-WR-CALDESC:Events for Granada Hills Community Church
REFRESH-INTERVAL;VALUE=DURATION:PT1H
X-Robots-Tag:noindex
X-PUBLISHED-TTL:PT1H
BEGIN:VTIMEZONE
TZID:America/Los_Angeles
BEGIN:DAYLIGHT
TZOFFSETFROM:-0800
TZOFFSETTO:-0700
TZNAME:PDT
DTSTART:20180311T100000
END:DAYLIGHT
BEGIN:STANDARD
TZOFFSETFROM:-0700
TZOFFSETTO:-0800
TZNAME:PST
DTSTART:20181104T090000
END:STANDARD
BEGIN:DAYLIGHT
TZOFFSETFROM:-0800
TZOFFSETTO:-0700
TZNAME:PDT
DTSTART:20190310T100000
END:DAYLIGHT
BEGIN:STANDARD
TZOFFSETFROM:-0700
TZOFFSETTO:-0800
TZNAME:PST
DTSTART:20191103T090000
END:STANDARD
BEGIN:DAYLIGHT
TZOFFSETFROM:-0800
TZOFFSETTO:-0700
TZNAME:PDT
DTSTART:20200308T100000
END:DAYLIGHT
BEGIN:STANDARD
TZOFFSETFROM:-0700
TZOFFSETTO:-0800
TZNAME:PST
DTSTART:20201101T090000
END:STANDARD
BEGIN:DAYLIGHT
TZOFFSETFROM:-0800
TZOFFSETTO:-0700
TZNAME:PDT
DTSTART:20210314T100000
END:DAYLIGHT
BEGIN:STANDARD
TZOFFSETFROM:-0700
TZOFFSETTO:-0800
TZNAME:PST
DTSTART:20211107T090000
END:STANDARD
END:VTIMEZONE
BEGIN:VEVENT
DTSTART;TZID=America/Los_Angeles:20200115T180000
DTEND;TZID=America/Los_Angeles:20200115T200000
DTSTAMP:20260424T121819
CREATED:20191230T235524Z
LAST-MODIFIED:20191230T235542Z
UID:29234-1579111200-1579118400@www.ghcc4u.org
SUMMARY:Wednesday Night Youth Group
DESCRIPTION:Please join us for a great evening of fun activities\, pizza\, and study in God’s word!
URL:https://www.ghcc4u.org/event/wednesday-night-youth-group-2020-01/
LOCATION:Granada Hills Community Church\, 11263 Balboa Blvd\, Granada Hills\, CA\, 91344\, United States
CATEGORIES:Youth Ministry
ATTACH;FMTTYPE=image/jpeg:https://www.ghcc4u.org/wp-content/uploads/2019/02/skateboarders.jpg
END:VEVENT
BEGIN:VEVENT
DTSTART;TZID=America/Los_Angeles:20191214T140000
DTEND;TZID=America/Los_Angeles:20191214T160000
DTSTAMP:20260424T121819
CREATED:20191203T011657Z
LAST-MODIFIED:20191203T011721Z
UID:29202-1576332000-1576339200@www.ghcc4u.org
SUMMARY:Youth Group @ Nethercutt Christmas Concert
DESCRIPTION:The GHCC Youth Group will be attending the Christmas Organ Concert at the Nethercutt Collection at 15200 Bledsoe Street\nSylmar\, CA 91342. Tickets are limited\, so please contact Pastor Eugene for more information.\nWe will meet at the Nethercutt Collection at 1:15pm. Please park in the Nethercutt Museum parking lot across the street at 15151 Bledsoe Street\nSylmar\, CA 91342.
URL:https://www.ghcc4u.org/event/youth-group-at-nethercutt-christmas-concert-2019-1/
LOCATION:Nethercutt Collection\, 15151 Bledsoe St\, Sylmar\, CA\, 91342\, United States
CATEGORIES:Youth Ministry
ATTACH;FMTTYPE=image/jpeg:https://www.ghcc4u.org/wp-content/uploads/2019/12/organ.jpg
END:VEVENT
BEGIN:VEVENT
DTSTART;TZID=America/Los_Angeles:20191211T180000
DTEND;TZID=America/Los_Angeles:20191211T200000
DTSTAMP:20260424T121819
CREATED:20191203T005004Z
LAST-MODIFIED:20191203T012415Z
UID:29190-1576087200-1576094400@www.ghcc4u.org
SUMMARY:Youth Christmas Party
DESCRIPTION:Come celebrate Christmas with us and enjoy some great food! \nIf you’d like to participate in our Christmas gift exchange\, please come with a wrapped gift between $5 and $10 in value.
URL:https://www.ghcc4u.org/event/youth-christmas-party-2019-1/
LOCATION:Granada Hills Community Church\, 11263 Balboa Blvd\, Granada Hills\, CA\, 91344\, United States
CATEGORIES:Youth Ministry
ATTACH;FMTTYPE=image/jpeg:https://www.ghcc4u.org/wp-content/uploads/2019/02/youth-christmas-party.jpg
END:VEVENT
BEGIN:VEVENT
DTSTART;TZID=America/Los_Angeles:20191204T180000
DTEND;TZID=America/Los_Angeles:20191204T200000
DTSTAMP:20260424T121819
CREATED:20191203T004824Z
LAST-MODIFIED:20191203T004849Z
UID:29188-1575482400-1575489600@www.ghcc4u.org
SUMMARY:Wednesday Night Youth Group
DESCRIPTION:Please join us for a great evening of fun activities\, pizza\, and study in God’s word!
URL:https://www.ghcc4u.org/event/wednesday-night-youth-group-2019-31/
LOCATION:Granada Hills Community Church\, 11263 Balboa Blvd\, Granada Hills\, CA\, 91344\, United States
CATEGORIES:Youth Ministry
ATTACH;FMTTYPE=image/jpeg:https://www.ghcc4u.org/wp-content/uploads/2019/02/skateboarders.jpg
END:VEVENT
BEGIN:VEVENT
DTSTART;TZID=America/Los_Angeles:20191120T180000
DTEND;TZID=America/Los_Angeles:20191120T200000
DTSTAMP:20260424T121819
CREATED:20191028T164554Z
LAST-MODIFIED:20191028T164643Z
UID:29157-1574272800-1574280000@www.ghcc4u.org
SUMMARY:Wednesday Night Youth Group
DESCRIPTION:Please join us for a great evening of fun activities\, pizza\, and study in God’s word!
URL:https://www.ghcc4u.org/event/wednesday-night-youth-group-2019-30/
LOCATION:Granada Hills Community Church\, 11263 Balboa Blvd\, Granada Hills\, CA\, 91344\, United States
CATEGORIES:Youth Ministry
ATTACH;FMTTYPE=image/jpeg:https://www.ghcc4u.org/wp-content/uploads/2019/02/skateboarders.jpg
END:VEVENT
BEGIN:VEVENT
DTSTART;TZID=America/Los_Angeles:20191113T180000
DTEND;TZID=America/Los_Angeles:20191113T200000
DTSTAMP:20260424T121819
CREATED:20191028T164418Z
LAST-MODIFIED:20191028T164453Z
UID:29155-1573668000-1573675200@www.ghcc4u.org
SUMMARY:Wednesday Night Youth Group
DESCRIPTION:Please join us for a great evening of fun activities\, pizza\, and study in God’s word!
URL:https://www.ghcc4u.org/event/wednesday-night-youth-group-2019-29/
LOCATION:Granada Hills Community Church\, 11263 Balboa Blvd\, Granada Hills\, CA\, 91344\, United States
CATEGORIES:Youth Ministry
ATTACH;FMTTYPE=image/jpeg:https://www.ghcc4u.org/wp-content/uploads/2019/02/skateboarders.jpg
END:VEVENT
BEGIN:VEVENT
DTSTART;TZID=America/Los_Angeles:20191106T180000
DTEND;TZID=America/Los_Angeles:20191106T200000
DTSTAMP:20260424T121819
CREATED:20190930T194709Z
LAST-MODIFIED:20191028T164231Z
UID:29129-1573063200-1573070400@www.ghcc4u.org
SUMMARY:Wednesday Night Youth Group
DESCRIPTION:Please join us for a great evening of fun activities\, pizza\, and study in God’s word!
URL:https://www.ghcc4u.org/event/wednesday-night-youth-group-2019-28/
LOCATION:Granada Hills Community Church\, 11263 Balboa Blvd\, Granada Hills\, CA\, 91344\, United States
CATEGORIES:Youth Ministry
ATTACH;FMTTYPE=image/jpeg:https://www.ghcc4u.org/wp-content/uploads/2019/02/skateboarders.jpg
END:VEVENT
BEGIN:VEVENT
DTSTART;TZID=America/Los_Angeles:20191030T180000
DTEND;TZID=America/Los_Angeles:20191030T203000
DTSTAMP:20260424T121819
CREATED:20191028T164128Z
LAST-MODIFIED:20191028T164505Z
UID:29153-1572458400-1572467400@www.ghcc4u.org
SUMMARY:Youth Movie Night
DESCRIPTION:Come join us for a fun evening of pizza\, snacks\, and a movie!
URL:https://www.ghcc4u.org/event/youth-movie-night-2019-3/
LOCATION:Granada Hills Community Church\, 11263 Balboa Blvd\, Granada Hills\, CA\, 91344\, United States
CATEGORIES:Youth Ministry
ATTACH;FMTTYPE=image/jpeg:https://www.ghcc4u.org/wp-content/uploads/2019/02/movie.jpg
END:VEVENT
BEGIN:VEVENT
DTSTART;TZID=America/Los_Angeles:20191023T180000
DTEND;TZID=America/Los_Angeles:20191023T200000
DTSTAMP:20260424T121819
CREATED:20190930T194638Z
LAST-MODIFIED:20190930T194652Z
UID:29127-1571853600-1571860800@www.ghcc4u.org
SUMMARY:Wednesday Night Youth Group
DESCRIPTION:Please join us for a great evening of fun activities\, pizza\, and study in God’s word!
URL:https://www.ghcc4u.org/event/wednesday-night-youth-group-2019-27/
LOCATION:Granada Hills Community Church\, 11263 Balboa Blvd\, Granada Hills\, CA\, 91344\, United States
CATEGORIES:Youth Ministry
ATTACH;FMTTYPE=image/jpeg:https://www.ghcc4u.org/wp-content/uploads/2019/02/skateboarders.jpg
END:VEVENT
BEGIN:VEVENT
DTSTART;TZID=America/Los_Angeles:20191016T180000
DTEND;TZID=America/Los_Angeles:20191016T200000
DTSTAMP:20260424T121819
CREATED:20190930T194606Z
LAST-MODIFIED:20190930T194623Z
UID:29125-1571248800-1571256000@www.ghcc4u.org
SUMMARY:Wednesday Night Youth Group
DESCRIPTION:Please join us for a great evening of fun activities\, pizza\, and study in God’s word!
URL:https://www.ghcc4u.org/event/wednesday-night-youth-group-2019-26/
LOCATION:Granada Hills Community Church\, 11263 Balboa Blvd\, Granada Hills\, CA\, 91344\, United States
CATEGORIES:Youth Ministry
ATTACH;FMTTYPE=image/jpeg:https://www.ghcc4u.org/wp-content/uploads/2019/02/skateboarders.jpg
END:VEVENT
BEGIN:VEVENT
DTSTART;TZID=America/Los_Angeles:20191009T180000
DTEND;TZID=America/Los_Angeles:20191009T200000
DTSTAMP:20260424T121819
CREATED:20190930T194537Z
LAST-MODIFIED:20190930T194551Z
UID:29123-1570644000-1570651200@www.ghcc4u.org
SUMMARY:Wednesday Night Youth Group
DESCRIPTION:Please join us for a great evening of fun activities\, pizza\, and study in God’s word!
URL:https://www.ghcc4u.org/event/wednesday-night-youth-group-2019-25/
LOCATION:Granada Hills Community Church\, 11263 Balboa Blvd\, Granada Hills\, CA\, 91344\, United States
CATEGORIES:Youth Ministry
ATTACH;FMTTYPE=image/jpeg:https://www.ghcc4u.org/wp-content/uploads/2019/02/skateboarders.jpg
END:VEVENT
BEGIN:VEVENT
DTSTART;TZID=America/Los_Angeles:20191002T180000
DTEND;TZID=America/Los_Angeles:20191002T200000
DTSTAMP:20260424T121819
CREATED:20190930T194504Z
LAST-MODIFIED:20190930T194521Z
UID:29121-1570039200-1570046400@www.ghcc4u.org
SUMMARY:Wednesday Night Youth Group
DESCRIPTION:Please join us for a great evening of fun activities\, pizza\, and study in God’s word!
URL:https://www.ghcc4u.org/event/wednesday-night-youth-group-2019-24/
LOCATION:Granada Hills Community Church\, 11263 Balboa Blvd\, Granada Hills\, CA\, 91344\, United States
CATEGORIES:Youth Ministry
ATTACH;FMTTYPE=image/jpeg:https://www.ghcc4u.org/wp-content/uploads/2019/02/skateboarders.jpg
END:VEVENT
BEGIN:VEVENT
DTSTART;TZID=America/Los_Angeles:20190925T180000
DTEND;TZID=America/Los_Angeles:20190925T200000
DTSTAMP:20260424T121819
CREATED:20190826T225912Z
LAST-MODIFIED:20190826T225923Z
UID:29024-1569434400-1569441600@www.ghcc4u.org
SUMMARY:Wednesday Night Youth Group
DESCRIPTION:Please join us for a great evening of fun activities\, pizza\, and study in God’s word!
URL:https://www.ghcc4u.org/event/wednesday-night-youth-group-2019-23/
LOCATION:Granada Hills Community Church\, 11263 Balboa Blvd\, Granada Hills\, CA\, 91344\, United States
CATEGORIES:Youth Ministry
ATTACH;FMTTYPE=image/jpeg:https://www.ghcc4u.org/wp-content/uploads/2019/02/skateboarders.jpg
END:VEVENT
BEGIN:VEVENT
DTSTART;TZID=America/Los_Angeles:20190918T180000
DTEND;TZID=America/Los_Angeles:20190918T200000
DTSTAMP:20260424T121819
CREATED:20190826T225843Z
LAST-MODIFIED:20190826T225857Z
UID:29022-1568829600-1568836800@www.ghcc4u.org
SUMMARY:Wednesday Night Youth Group
DESCRIPTION:Please join us for a great evening of fun activities\, pizza\, and study in God’s word!
URL:https://www.ghcc4u.org/event/wednesday-night-youth-group-2019-22/
LOCATION:Granada Hills Community Church\, 11263 Balboa Blvd\, Granada Hills\, CA\, 91344\, United States
CATEGORIES:Youth Ministry
ATTACH;FMTTYPE=image/jpeg:https://www.ghcc4u.org/wp-content/uploads/2019/02/skateboarders.jpg
END:VEVENT
BEGIN:VEVENT
DTSTART;TZID=America/Los_Angeles:20190911T180000
DTEND;TZID=America/Los_Angeles:20190911T200000
DTSTAMP:20260424T121819
CREATED:20190826T225758Z
LAST-MODIFIED:20190826T225816Z
UID:29020-1568224800-1568232000@www.ghcc4u.org
SUMMARY:Wednesday Night Youth Group
DESCRIPTION:Please join us for a great evening of fun activities\, pizza\, and study in God’s word!
URL:https://www.ghcc4u.org/event/wednesday-night-youth-group-2019-21/
LOCATION:Granada Hills Community Church\, 11263 Balboa Blvd\, Granada Hills\, CA\, 91344\, United States
CATEGORIES:Youth Ministry
ATTACH;FMTTYPE=image/jpeg:https://www.ghcc4u.org/wp-content/uploads/2019/02/skateboarders.jpg
END:VEVENT
BEGIN:VEVENT
DTSTART;TZID=America/Los_Angeles:20190904T180000
DTEND;TZID=America/Los_Angeles:20190904T200000
DTSTAMP:20260424T121819
CREATED:20190826T225729Z
LAST-MODIFIED:20190826T225743Z
UID:29018-1567620000-1567627200@www.ghcc4u.org
SUMMARY:Wednesday Night Youth Group
DESCRIPTION:Please join us for a great evening of fun activities\, pizza\, and study in God’s word!
URL:https://www.ghcc4u.org/event/wednesday-night-youth-group-2019-20/
LOCATION:Granada Hills Community Church\, 11263 Balboa Blvd\, Granada Hills\, CA\, 91344\, United States
CATEGORIES:Youth Ministry
ATTACH;FMTTYPE=image/jpeg:https://www.ghcc4u.org/wp-content/uploads/2019/02/skateboarders.jpg
END:VEVENT
BEGIN:VEVENT
DTSTART;TZID=America/Los_Angeles:20190828T180000
DTEND;TZID=America/Los_Angeles:20190828T200000
DTSTAMP:20260424T121819
CREATED:20190801T235138Z
LAST-MODIFIED:20190801T235211Z
UID:28998-1567015200-1567022400@www.ghcc4u.org
SUMMARY:Wednesday Night Youth Group
DESCRIPTION:Please join us for a great evening of fun activities\, pizza\, and study in God’s word!
URL:https://www.ghcc4u.org/event/wednesday-night-youth-group-2019-19/
LOCATION:Granada Hills Community Church\, 11263 Balboa Blvd\, Granada Hills\, CA\, 91344\, United States
CATEGORIES:Youth Ministry
ATTACH;FMTTYPE=image/jpeg:https://www.ghcc4u.org/wp-content/uploads/2019/02/skateboarders.jpg
END:VEVENT
BEGIN:VEVENT
DTSTART;TZID=America/Los_Angeles:20190821T180000
DTEND;TZID=America/Los_Angeles:20190821T200000
DTSTAMP:20260424T121819
CREATED:20190801T235036Z
LAST-MODIFIED:20190801T235114Z
UID:28996-1566410400-1566417600@www.ghcc4u.org
SUMMARY:Wednesday Night Youth Group
DESCRIPTION:Please join us for a great evening of fun activities\, pizza\, and study in God’s word!
URL:https://www.ghcc4u.org/event/wednesday-night-youth-group-2019-18/
LOCATION:Granada Hills Community Church\, 11263 Balboa Blvd\, Granada Hills\, CA\, 91344\, United States
CATEGORIES:Youth Ministry
ATTACH;FMTTYPE=image/jpeg:https://www.ghcc4u.org/wp-content/uploads/2019/02/skateboarders.jpg
END:VEVENT
BEGIN:VEVENT
DTSTART;TZID=America/Los_Angeles:20190803T110000
DTEND;TZID=America/Los_Angeles:20190803T180000
DTSTAMP:20260424T121819
CREATED:20190704T000416Z
LAST-MODIFIED:20190704T000447Z
UID:28969-1564830000-1564855200@www.ghcc4u.org
SUMMARY:Youth Beach Day
DESCRIPTION:Please come join us for some fun in the sun for our Youth Beach Day!
URL:https://www.ghcc4u.org/event/youth-beach-day-2019-1/
LOCATION:Granada Hills Community Church\, 11263 Balboa Blvd\, Granada Hills\, CA\, 91344\, United States
CATEGORIES:Youth Ministry
ATTACH;FMTTYPE=image/jpeg:https://www.ghcc4u.org/wp-content/uploads/2019/02/beach.jpg
END:VEVENT
BEGIN:VEVENT
DTSTART;TZID=America/Los_Angeles:20190712T170000
DTEND;TZID=America/Los_Angeles:20190714T140000
DTSTAMP:20260424T121819
CREATED:20190704T000116Z
LAST-MODIFIED:20190704T000156Z
UID:28966-1562950800-1563112800@www.ghcc4u.org
SUMMARY:Youth Summer Retreat
DESCRIPTION:The GHCC Youth Group will be going on retreat at McGill Campground in Frazier Park\, CA. We will be camping\, hiking\, and enjoying one another’s company while studying God’s word and being transformed from the inside out.\nAll GHCC Youth Group families are encouraged to reach out and invite teenagers\, grades 6-12!
URL:https://www.ghcc4u.org/event/youth-summer-retreat-2019-1/
LOCATION:McGill Campground\, McGill Camp Rd\, Frazier Park\, CA\, 93225\, United States
CATEGORIES:Youth Ministry
ATTACH;FMTTYPE=image/jpeg:https://www.ghcc4u.org/wp-content/uploads/2019/02/tent.jpg
END:VEVENT
BEGIN:VEVENT
DTSTART;TZID=America/Los_Angeles:20190629T150000
DTEND;TZID=America/Los_Angeles:20190629T180000
DTSTAMP:20260424T121819
CREATED:20190606T223238Z
LAST-MODIFIED:20190606T223310Z
UID:28927-1561820400-1561831200@www.ghcc4u.org
SUMMARY:Youth Summer BBQ
DESCRIPTION:Please come join us for food\, fun\, and fellowship at our Youth Summer BBQ!\nAll GHCC Youth Group families are encouraged to reach out and invite neighbors and friends!
URL:https://www.ghcc4u.org/event/youth-summer-bbq-2019-1/
LOCATION:Granada Hills Community Church\, 11263 Balboa Blvd\, Granada Hills\, CA\, 91344\, United States
CATEGORIES:Youth Ministry
ATTACH;FMTTYPE=image/jpeg:https://www.ghcc4u.org/wp-content/uploads/2019/02/youth-bbq.jpg
END:VEVENT
BEGIN:VEVENT
DTSTART;TZID=America/Los_Angeles:20190605T180000
DTEND;TZID=America/Los_Angeles:20190605T203000
DTSTAMP:20260424T121819
CREATED:20190520T184738Z
LAST-MODIFIED:20190520T184813Z
UID:28848-1559757600-1559766600@www.ghcc4u.org
SUMMARY:Youth Movie Night
DESCRIPTION:Come join us for a fun evening of pizza\, snacks\, and a movie!
URL:https://www.ghcc4u.org/event/youth-movie-night-2019-2/
LOCATION:Granada Hills Community Church\, 11263 Balboa Blvd\, Granada Hills\, CA\, 91344\, United States
CATEGORIES:Youth Ministry
ATTACH;FMTTYPE=image/jpeg:https://www.ghcc4u.org/wp-content/uploads/2019/02/movie.jpg
END:VEVENT
BEGIN:VEVENT
DTSTART;TZID=America/Los_Angeles:20190529T180000
DTEND;TZID=America/Los_Angeles:20190529T210000
DTSTAMP:20260424T121819
CREATED:20190520T184503Z
LAST-MODIFIED:20190520T184544Z
UID:28845-1559152800-1559163600@www.ghcc4u.org
SUMMARY:Youth Group @ Skateland
DESCRIPTION:The GHCC Youth Group will be having a fun outing at Skateland\, a rollerskating rink located at 18140 Parthenia St Northridge CA 91325. Admission is $8 and $6 to rent skates. You can also bring your own skates. It will cost $3 if you want to come but not skate.\nWe will meet at GHCC at 6:00pm to have pizza\, and then carpool over to Skateland at 6:30pm.
URL:https://www.ghcc4u.org/event/youth-group-at-skateland-2019-1/
LOCATION:Skateland\, 18140 Parthenia St\, Northridge\, CA\, 91325\, United States
CATEGORIES:Youth Ministry
ATTACH;FMTTYPE=image/jpeg:https://www.ghcc4u.org/wp-content/uploads/2019/05/skates.jpg
END:VEVENT
BEGIN:VEVENT
DTSTART;TZID=America/Los_Angeles:20190515T180000
DTEND;TZID=America/Los_Angeles:20190515T200000
DTSTAMP:20260424T121819
CREATED:20190501T184320Z
LAST-MODIFIED:20190501T184357Z
UID:28816-1557943200-1557950400@www.ghcc4u.org
SUMMARY:Wednesday Night Youth Group
DESCRIPTION:Please join us for a great evening of fun activities\, pizza\, and study in God’s word!
URL:https://www.ghcc4u.org/event/wednesday-night-youth-group-2019-17/
LOCATION:Granada Hills Community Church\, 11263 Balboa Blvd\, Granada Hills\, CA\, 91344\, United States
CATEGORIES:Youth Ministry
ATTACH;FMTTYPE=image/jpeg:https://www.ghcc4u.org/wp-content/uploads/2019/02/skateboarders.jpg
END:VEVENT
BEGIN:VEVENT
DTSTART;TZID=America/Los_Angeles:20190511T070000
DTEND;TZID=America/Los_Angeles:20190511T083000
DTSTAMP:20260424T121819
CREATED:20190501T185625Z
LAST-MODIFIED:20190501T185656Z
UID:28830-1557558000-1557563400@www.ghcc4u.org
SUMMARY:Men's Breakfast @ Open Arms
DESCRIPTION:The GHCC Men’s Breakfast will head over to the Open Arms Pregnancy Clinic to serve them by washing their glass indoor partitions.\nWe will meet in the Open Arms Pregnancy Clinic parking lot at 7:00am. Coffee and donuts will be provided.
URL:https://www.ghcc4u.org/event/mens-breakfast-at-open-arms-2019-1/
LOCATION:Open Arms Pregnancy Clinic\, 9535 Reseda Blvd #303\, Northridge\, CA\, 91324\, United States
CATEGORIES:Youth Ministry
ATTACH;FMTTYPE=image/jpeg:https://www.ghcc4u.org/wp-content/uploads/2019/02/mens-breakfast.jpg
END:VEVENT
BEGIN:VEVENT
DTSTART;TZID=America/Los_Angeles:20190508T180000
DTEND;TZID=America/Los_Angeles:20190508T200000
DTSTAMP:20260424T121819
CREATED:20190501T183731Z
LAST-MODIFIED:20190501T183805Z
UID:28814-1557338400-1557345600@www.ghcc4u.org
SUMMARY:Wednesday Night Youth Group
DESCRIPTION:Please join us for a great evening of fun activities\, pizza\, and study in God’s word!
URL:https://www.ghcc4u.org/event/wednesday-night-youth-group-2019-16/
LOCATION:Granada Hills Community Church\, 11263 Balboa Blvd\, Granada Hills\, CA\, 91344\, United States
CATEGORIES:Youth Ministry
ATTACH;FMTTYPE=image/jpeg:https://www.ghcc4u.org/wp-content/uploads/2019/02/skateboarders.jpg
END:VEVENT
BEGIN:VEVENT
DTSTART;TZID=America/Los_Angeles:20190501T180000
DTEND;TZID=America/Los_Angeles:20190501T200000
DTSTAMP:20260424T121819
CREATED:20190501T183642Z
LAST-MODIFIED:20190501T183816Z
UID:28812-1556733600-1556740800@www.ghcc4u.org
SUMMARY:Wednesday Night Youth Group
DESCRIPTION:Please join us for a great evening of fun activities\, pizza\, and study in God’s word!
URL:https://www.ghcc4u.org/event/wednesday-night-youth-group-2019-15/
LOCATION:Granada Hills Community Church\, 11263 Balboa Blvd\, Granada Hills\, CA\, 91344\, United States
CATEGORIES:Youth Ministry
ATTACH;FMTTYPE=image/jpeg:https://www.ghcc4u.org/wp-content/uploads/2019/02/skateboarders.jpg
END:VEVENT
BEGIN:VEVENT
DTSTART;TZID=America/Los_Angeles:20190426T190000
DTEND;TZID=America/Los_Angeles:20190426T210000
DTSTAMP:20260424T121819
CREATED:20190401T190533Z
LAST-MODIFIED:20190401T190657Z
UID:28784-1556305200-1556312400@www.ghcc4u.org
SUMMARY:Youth Group @ Unaltered
DESCRIPTION:The GHCC Youth Group will attend the UNALTERED Tour\, which defines the original purpose of love\, sex and life and inspires teens to live with integrity and influence. Unaltered is more than an event\, it’s a lifestyle\, a movement rooted in the Gospel. It exists to raise awareness of our brokenness\, present the hope found in Christ\, and reveal God’s design for love\, sex and life.\nWe will meet at West Valley Christian Church at 6:30pm when doors open.
URL:https://www.ghcc4u.org/event/youth-group-at-unaltered-2019-1/
LOCATION:West Valley Christian Church\, 22450 Sherman Way\, West Hills\, CA\, 91307\, United States
CATEGORIES:Youth Ministry
ATTACH;FMTTYPE=image/jpeg:https://www.ghcc4u.org/wp-content/uploads/2019/04/unaltered.jpg
END:VEVENT
BEGIN:VEVENT
DTSTART;TZID=America/Los_Angeles:20190424T180000
DTEND;TZID=America/Los_Angeles:20190424T200000
DTSTAMP:20260424T121819
CREATED:20190401T173244Z
LAST-MODIFIED:20190401T173318Z
UID:28767-1556128800-1556136000@www.ghcc4u.org
SUMMARY:Wednesday Night Youth Group
DESCRIPTION:Please join us for a great evening of fun activities\, pizza\, and study in God’s word!
URL:https://www.ghcc4u.org/event/wednesday-night-youth-group-2019-14/
LOCATION:Granada Hills Community Church\, 11263 Balboa Blvd\, Granada Hills\, CA\, 91344\, United States
CATEGORIES:Youth Ministry
ATTACH;FMTTYPE=image/jpeg:https://www.ghcc4u.org/wp-content/uploads/2019/02/skateboarders.jpg
END:VEVENT
BEGIN:VEVENT
DTSTART;TZID=America/Los_Angeles:20190410T180000
DTEND;TZID=America/Los_Angeles:20190410T200000
DTSTAMP:20260424T121819
CREATED:20190401T173146Z
LAST-MODIFIED:20190401T173216Z
UID:28765-1554919200-1554926400@www.ghcc4u.org
SUMMARY:Wednesday Night Youth Group
DESCRIPTION:Please join us for a great evening of fun activities\, pizza\, and study in God’s word!
URL:https://www.ghcc4u.org/event/wednesday-night-youth-group-2019-13/
LOCATION:Granada Hills Community Church\, 11263 Balboa Blvd\, Granada Hills\, CA\, 91344\, United States
CATEGORIES:Youth Ministry
ATTACH;FMTTYPE=image/jpeg:https://www.ghcc4u.org/wp-content/uploads/2019/02/skateboarders.jpg
END:VEVENT
END:VCALENDAR