BEGIN:VCALENDAR
VERSION:2.0
PRODID:-//Granada Hills Community Church - ECPv6.15.20//NONSGML v1.0//EN
CALSCALE:GREGORIAN
METHOD:PUBLISH
X-WR-CALNAME:Granada Hills Community Church
X-ORIGINAL-URL:https://www.ghcc4u.org
X-WR-CALDESC:Events for Granada Hills Community Church
REFRESH-INTERVAL;VALUE=DURATION:PT1H
X-Robots-Tag:noindex
X-PUBLISHED-TTL:PT1H
BEGIN:VTIMEZONE
TZID:America/Los_Angeles
BEGIN:DAYLIGHT
TZOFFSETFROM:-0800
TZOFFSETTO:-0700
TZNAME:PDT
DTSTART:20250309T100000
END:DAYLIGHT
BEGIN:STANDARD
TZOFFSETFROM:-0700
TZOFFSETTO:-0800
TZNAME:PST
DTSTART:20251102T090000
END:STANDARD
BEGIN:DAYLIGHT
TZOFFSETFROM:-0800
TZOFFSETTO:-0700
TZNAME:PDT
DTSTART:20260308T100000
END:DAYLIGHT
BEGIN:STANDARD
TZOFFSETFROM:-0700
TZOFFSETTO:-0800
TZNAME:PST
DTSTART:20261101T090000
END:STANDARD
BEGIN:DAYLIGHT
TZOFFSETFROM:-0800
TZOFFSETTO:-0700
TZNAME:PDT
DTSTART:20270314T100000
END:DAYLIGHT
BEGIN:STANDARD
TZOFFSETFROM:-0700
TZOFFSETTO:-0800
TZNAME:PST
DTSTART:20271107T090000
END:STANDARD
END:VTIMEZONE
BEGIN:VEVENT
DTSTART;TZID=America/Los_Angeles:20260415T183000
DTEND;TZID=America/Los_Angeles:20260415T200000
DTSTAMP:20260423T160934
CREATED:20260406T192726Z
LAST-MODIFIED:20260406T192737Z
UID:31737-1776277800-1776283200@www.ghcc4u.org
SUMMARY:Wednesday Night Women's Winter Bible Study
DESCRIPTION:“A Woman’s Walk with God” is an invitation to experience the joys of moment-by-moment living in the Lord’s power–and producing the fruit of the Spirit in every circumstance! Elizabeth George gives practical help with making this possible in this study of the fruit of the Spirit.\nDiscover love\, joy\, and peace that changes hearts\, families\, and friendships; patience\, kindness\, and goodness that seeks the best for everyone; faithfulness\, gentleness\, and self-control that brings spiritual victory in life”s more challenging moments.
URL:https://www.ghcc4u.org/event/wednesday-night-womens-winter-bible-study-2026-14/
LOCATION:Granada Hills Community Church\, 11263 Balboa Blvd\, Granada Hills\, CA\, 91344\, United States
CATEGORIES:Women's Ministry
ATTACH;FMTTYPE=image/jpeg:https://www.ghcc4u.org/wp-content/uploads/2026/01/george.jpg
END:VEVENT
BEGIN:VEVENT
DTSTART;TZID=America/Los_Angeles:20260416T094500
DTEND;TZID=America/Los_Angeles:20260416T113000
DTSTAMP:20260423T160934
CREATED:20260406T192826Z
LAST-MODIFIED:20260406T192849Z
UID:31741-1776332700-1776339000@www.ghcc4u.org
SUMMARY:Thursday Morning Women's Winter Bible Study
DESCRIPTION:“A Woman’s Walk with God” is an invitation to experience the joys of moment-by-moment living in the Lord’s power–and producing the fruit of the Spirit in every circumstance! Elizabeth George gives practical help with making this possible in this study of the fruit of the Spirit.\nDiscover love\, joy\, and peace that changes hearts\, families\, and friendships; patience\, kindness\, and goodness that seeks the best for everyone; faithfulness\, gentleness\, and self-control that brings spiritual victory in life”s more challenging moments.
URL:https://www.ghcc4u.org/event/thursday-morning-womens-winter-bible-study-2026-14/
LOCATION:Granada Hills Community Church\, 11263 Balboa Blvd\, Granada Hills\, CA\, 91344\, United States
CATEGORIES:Women's Ministry
ATTACH;FMTTYPE=image/jpeg:https://www.ghcc4u.org/wp-content/uploads/2026/01/george.jpg
END:VEVENT
BEGIN:VEVENT
DTSTART;TZID=America/Los_Angeles:20260422T183000
DTEND;TZID=America/Los_Angeles:20260422T200000
DTSTAMP:20260423T160934
CREATED:20260421T214608Z
LAST-MODIFIED:20260421T214704Z
UID:31749-1776882600-1776888000@www.ghcc4u.org
SUMMARY:Wednesday Night Women's Spring Bible Study
DESCRIPTION:Where can women get the wisdom that will help them make the right choices in the many decisions of life? How can they develop a faith that won’t waver or crumble when they’re overwhelmed by life’s trials and temptations? “James: Growing Strong in Wisdom and Faith” by Elizabeth George answers these questions and more and provides practical guidance on many issues that affect Christian women daily.\nIn this 7-week study we will study topics that include: living in faith\, speaking with wisdom\, how to pray\, how to persevere through trials\, how to resist temptation\, and lots more. We hope you will join us!
URL:https://www.ghcc4u.org/event/wednesday-night-womens-spring-bible-study-2026-01/
LOCATION:Granada Hills Community Church\, 11263 Balboa Blvd\, Granada Hills\, CA\, 91344\, United States
CATEGORIES:Women's Ministry
ATTACH;FMTTYPE=image/jpeg:https://www.ghcc4u.org/wp-content/uploads/2026/04/james.jpg
END:VEVENT
BEGIN:VEVENT
DTSTART;TZID=America/Los_Angeles:20260423T094500
DTEND;TZID=America/Los_Angeles:20260423T113000
DTSTAMP:20260423T160934
CREATED:20260421T215115Z
LAST-MODIFIED:20260421T215203Z
UID:31763-1776937500-1776943800@www.ghcc4u.org
SUMMARY:Thursday Morning Women's Spring Bible Study
DESCRIPTION:Where can women get the wisdom that will help them make the right choices in the many decisions of life? How can they develop a faith that won’t waver or crumble when they’re overwhelmed by life’s trials and temptations? “James: Growing Strong in Wisdom and Faith” by Elizabeth George answers these questions and more and provides practical guidance on many issues that affect Christian women daily.\nIn this 7-week study we will study topics that include: living in faith\, speaking with wisdom\, how to pray\, how to persevere through trials\, how to resist temptation\, and lots more. We hope you will join us!
URL:https://www.ghcc4u.org/event/thursday-morning-womens-spring-bible-study-2026-01/
LOCATION:Granada Hills Community Church\, 11263 Balboa Blvd\, Granada Hills\, CA\, 91344\, United States
CATEGORIES:Women's Ministry
ATTACH;FMTTYPE=image/jpeg:https://www.ghcc4u.org/wp-content/uploads/2026/04/james.jpg
END:VEVENT
BEGIN:VEVENT
DTSTART;TZID=America/Los_Angeles:20260429T183000
DTEND;TZID=America/Los_Angeles:20260429T200000
DTSTAMP:20260423T160934
CREATED:20260421T214646Z
LAST-MODIFIED:20260421T214719Z
UID:31751-1777487400-1777492800@www.ghcc4u.org
SUMMARY:Wednesday Night Women's Spring Bible Study
DESCRIPTION:Where can women get the wisdom that will help them make the right choices in the many decisions of life? How can they develop a faith that won’t waver or crumble when they’re overwhelmed by life’s trials and temptations? “James: Growing Strong in Wisdom and Faith” by Elizabeth George answers these questions and more and provides practical guidance on many issues that affect Christian women daily.\nIn this 7-week study we will study topics that include: living in faith\, speaking with wisdom\, how to pray\, how to persevere through trials\, how to resist temptation\, and lots more. We hope you will join us!
URL:https://www.ghcc4u.org/event/wednesday-night-womens-spring-bible-study-2026-02/
LOCATION:Granada Hills Community Church\, 11263 Balboa Blvd\, Granada Hills\, CA\, 91344\, United States
CATEGORIES:Women's Ministry
ATTACH;FMTTYPE=image/jpeg:https://www.ghcc4u.org/wp-content/uploads/2026/04/james.jpg
END:VEVENT
BEGIN:VEVENT
DTSTART;TZID=America/Los_Angeles:20260430T094500
DTEND;TZID=America/Los_Angeles:20260430T113000
DTSTAMP:20260423T160934
CREATED:20260421T215140Z
LAST-MODIFIED:20260421T215155Z
UID:31765-1777542300-1777548600@www.ghcc4u.org
SUMMARY:Thursday Morning Women's Spring Bible Study
DESCRIPTION:Where can women get the wisdom that will help them make the right choices in the many decisions of life? How can they develop a faith that won’t waver or crumble when they’re overwhelmed by life’s trials and temptations? “James: Growing Strong in Wisdom and Faith” by Elizabeth George answers these questions and more and provides practical guidance on many issues that affect Christian women daily.\nIn this 7-week study we will study topics that include: living in faith\, speaking with wisdom\, how to pray\, how to persevere through trials\, how to resist temptation\, and lots more. We hope you will join us!
URL:https://www.ghcc4u.org/event/thursday-morning-womens-spring-bible-study-2026-02/
LOCATION:Granada Hills Community Church\, 11263 Balboa Blvd\, Granada Hills\, CA\, 91344\, United States
CATEGORIES:Women's Ministry
ATTACH;FMTTYPE=image/jpeg:https://www.ghcc4u.org/wp-content/uploads/2026/04/james.jpg
END:VEVENT
BEGIN:VEVENT
DTSTART;TZID=America/Los_Angeles:20260506T183000
DTEND;TZID=America/Los_Angeles:20260506T200000
DTSTAMP:20260423T160934
CREATED:20260421T214742Z
LAST-MODIFIED:20260421T214753Z
UID:31753-1778092200-1778097600@www.ghcc4u.org
SUMMARY:Wednesday Night Women's Spring Bible Study
DESCRIPTION:Where can women get the wisdom that will help them make the right choices in the many decisions of life? How can they develop a faith that won’t waver or crumble when they’re overwhelmed by life’s trials and temptations? “James: Growing Strong in Wisdom and Faith” by Elizabeth George answers these questions and more and provides practical guidance on many issues that affect Christian women daily.\nIn this 7-week study we will study topics that include: living in faith\, speaking with wisdom\, how to pray\, how to persevere through trials\, how to resist temptation\, and lots more. We hope you will join us!
URL:https://www.ghcc4u.org/event/wednesday-night-womens-spring-bible-study-2026-03/
LOCATION:Granada Hills Community Church\, 11263 Balboa Blvd\, Granada Hills\, CA\, 91344\, United States
CATEGORIES:Women's Ministry
ATTACH;FMTTYPE=image/jpeg:https://www.ghcc4u.org/wp-content/uploads/2026/04/james.jpg
END:VEVENT
BEGIN:VEVENT
DTSTART;TZID=America/Los_Angeles:20260507T094500
DTEND;TZID=America/Los_Angeles:20260507T113000
DTSTAMP:20260423T160934
CREATED:20260421T215225Z
LAST-MODIFIED:20260421T215247Z
UID:31767-1778147100-1778153400@www.ghcc4u.org
SUMMARY:Thursday Morning Women's Spring Bible Study
DESCRIPTION:Where can women get the wisdom that will help them make the right choices in the many decisions of life? How can they develop a faith that won’t waver or crumble when they’re overwhelmed by life’s trials and temptations? “James: Growing Strong in Wisdom and Faith” by Elizabeth George answers these questions and more and provides practical guidance on many issues that affect Christian women daily.\nIn this 7-week study we will study topics that include: living in faith\, speaking with wisdom\, how to pray\, how to persevere through trials\, how to resist temptation\, and lots more. We hope you will join us!
URL:https://www.ghcc4u.org/event/thursday-morning-womens-spring-bible-study-2026-03/
LOCATION:Granada Hills Community Church\, 11263 Balboa Blvd\, Granada Hills\, CA\, 91344\, United States
CATEGORIES:Women's Ministry
ATTACH;FMTTYPE=image/jpeg:https://www.ghcc4u.org/wp-content/uploads/2026/04/james.jpg
END:VEVENT
BEGIN:VEVENT
DTSTART;TZID=America/Los_Angeles:20260513T183000
DTEND;TZID=America/Los_Angeles:20260513T200000
DTSTAMP:20260423T160934
CREATED:20260421T214809Z
LAST-MODIFIED:20260421T214826Z
UID:31755-1778697000-1778702400@www.ghcc4u.org
SUMMARY:Wednesday Night Women's Spring Bible Study
DESCRIPTION:Where can women get the wisdom that will help them make the right choices in the many decisions of life? How can they develop a faith that won’t waver or crumble when they’re overwhelmed by life’s trials and temptations? “James: Growing Strong in Wisdom and Faith” by Elizabeth George answers these questions and more and provides practical guidance on many issues that affect Christian women daily.\nIn this 7-week study we will study topics that include: living in faith\, speaking with wisdom\, how to pray\, how to persevere through trials\, how to resist temptation\, and lots more. We hope you will join us!
URL:https://www.ghcc4u.org/event/wednesday-night-womens-spring-bible-study-2026-04/
LOCATION:Granada Hills Community Church\, 11263 Balboa Blvd\, Granada Hills\, CA\, 91344\, United States
CATEGORIES:Women's Ministry
ATTACH;FMTTYPE=image/jpeg:https://www.ghcc4u.org/wp-content/uploads/2026/04/james.jpg
END:VEVENT
BEGIN:VEVENT
DTSTART;TZID=America/Los_Angeles:20260514T094500
DTEND;TZID=America/Los_Angeles:20260514T113000
DTSTAMP:20260423T160934
CREATED:20260421T215302Z
LAST-MODIFIED:20260421T215315Z
UID:31769-1778751900-1778758200@www.ghcc4u.org
SUMMARY:Thursday Morning Women's Spring Bible Study
DESCRIPTION:Where can women get the wisdom that will help them make the right choices in the many decisions of life? How can they develop a faith that won’t waver or crumble when they’re overwhelmed by life’s trials and temptations? “James: Growing Strong in Wisdom and Faith” by Elizabeth George answers these questions and more and provides practical guidance on many issues that affect Christian women daily.\nIn this 7-week study we will study topics that include: living in faith\, speaking with wisdom\, how to pray\, how to persevere through trials\, how to resist temptation\, and lots more. We hope you will join us!
URL:https://www.ghcc4u.org/event/thursday-morning-womens-spring-bible-study-2026-04/
LOCATION:Granada Hills Community Church\, 11263 Balboa Blvd\, Granada Hills\, CA\, 91344\, United States
CATEGORIES:Women's Ministry
ATTACH;FMTTYPE=image/jpeg:https://www.ghcc4u.org/wp-content/uploads/2026/04/james.jpg
END:VEVENT
BEGIN:VEVENT
DTSTART;TZID=America/Los_Angeles:20260520T183000
DTEND;TZID=America/Los_Angeles:20260520T200000
DTSTAMP:20260423T160934
CREATED:20260421T214842Z
LAST-MODIFIED:20260421T214853Z
UID:31757-1779301800-1779307200@www.ghcc4u.org
SUMMARY:Wednesday Night Women's Spring Bible Study
DESCRIPTION:Where can women get the wisdom that will help them make the right choices in the many decisions of life? How can they develop a faith that won’t waver or crumble when they’re overwhelmed by life’s trials and temptations? “James: Growing Strong in Wisdom and Faith” by Elizabeth George answers these questions and more and provides practical guidance on many issues that affect Christian women daily.\nIn this 7-week study we will study topics that include: living in faith\, speaking with wisdom\, how to pray\, how to persevere through trials\, how to resist temptation\, and lots more. We hope you will join us!
URL:https://www.ghcc4u.org/event/wednesday-night-womens-spring-bible-study-2026-05/
LOCATION:Granada Hills Community Church\, 11263 Balboa Blvd\, Granada Hills\, CA\, 91344\, United States
CATEGORIES:Women's Ministry
ATTACH;FMTTYPE=image/jpeg:https://www.ghcc4u.org/wp-content/uploads/2026/04/james.jpg
END:VEVENT
BEGIN:VEVENT
DTSTART;TZID=America/Los_Angeles:20260521T094500
DTEND;TZID=America/Los_Angeles:20260521T113000
DTSTAMP:20260423T160934
CREATED:20260421T215331Z
LAST-MODIFIED:20260421T215341Z
UID:31771-1779356700-1779363000@www.ghcc4u.org
SUMMARY:Thursday Morning Women's Spring Bible Study
DESCRIPTION:Where can women get the wisdom that will help them make the right choices in the many decisions of life? How can they develop a faith that won’t waver or crumble when they’re overwhelmed by life’s trials and temptations? “James: Growing Strong in Wisdom and Faith” by Elizabeth George answers these questions and more and provides practical guidance on many issues that affect Christian women daily.\nIn this 7-week study we will study topics that include: living in faith\, speaking with wisdom\, how to pray\, how to persevere through trials\, how to resist temptation\, and lots more. We hope you will join us!
URL:https://www.ghcc4u.org/event/thursday-morning-womens-spring-bible-study-2026-05/
LOCATION:Granada Hills Community Church\, 11263 Balboa Blvd\, Granada Hills\, CA\, 91344\, United States
CATEGORIES:Women's Ministry
ATTACH;FMTTYPE=image/jpeg:https://www.ghcc4u.org/wp-content/uploads/2026/04/james.jpg
END:VEVENT
BEGIN:VEVENT
DTSTART;TZID=America/Los_Angeles:20260527T183000
DTEND;TZID=America/Los_Angeles:20260527T200000
DTSTAMP:20260423T160934
CREATED:20260421T214910Z
LAST-MODIFIED:20260421T214920Z
UID:31759-1779906600-1779912000@www.ghcc4u.org
SUMMARY:Wednesday Night Women's Spring Bible Study
DESCRIPTION:Where can women get the wisdom that will help them make the right choices in the many decisions of life? How can they develop a faith that won’t waver or crumble when they’re overwhelmed by life’s trials and temptations? “James: Growing Strong in Wisdom and Faith” by Elizabeth George answers these questions and more and provides practical guidance on many issues that affect Christian women daily.\nIn this 7-week study we will study topics that include: living in faith\, speaking with wisdom\, how to pray\, how to persevere through trials\, how to resist temptation\, and lots more. We hope you will join us!
URL:https://www.ghcc4u.org/event/wednesday-night-womens-spring-bible-study-2026-06/
LOCATION:Granada Hills Community Church\, 11263 Balboa Blvd\, Granada Hills\, CA\, 91344\, United States
CATEGORIES:Women's Ministry
ATTACH;FMTTYPE=image/jpeg:https://www.ghcc4u.org/wp-content/uploads/2026/04/james.jpg
END:VEVENT
BEGIN:VEVENT
DTSTART;TZID=America/Los_Angeles:20260528T094500
DTEND;TZID=America/Los_Angeles:20260528T113000
DTSTAMP:20260423T160934
CREATED:20260421T215356Z
LAST-MODIFIED:20260421T215406Z
UID:31773-1779961500-1779967800@www.ghcc4u.org
SUMMARY:Thursday Morning Women's Spring Bible Study
DESCRIPTION:Where can women get the wisdom that will help them make the right choices in the many decisions of life? How can they develop a faith that won’t waver or crumble when they’re overwhelmed by life’s trials and temptations? “James: Growing Strong in Wisdom and Faith” by Elizabeth George answers these questions and more and provides practical guidance on many issues that affect Christian women daily.\nIn this 7-week study we will study topics that include: living in faith\, speaking with wisdom\, how to pray\, how to persevere through trials\, how to resist temptation\, and lots more. We hope you will join us!
URL:https://www.ghcc4u.org/event/thursday-morning-womens-spring-bible-study-2026-06/
LOCATION:Granada Hills Community Church\, 11263 Balboa Blvd\, Granada Hills\, CA\, 91344\, United States
CATEGORIES:Women's Ministry
ATTACH;FMTTYPE=image/jpeg:https://www.ghcc4u.org/wp-content/uploads/2026/04/james.jpg
END:VEVENT
BEGIN:VEVENT
DTSTART;TZID=America/Los_Angeles:20260603T183000
DTEND;TZID=America/Los_Angeles:20260603T200000
DTSTAMP:20260423T160934
CREATED:20260421T214935Z
LAST-MODIFIED:20260421T214947Z
UID:31761-1780511400-1780516800@www.ghcc4u.org
SUMMARY:Wednesday Night Women's Spring Bible Study
DESCRIPTION:Where can women get the wisdom that will help them make the right choices in the many decisions of life? How can they develop a faith that won’t waver or crumble when they’re overwhelmed by life’s trials and temptations? “James: Growing Strong in Wisdom and Faith” by Elizabeth George answers these questions and more and provides practical guidance on many issues that affect Christian women daily.\nIn this 7-week study we will study topics that include: living in faith\, speaking with wisdom\, how to pray\, how to persevere through trials\, how to resist temptation\, and lots more. We hope you will join us!
URL:https://www.ghcc4u.org/event/wednesday-night-womens-spring-bible-study-2026-07/
LOCATION:Granada Hills Community Church\, 11263 Balboa Blvd\, Granada Hills\, CA\, 91344\, United States
CATEGORIES:Women's Ministry
ATTACH;FMTTYPE=image/jpeg:https://www.ghcc4u.org/wp-content/uploads/2026/04/james.jpg
END:VEVENT
BEGIN:VEVENT
DTSTART;TZID=America/Los_Angeles:20260604T094500
DTEND;TZID=America/Los_Angeles:20260604T113000
DTSTAMP:20260423T160934
CREATED:20260421T215444Z
LAST-MODIFIED:20260421T215514Z
UID:31776-1780566300-1780572600@www.ghcc4u.org
SUMMARY:Thursday Morning Women's Spring Bible Study
DESCRIPTION:Where can women get the wisdom that will help them make the right choices in the many decisions of life? How can they develop a faith that won’t waver or crumble when they’re overwhelmed by life’s trials and temptations? “James: Growing Strong in Wisdom and Faith” by Elizabeth George answers these questions and more and provides practical guidance on many issues that affect Christian women daily.\nIn this 7-week study we will study topics that include: living in faith\, speaking with wisdom\, how to pray\, how to persevere through trials\, how to resist temptation\, and lots more. We hope you will join us!
URL:https://www.ghcc4u.org/event/thursday-morning-womens-spring-bible-study-2026-07/
LOCATION:Granada Hills Community Church\, 11263 Balboa Blvd\, Granada Hills\, CA\, 91344\, United States
CATEGORIES:Women's Ministry
ATTACH;FMTTYPE=image/jpeg:https://www.ghcc4u.org/wp-content/uploads/2026/04/james.jpg
END:VEVENT
BEGIN:VEVENT
DTSTART;TZID=America/Los_Angeles:20260610T183000
DTEND;TZID=America/Los_Angeles:20260610T200000
DTSTAMP:20260423T160934
CREATED:20260421T215533Z
LAST-MODIFIED:20260421T215547Z
UID:31775-1781116200-1781121600@www.ghcc4u.org
SUMMARY:Wednesday Night Women's Spring Bible Study
DESCRIPTION:Where can women get the wisdom that will help them make the right choices in the many decisions of life? How can they develop a faith that won’t waver or crumble when they’re overwhelmed by life’s trials and temptations? “James: Growing Strong in Wisdom and Faith” by Elizabeth George answers these questions and more and provides practical guidance on many issues that affect Christian women daily.\nIn this 7-week study we will study topics that include: living in faith\, speaking with wisdom\, how to pray\, how to persevere through trials\, how to resist temptation\, and lots more. We hope you will join us!
URL:https://www.ghcc4u.org/event/wednesday-night-womens-spring-bible-study-2026-08/
LOCATION:Granada Hills Community Church\, 11263 Balboa Blvd\, Granada Hills\, CA\, 91344\, United States
CATEGORIES:Women's Ministry
ATTACH;FMTTYPE=image/jpeg:https://www.ghcc4u.org/wp-content/uploads/2026/04/james.jpg
END:VEVENT
BEGIN:VEVENT
DTSTART;TZID=America/Los_Angeles:20260611T094500
DTEND;TZID=America/Los_Angeles:20260611T113000
DTSTAMP:20260423T160934
CREATED:20260421T215601Z
LAST-MODIFIED:20260421T215611Z
UID:31779-1781171100-1781177400@www.ghcc4u.org
SUMMARY:Thursday Morning Women's Spring Bible Study
DESCRIPTION:Where can women get the wisdom that will help them make the right choices in the many decisions of life? How can they develop a faith that won’t waver or crumble when they’re overwhelmed by life’s trials and temptations? “James: Growing Strong in Wisdom and Faith” by Elizabeth George answers these questions and more and provides practical guidance on many issues that affect Christian women daily.\nIn this 7-week study we will study topics that include: living in faith\, speaking with wisdom\, how to pray\, how to persevere through trials\, how to resist temptation\, and lots more. We hope you will join us!
URL:https://www.ghcc4u.org/event/thursday-morning-womens-spring-bible-study-2026-08/
LOCATION:Granada Hills Community Church\, 11263 Balboa Blvd\, Granada Hills\, CA\, 91344\, United States
CATEGORIES:Women's Ministry
ATTACH;FMTTYPE=image/jpeg:https://www.ghcc4u.org/wp-content/uploads/2026/04/james.jpg
END:VEVENT
END:VCALENDAR