BEGIN:VCALENDAR
VERSION:2.0
PRODID:-//Granada Hills Community Church - ECPv6.15.20//NONSGML v1.0//EN
CALSCALE:GREGORIAN
METHOD:PUBLISH
X-WR-CALNAME:Granada Hills Community Church
X-ORIGINAL-URL:https://www.ghcc4u.org
X-WR-CALDESC:Events for Granada Hills Community Church
REFRESH-INTERVAL;VALUE=DURATION:PT1H
X-Robots-Tag:noindex
X-PUBLISHED-TTL:PT1H
BEGIN:VTIMEZONE
TZID:America/Los_Angeles
BEGIN:DAYLIGHT
TZOFFSETFROM:-0800
TZOFFSETTO:-0700
TZNAME:PDT
DTSTART:20250309T100000
END:DAYLIGHT
BEGIN:STANDARD
TZOFFSETFROM:-0700
TZOFFSETTO:-0800
TZNAME:PST
DTSTART:20251102T090000
END:STANDARD
BEGIN:DAYLIGHT
TZOFFSETFROM:-0800
TZOFFSETTO:-0700
TZNAME:PDT
DTSTART:20260308T100000
END:DAYLIGHT
BEGIN:STANDARD
TZOFFSETFROM:-0700
TZOFFSETTO:-0800
TZNAME:PST
DTSTART:20261101T090000
END:STANDARD
BEGIN:DAYLIGHT
TZOFFSETFROM:-0800
TZOFFSETTO:-0700
TZNAME:PDT
DTSTART:20270314T100000
END:DAYLIGHT
BEGIN:STANDARD
TZOFFSETFROM:-0700
TZOFFSETTO:-0800
TZNAME:PST
DTSTART:20271107T090000
END:STANDARD
END:VTIMEZONE
BEGIN:VEVENT
DTSTART;TZID=America/Los_Angeles:20260304T183000
DTEND;TZID=America/Los_Angeles:20260304T200000
DTSTAMP:20260423T124526
CREATED:20260218T234615Z
LAST-MODIFIED:20260218T234625Z
UID:31619-1772649000-1772654400@www.ghcc4u.org
SUMMARY:Wednesday Night Women's Winter Bible Study
DESCRIPTION:“A Woman’s Walk with God” is an invitation to experience the joys of moment-by-moment living in the Lord’s power–and producing the fruit of the Spirit in every circumstance! Elizabeth George gives practical help with making this possible in this study of the fruit of the Spirit.\nDiscover love\, joy\, and peace that changes hearts\, families\, and friendships; patience\, kindness\, and goodness that seeks the best for everyone; faithfulness\, gentleness\, and self-control that brings spiritual victory in life”s more challenging moments.
URL:https://www.ghcc4u.org/event/wednesday-night-womens-winter-bible-study-2026-09/
LOCATION:Granada Hills Community Church\, 11263 Balboa Blvd\, Granada Hills\, CA\, 91344\, United States
CATEGORIES:Women's Ministry
ATTACH;FMTTYPE=image/jpeg:https://www.ghcc4u.org/wp-content/uploads/2026/01/george.jpg
END:VEVENT
BEGIN:VEVENT
DTSTART;TZID=America/Los_Angeles:20260305T094500
DTEND;TZID=America/Los_Angeles:20260305T113000
DTSTAMP:20260423T124526
CREATED:20260218T234820Z
LAST-MODIFIED:20260218T234832Z
UID:31627-1772703900-1772710200@www.ghcc4u.org
SUMMARY:Thursday Morning Women's Winter Bible Study
DESCRIPTION:“A Woman’s Walk with God” is an invitation to experience the joys of moment-by-moment living in the Lord’s power–and producing the fruit of the Spirit in every circumstance! Elizabeth George gives practical help with making this possible in this study of the fruit of the Spirit.\nDiscover love\, joy\, and peace that changes hearts\, families\, and friendships; patience\, kindness\, and goodness that seeks the best for everyone; faithfulness\, gentleness\, and self-control that brings spiritual victory in life”s more challenging moments.
URL:https://www.ghcc4u.org/event/thursday-morning-womens-winter-bible-study-2026-09/
LOCATION:Granada Hills Community Church\, 11263 Balboa Blvd\, Granada Hills\, CA\, 91344\, United States
CATEGORIES:Women's Ministry
ATTACH;FMTTYPE=image/jpeg:https://www.ghcc4u.org/wp-content/uploads/2026/01/george.jpg
END:VEVENT
BEGIN:VEVENT
DTSTART;TZID=America/Los_Angeles:20260311T183000
DTEND;TZID=America/Los_Angeles:20260311T200000
DTSTAMP:20260423T124526
CREATED:20260218T234640Z
LAST-MODIFIED:20260218T234700Z
UID:31621-1773253800-1773259200@www.ghcc4u.org
SUMMARY:Wednesday Night Women's Winter Bible Study
DESCRIPTION:“A Woman’s Walk with God” is an invitation to experience the joys of moment-by-moment living in the Lord’s power–and producing the fruit of the Spirit in every circumstance! Elizabeth George gives practical help with making this possible in this study of the fruit of the Spirit.\nDiscover love\, joy\, and peace that changes hearts\, families\, and friendships; patience\, kindness\, and goodness that seeks the best for everyone; faithfulness\, gentleness\, and self-control that brings spiritual victory in life”s more challenging moments.
URL:https://www.ghcc4u.org/event/wednesday-night-womens-winter-bible-study-2026-10/
LOCATION:Granada Hills Community Church\, 11263 Balboa Blvd\, Granada Hills\, CA\, 91344\, United States
CATEGORIES:Women's Ministry
ATTACH;FMTTYPE=image/jpeg:https://www.ghcc4u.org/wp-content/uploads/2026/01/george.jpg
END:VEVENT
BEGIN:VEVENT
DTSTART;TZID=America/Los_Angeles:20260312T094500
DTEND;TZID=America/Los_Angeles:20260312T113000
DTSTAMP:20260423T124526
CREATED:20260218T234848Z
LAST-MODIFIED:20260218T234859Z
UID:31629-1773308700-1773315000@www.ghcc4u.org
SUMMARY:Thursday Morning Women's Winter Bible Study
DESCRIPTION:“A Woman’s Walk with God” is an invitation to experience the joys of moment-by-moment living in the Lord’s power–and producing the fruit of the Spirit in every circumstance! Elizabeth George gives practical help with making this possible in this study of the fruit of the Spirit.\nDiscover love\, joy\, and peace that changes hearts\, families\, and friendships; patience\, kindness\, and goodness that seeks the best for everyone; faithfulness\, gentleness\, and self-control that brings spiritual victory in life”s more challenging moments.
URL:https://www.ghcc4u.org/event/thursday-morning-womens-winter-bible-study-2026-10/
LOCATION:Granada Hills Community Church\, 11263 Balboa Blvd\, Granada Hills\, CA\, 91344\, United States
CATEGORIES:Women's Ministry
ATTACH;FMTTYPE=image/jpeg:https://www.ghcc4u.org/wp-content/uploads/2026/01/george.jpg
END:VEVENT
BEGIN:VEVENT
DTSTART;TZID=America/Los_Angeles:20260318T183000
DTEND;TZID=America/Los_Angeles:20260318T200000
DTSTAMP:20260423T124526
CREATED:20260218T234721Z
LAST-MODIFIED:20260218T234730Z
UID:31623-1773858600-1773864000@www.ghcc4u.org
SUMMARY:Wednesday Night Women's Winter Bible Study
DESCRIPTION:“A Woman’s Walk with God” is an invitation to experience the joys of moment-by-moment living in the Lord’s power–and producing the fruit of the Spirit in every circumstance! Elizabeth George gives practical help with making this possible in this study of the fruit of the Spirit.\nDiscover love\, joy\, and peace that changes hearts\, families\, and friendships; patience\, kindness\, and goodness that seeks the best for everyone; faithfulness\, gentleness\, and self-control that brings spiritual victory in life”s more challenging moments.
URL:https://www.ghcc4u.org/event/wednesday-night-womens-winter-bible-study-2026-11/
LOCATION:Granada Hills Community Church\, 11263 Balboa Blvd\, Granada Hills\, CA\, 91344\, United States
CATEGORIES:Women's Ministry
ATTACH;FMTTYPE=image/jpeg:https://www.ghcc4u.org/wp-content/uploads/2026/01/george.jpg
END:VEVENT
BEGIN:VEVENT
DTSTART;TZID=America/Los_Angeles:20260319T094500
DTEND;TZID=America/Los_Angeles:20260319T113000
DTSTAMP:20260423T124526
CREATED:20260218T234917Z
LAST-MODIFIED:20260218T234927Z
UID:31631-1773913500-1773919800@www.ghcc4u.org
SUMMARY:Thursday Morning Women's Winter Bible Study
DESCRIPTION:“A Woman’s Walk with God” is an invitation to experience the joys of moment-by-moment living in the Lord’s power–and producing the fruit of the Spirit in every circumstance! Elizabeth George gives practical help with making this possible in this study of the fruit of the Spirit.\nDiscover love\, joy\, and peace that changes hearts\, families\, and friendships; patience\, kindness\, and goodness that seeks the best for everyone; faithfulness\, gentleness\, and self-control that brings spiritual victory in life”s more challenging moments.
URL:https://www.ghcc4u.org/event/thursday-morning-womens-winter-bible-study-2026-11/
LOCATION:Granada Hills Community Church\, 11263 Balboa Blvd\, Granada Hills\, CA\, 91344\, United States
CATEGORIES:Women's Ministry
ATTACH;FMTTYPE=image/jpeg:https://www.ghcc4u.org/wp-content/uploads/2026/01/george.jpg
END:VEVENT
BEGIN:VEVENT
DTSTART;TZID=America/Los_Angeles:20260325T183000
DTEND;TZID=America/Los_Angeles:20260325T200000
DTSTAMP:20260423T124526
CREATED:20260218T234743Z
LAST-MODIFIED:20260218T234754Z
UID:31625-1774463400-1774468800@www.ghcc4u.org
SUMMARY:Wednesday Night Women's Winter Bible Study
DESCRIPTION:“A Woman’s Walk with God” is an invitation to experience the joys of moment-by-moment living in the Lord’s power–and producing the fruit of the Spirit in every circumstance! Elizabeth George gives practical help with making this possible in this study of the fruit of the Spirit.\nDiscover love\, joy\, and peace that changes hearts\, families\, and friendships; patience\, kindness\, and goodness that seeks the best for everyone; faithfulness\, gentleness\, and self-control that brings spiritual victory in life”s more challenging moments.
URL:https://www.ghcc4u.org/event/wednesday-night-womens-winter-bible-study-2026-12/
LOCATION:Granada Hills Community Church\, 11263 Balboa Blvd\, Granada Hills\, CA\, 91344\, United States
CATEGORIES:Women's Ministry
ATTACH;FMTTYPE=image/jpeg:https://www.ghcc4u.org/wp-content/uploads/2026/01/george.jpg
END:VEVENT
BEGIN:VEVENT
DTSTART;TZID=America/Los_Angeles:20260326T094500
DTEND;TZID=America/Los_Angeles:20260326T113000
DTSTAMP:20260423T124526
CREATED:20260218T234941Z
LAST-MODIFIED:20260218T234952Z
UID:31633-1774518300-1774524600@www.ghcc4u.org
SUMMARY:Thursday Morning Women's Winter Bible Study
DESCRIPTION:“A Woman’s Walk with God” is an invitation to experience the joys of moment-by-moment living in the Lord’s power–and producing the fruit of the Spirit in every circumstance! Elizabeth George gives practical help with making this possible in this study of the fruit of the Spirit.\nDiscover love\, joy\, and peace that changes hearts\, families\, and friendships; patience\, kindness\, and goodness that seeks the best for everyone; faithfulness\, gentleness\, and self-control that brings spiritual victory in life”s more challenging moments.
URL:https://www.ghcc4u.org/event/thursday-morning-womens-winter-bible-study-2026-12/
LOCATION:Granada Hills Community Church\, 11263 Balboa Blvd\, Granada Hills\, CA\, 91344\, United States
CATEGORIES:Women's Ministry
ATTACH;FMTTYPE=image/jpeg:https://www.ghcc4u.org/wp-content/uploads/2026/01/george.jpg
END:VEVENT
END:VCALENDAR