BEGIN:VCALENDAR
VERSION:2.0
PRODID:-//Granada Hills Community Church - ECPv6.15.20//NONSGML v1.0//EN
CALSCALE:GREGORIAN
METHOD:PUBLISH
X-WR-CALNAME:Granada Hills Community Church
X-ORIGINAL-URL:https://www.ghcc4u.org
X-WR-CALDESC:Events for Granada Hills Community Church
REFRESH-INTERVAL;VALUE=DURATION:PT1H
X-Robots-Tag:noindex
X-PUBLISHED-TTL:PT1H
BEGIN:VTIMEZONE
TZID:America/Los_Angeles
BEGIN:DAYLIGHT
TZOFFSETFROM:-0800
TZOFFSETTO:-0700
TZNAME:PDT
DTSTART:20250309T100000
END:DAYLIGHT
BEGIN:STANDARD
TZOFFSETFROM:-0700
TZOFFSETTO:-0800
TZNAME:PST
DTSTART:20251102T090000
END:STANDARD
BEGIN:DAYLIGHT
TZOFFSETFROM:-0800
TZOFFSETTO:-0700
TZNAME:PDT
DTSTART:20260308T100000
END:DAYLIGHT
BEGIN:STANDARD
TZOFFSETFROM:-0700
TZOFFSETTO:-0800
TZNAME:PST
DTSTART:20261101T090000
END:STANDARD
BEGIN:DAYLIGHT
TZOFFSETFROM:-0800
TZOFFSETTO:-0700
TZNAME:PDT
DTSTART:20270314T100000
END:DAYLIGHT
BEGIN:STANDARD
TZOFFSETFROM:-0700
TZOFFSETTO:-0800
TZNAME:PST
DTSTART:20271107T090000
END:STANDARD
END:VTIMEZONE
BEGIN:VEVENT
DTSTART;TZID=America/Los_Angeles:20260107T183000
DTEND;TZID=America/Los_Angeles:20260107T200000
DTSTAMP:20260423T161602
CREATED:20260105T190839Z
LAST-MODIFIED:20260105T190854Z
UID:31544-1767810600-1767816000@www.ghcc4u.org
SUMMARY:Wednesday Night Women's Winter Bible Study
DESCRIPTION:“A Woman’s Walk with God” is an invitation to experience the joys of moment-by-moment living in the Lord’s power–and producing the fruit of the Spirit in every circumstance! Elizabeth George gives practical help with making this possible in this study of the fruit of the Spirit.\nDiscover love\, joy\, and peace that changes hearts\, families\, and friendships; patience\, kindness\, and goodness that seeks the best for everyone; faithfulness\, gentleness\, and self-control that brings spiritual victory in life”s more challenging moments.
URL:https://www.ghcc4u.org/event/wednesday-night-womens-winter-bible-study-2026-01/
LOCATION:Granada Hills Community Church\, 11263 Balboa Blvd\, Granada Hills\, CA\, 91344\, United States
CATEGORIES:Women's Ministry
ATTACH;FMTTYPE=image/jpeg:https://www.ghcc4u.org/wp-content/uploads/2026/01/george.jpg
END:VEVENT
BEGIN:VEVENT
DTSTART;TZID=America/Los_Angeles:20260108T094500
DTEND;TZID=America/Los_Angeles:20260108T113000
DTSTAMP:20260423T161602
CREATED:20260105T191214Z
LAST-MODIFIED:20260105T191300Z
UID:31552-1767865500-1767871800@www.ghcc4u.org
SUMMARY:Thursday Morning Women's Winter Bible Study
DESCRIPTION:“A Woman’s Walk with God” is an invitation to experience the joys of moment-by-moment living in the Lord’s power–and producing the fruit of the Spirit in every circumstance! Elizabeth George gives practical help with making this possible in this study of the fruit of the Spirit.\nDiscover love\, joy\, and peace that changes hearts\, families\, and friendships; patience\, kindness\, and goodness that seeks the best for everyone; faithfulness\, gentleness\, and self-control that brings spiritual victory in life”s more challenging moments.
URL:https://www.ghcc4u.org/event/thursday-morning-womens-winter-bible-study-2026-01/
LOCATION:Granada Hills Community Church\, 11263 Balboa Blvd\, Granada Hills\, CA\, 91344\, United States
CATEGORIES:Women's Ministry
ATTACH;FMTTYPE=image/jpeg:https://www.ghcc4u.org/wp-content/uploads/2026/01/george.jpg
END:VEVENT
BEGIN:VEVENT
DTSTART;TZID=America/Los_Angeles:20260114T183000
DTEND;TZID=America/Los_Angeles:20260114T200000
DTSTAMP:20260423T161602
CREATED:20260105T190916Z
LAST-MODIFIED:20260105T190925Z
UID:31546-1768415400-1768420800@www.ghcc4u.org
SUMMARY:Wednesday Night Women's Winter Bible Study
DESCRIPTION:“A Woman’s Walk with God” is an invitation to experience the joys of moment-by-moment living in the Lord’s power–and producing the fruit of the Spirit in every circumstance! Elizabeth George gives practical help with making this possible in this study of the fruit of the Spirit.\nDiscover love\, joy\, and peace that changes hearts\, families\, and friendships; patience\, kindness\, and goodness that seeks the best for everyone; faithfulness\, gentleness\, and self-control that brings spiritual victory in life”s more challenging moments.
URL:https://www.ghcc4u.org/event/wednesday-night-womens-winter-bible-study-2026-02/
LOCATION:Granada Hills Community Church\, 11263 Balboa Blvd\, Granada Hills\, CA\, 91344\, United States
CATEGORIES:Women's Ministry
ATTACH;FMTTYPE=image/jpeg:https://www.ghcc4u.org/wp-content/uploads/2026/01/george.jpg
END:VEVENT
BEGIN:VEVENT
DTSTART;TZID=America/Los_Angeles:20260115T094500
DTEND;TZID=America/Los_Angeles:20260115T113000
DTSTAMP:20260423T161602
CREATED:20260105T191244Z
LAST-MODIFIED:20260105T191310Z
UID:31554-1768470300-1768476600@www.ghcc4u.org
SUMMARY:Thursday Morning Women's Winter Bible Study
DESCRIPTION:“A Woman’s Walk with God” is an invitation to experience the joys of moment-by-moment living in the Lord’s power–and producing the fruit of the Spirit in every circumstance! Elizabeth George gives practical help with making this possible in this study of the fruit of the Spirit.\nDiscover love\, joy\, and peace that changes hearts\, families\, and friendships; patience\, kindness\, and goodness that seeks the best for everyone; faithfulness\, gentleness\, and self-control that brings spiritual victory in life”s more challenging moments.
URL:https://www.ghcc4u.org/event/thursday-morning-womens-winter-bible-study-2026-02/
LOCATION:Granada Hills Community Church\, 11263 Balboa Blvd\, Granada Hills\, CA\, 91344\, United States
CATEGORIES:Women's Ministry
ATTACH;FMTTYPE=image/jpeg:https://www.ghcc4u.org/wp-content/uploads/2026/01/george.jpg
END:VEVENT
BEGIN:VEVENT
DTSTART;TZID=America/Los_Angeles:20260121T183000
DTEND;TZID=America/Los_Angeles:20260121T200000
DTSTAMP:20260423T161602
CREATED:20260105T190941Z
LAST-MODIFIED:20260105T190950Z
UID:31548-1769020200-1769025600@www.ghcc4u.org
SUMMARY:Wednesday Night Women's Winter Bible Study
DESCRIPTION:“A Woman’s Walk with God” is an invitation to experience the joys of moment-by-moment living in the Lord’s power–and producing the fruit of the Spirit in every circumstance! Elizabeth George gives practical help with making this possible in this study of the fruit of the Spirit.\nDiscover love\, joy\, and peace that changes hearts\, families\, and friendships; patience\, kindness\, and goodness that seeks the best for everyone; faithfulness\, gentleness\, and self-control that brings spiritual victory in life”s more challenging moments.
URL:https://www.ghcc4u.org/event/wednesday-night-womens-winter-bible-study-2026-03/
LOCATION:Granada Hills Community Church\, 11263 Balboa Blvd\, Granada Hills\, CA\, 91344\, United States
CATEGORIES:Women's Ministry
ATTACH;FMTTYPE=image/jpeg:https://www.ghcc4u.org/wp-content/uploads/2026/01/george.jpg
END:VEVENT
BEGIN:VEVENT
DTSTART;TZID=America/Los_Angeles:20260122T094500
DTEND;TZID=America/Los_Angeles:20260122T113000
DTSTAMP:20260423T161602
CREATED:20260105T191332Z
LAST-MODIFIED:20260105T191342Z
UID:31556-1769075100-1769081400@www.ghcc4u.org
SUMMARY:Thursday Morning Women's Winter Bible Study
DESCRIPTION:“A Woman’s Walk with God” is an invitation to experience the joys of moment-by-moment living in the Lord’s power–and producing the fruit of the Spirit in every circumstance! Elizabeth George gives practical help with making this possible in this study of the fruit of the Spirit.\nDiscover love\, joy\, and peace that changes hearts\, families\, and friendships; patience\, kindness\, and goodness that seeks the best for everyone; faithfulness\, gentleness\, and self-control that brings spiritual victory in life”s more challenging moments.
URL:https://www.ghcc4u.org/event/thursday-morning-womens-winter-bible-study-2026-03/
LOCATION:Granada Hills Community Church\, 11263 Balboa Blvd\, Granada Hills\, CA\, 91344\, United States
CATEGORIES:Women's Ministry
ATTACH;FMTTYPE=image/jpeg:https://www.ghcc4u.org/wp-content/uploads/2026/01/george.jpg
END:VEVENT
BEGIN:VEVENT
DTSTART;TZID=America/Los_Angeles:20260128T183000
DTEND;TZID=America/Los_Angeles:20260128T200000
DTSTAMP:20260423T161602
CREATED:20260105T191017Z
LAST-MODIFIED:20260105T191036Z
UID:31550-1769625000-1769630400@www.ghcc4u.org
SUMMARY:Wednesday Night Women's Winter Bible Study
DESCRIPTION:“A Woman’s Walk with God” is an invitation to experience the joys of moment-by-moment living in the Lord’s power–and producing the fruit of the Spirit in every circumstance! Elizabeth George gives practical help with making this possible in this study of the fruit of the Spirit.\nDiscover love\, joy\, and peace that changes hearts\, families\, and friendships; patience\, kindness\, and goodness that seeks the best for everyone; faithfulness\, gentleness\, and self-control that brings spiritual victory in life”s more challenging moments.
URL:https://www.ghcc4u.org/event/wednesday-night-womens-winter-bible-study-2026-04/
LOCATION:Granada Hills Community Church\, 11263 Balboa Blvd\, Granada Hills\, CA\, 91344\, United States
CATEGORIES:Women's Ministry
ATTACH;FMTTYPE=image/jpeg:https://www.ghcc4u.org/wp-content/uploads/2026/01/george.jpg
END:VEVENT
BEGIN:VEVENT
DTSTART;TZID=America/Los_Angeles:20260129T094500
DTEND;TZID=America/Los_Angeles:20260129T113000
DTSTAMP:20260423T161602
CREATED:20260105T191404Z
LAST-MODIFIED:20260105T191414Z
UID:31558-1769679900-1769686200@www.ghcc4u.org
SUMMARY:Thursday Morning Women's Winter Bible Study
DESCRIPTION:“A Woman’s Walk with God” is an invitation to experience the joys of moment-by-moment living in the Lord’s power–and producing the fruit of the Spirit in every circumstance! Elizabeth George gives practical help with making this possible in this study of the fruit of the Spirit.\nDiscover love\, joy\, and peace that changes hearts\, families\, and friendships; patience\, kindness\, and goodness that seeks the best for everyone; faithfulness\, gentleness\, and self-control that brings spiritual victory in life”s more challenging moments.
URL:https://www.ghcc4u.org/event/thursday-morning-womens-winter-bible-study-2026-04/
LOCATION:Granada Hills Community Church\, 11263 Balboa Blvd\, Granada Hills\, CA\, 91344\, United States
CATEGORIES:Women's Ministry
ATTACH;FMTTYPE=image/jpeg:https://www.ghcc4u.org/wp-content/uploads/2026/01/george.jpg
END:VEVENT
END:VCALENDAR