BEGIN:VCALENDAR
VERSION:2.0
PRODID:-//Granada Hills Community Church - ECPv6.15.20//NONSGML v1.0//EN
CALSCALE:GREGORIAN
METHOD:PUBLISH
X-WR-CALNAME:Granada Hills Community Church
X-ORIGINAL-URL:https://www.ghcc4u.org
X-WR-CALDESC:Events for Granada Hills Community Church
REFRESH-INTERVAL;VALUE=DURATION:PT1H
X-Robots-Tag:noindex
X-PUBLISHED-TTL:PT1H
BEGIN:VTIMEZONE
TZID:America/Los_Angeles
BEGIN:DAYLIGHT
TZOFFSETFROM:-0800
TZOFFSETTO:-0700
TZNAME:PDT
DTSTART:20240310T100000
END:DAYLIGHT
BEGIN:STANDARD
TZOFFSETFROM:-0700
TZOFFSETTO:-0800
TZNAME:PST
DTSTART:20241103T090000
END:STANDARD
BEGIN:DAYLIGHT
TZOFFSETFROM:-0800
TZOFFSETTO:-0700
TZNAME:PDT
DTSTART:20250309T100000
END:DAYLIGHT
BEGIN:STANDARD
TZOFFSETFROM:-0700
TZOFFSETTO:-0800
TZNAME:PST
DTSTART:20251102T090000
END:STANDARD
BEGIN:DAYLIGHT
TZOFFSETFROM:-0800
TZOFFSETTO:-0700
TZNAME:PDT
DTSTART:20260308T100000
END:DAYLIGHT
BEGIN:STANDARD
TZOFFSETFROM:-0700
TZOFFSETTO:-0800
TZNAME:PST
DTSTART:20261101T090000
END:STANDARD
END:VTIMEZONE
BEGIN:VEVENT
DTSTART;TZID=America/Los_Angeles:20250205T183000
DTEND;TZID=America/Los_Angeles:20250205T200000
DTSTAMP:20260424T100947
CREATED:20250210T180747Z
LAST-MODIFIED:20250210T180801Z
UID:30944-1738780200-1738785600@www.ghcc4u.org
SUMMARY:Wednesday Night Women's Winter Bible Study
DESCRIPTION:With all the major events going on in the world right now Revelation assures us though evil may be having its way in the present. God’s righteousness will have its way for all eternity!\nThis 12-session study through “REVELATION: The Ultimate Hope in Christ” by David Jeremiah reminds believers to be faithful and look forward with great joy to all that God has in store for us.
URL:https://www.ghcc4u.org/event/wednesday-night-womens-winter-bible-study-2025-05/
LOCATION:Granada Hills Community Church\, 11263 Balboa Blvd\, Granada Hills\, CA\, 91344\, United States
CATEGORIES:Women's Ministry
ATTACH;FMTTYPE=image/jpeg:https://www.ghcc4u.org/wp-content/uploads/2025/01/david-jeremiah-revelation.jpg
END:VEVENT
BEGIN:VEVENT
DTSTART;TZID=America/Los_Angeles:20250206T094500
DTEND;TZID=America/Los_Angeles:20250206T113000
DTSTAMP:20260424T100947
CREATED:20250210T181154Z
LAST-MODIFIED:20250210T181209Z
UID:30953-1738835100-1738841400@www.ghcc4u.org
SUMMARY:Thursday Morning Women's Winter Bible Study
DESCRIPTION:With all the major events going on in the world right now Revelation assures us though evil may be having its way in the present. God’s righteousness will have its way for all eternity!\nThis 12-session study through “REVELATION: The Ultimate Hope in Christ” by David Jeremiah reminds believers to be faithful and look forward with great joy to all that God has in store for us.
URL:https://www.ghcc4u.org/event/thursday-morning-womens-winter-bible-study-2025-05/
LOCATION:Granada Hills Community Church\, 11263 Balboa Blvd\, Granada Hills\, CA\, 91344\, United States
CATEGORIES:Women's Ministry
ATTACH;FMTTYPE=image/jpeg:https://www.ghcc4u.org/wp-content/uploads/2025/01/david-jeremiah-revelation.jpg
END:VEVENT
BEGIN:VEVENT
DTSTART;TZID=America/Los_Angeles:20250212T183000
DTEND;TZID=America/Los_Angeles:20250212T200000
DTSTAMP:20260424T100947
CREATED:20250210T180819Z
LAST-MODIFIED:20250210T180833Z
UID:30946-1739385000-1739390400@www.ghcc4u.org
SUMMARY:Wednesday Night Women's Winter Bible Study
DESCRIPTION:With all the major events going on in the world right now Revelation assures us though evil may be having its way in the present. God’s righteousness will have its way for all eternity!\nThis 12-session study through “REVELATION: The Ultimate Hope in Christ” by David Jeremiah reminds believers to be faithful and look forward with great joy to all that God has in store for us.
URL:https://www.ghcc4u.org/event/wednesday-night-womens-winter-bible-study-2025-06/
LOCATION:Granada Hills Community Church\, 11263 Balboa Blvd\, Granada Hills\, CA\, 91344\, United States
CATEGORIES:Women's Ministry
ATTACH;FMTTYPE=image/jpeg:https://www.ghcc4u.org/wp-content/uploads/2025/01/david-jeremiah-revelation.jpg
END:VEVENT
BEGIN:VEVENT
DTSTART;TZID=America/Los_Angeles:20250213T094500
DTEND;TZID=America/Los_Angeles:20250213T113000
DTSTAMP:20260424T100947
CREATED:20250210T181223Z
LAST-MODIFIED:20250210T181237Z
UID:30955-1739439900-1739446200@www.ghcc4u.org
SUMMARY:Thursday Morning Women's Winter Bible Study
DESCRIPTION:With all the major events going on in the world right now Revelation assures us though evil may be having its way in the present. God’s righteousness will have its way for all eternity!\nThis 12-session study through “REVELATION: The Ultimate Hope in Christ” by David Jeremiah reminds believers to be faithful and look forward with great joy to all that God has in store for us.
URL:https://www.ghcc4u.org/event/thursday-morning-womens-winter-bible-study-2025-06/
LOCATION:Granada Hills Community Church\, 11263 Balboa Blvd\, Granada Hills\, CA\, 91344\, United States
CATEGORIES:Women's Ministry
ATTACH;FMTTYPE=image/jpeg:https://www.ghcc4u.org/wp-content/uploads/2025/01/david-jeremiah-revelation.jpg
END:VEVENT
BEGIN:VEVENT
DTSTART;TZID=America/Los_Angeles:20250219T183000
DTEND;TZID=America/Los_Angeles:20250219T200000
DTSTAMP:20260424T100947
CREATED:20250210T180846Z
LAST-MODIFIED:20250210T180941Z
UID:30948-1739989800-1739995200@www.ghcc4u.org
SUMMARY:Wednesday Night Women's Winter Bible Study
DESCRIPTION:With all the major events going on in the world right now Revelation assures us though evil may be having its way in the present. God’s righteousness will have its way for all eternity!\nThis 12-session study through “REVELATION: The Ultimate Hope in Christ” by David Jeremiah reminds believers to be faithful and look forward with great joy to all that God has in store for us.
URL:https://www.ghcc4u.org/event/wednesday-night-womens-winter-bible-study-2025-07/
LOCATION:Granada Hills Community Church\, 11263 Balboa Blvd\, Granada Hills\, CA\, 91344\, United States
CATEGORIES:Women's Ministry
ATTACH;FMTTYPE=image/jpeg:https://www.ghcc4u.org/wp-content/uploads/2025/01/david-jeremiah-revelation.jpg
END:VEVENT
BEGIN:VEVENT
DTSTART;TZID=America/Los_Angeles:20250220T094500
DTEND;TZID=America/Los_Angeles:20250220T113000
DTSTAMP:20260424T100947
CREATED:20250210T181250Z
LAST-MODIFIED:20250210T181304Z
UID:30957-1740044700-1740051000@www.ghcc4u.org
SUMMARY:Thursday Morning Women's Winter Bible Study
DESCRIPTION:With all the major events going on in the world right now Revelation assures us though evil may be having its way in the present. God’s righteousness will have its way for all eternity!\nThis 12-session study through “REVELATION: The Ultimate Hope in Christ” by David Jeremiah reminds believers to be faithful and look forward with great joy to all that God has in store for us.
URL:https://www.ghcc4u.org/event/thursday-morning-womens-winter-bible-study-2025-07/
LOCATION:Granada Hills Community Church\, 11263 Balboa Blvd\, Granada Hills\, CA\, 91344\, United States
CATEGORIES:Women's Ministry
ATTACH;FMTTYPE=image/jpeg:https://www.ghcc4u.org/wp-content/uploads/2025/01/david-jeremiah-revelation.jpg
END:VEVENT
BEGIN:VEVENT
DTSTART;TZID=America/Los_Angeles:20250226T183000
DTEND;TZID=America/Los_Angeles:20250226T200000
DTSTAMP:20260424T100947
CREATED:20250210T181108Z
LAST-MODIFIED:20250210T181120Z
UID:30951-1740594600-1740600000@www.ghcc4u.org
SUMMARY:Wednesday Night Women's Winter Bible Study
DESCRIPTION:With all the major events going on in the world right now Revelation assures us though evil may be having its way in the present. God’s righteousness will have its way for all eternity!\nThis 12-session study through “REVELATION: The Ultimate Hope in Christ” by David Jeremiah reminds believers to be faithful and look forward with great joy to all that God has in store for us.
URL:https://www.ghcc4u.org/event/wednesday-night-womens-winter-bible-study-2025-08/
LOCATION:Granada Hills Community Church\, 11263 Balboa Blvd\, Granada Hills\, CA\, 91344\, United States
CATEGORIES:Women's Ministry
ATTACH;FMTTYPE=image/jpeg:https://www.ghcc4u.org/wp-content/uploads/2025/01/david-jeremiah-revelation.jpg
END:VEVENT
BEGIN:VEVENT
DTSTART;TZID=America/Los_Angeles:20250227T094500
DTEND;TZID=America/Los_Angeles:20250227T113000
DTSTAMP:20260424T100947
CREATED:20250210T181317Z
LAST-MODIFIED:20250210T181330Z
UID:30959-1740649500-1740655800@www.ghcc4u.org
SUMMARY:Thursday Morning Women's Winter Bible Study
DESCRIPTION:With all the major events going on in the world right now Revelation assures us though evil may be having its way in the present. God’s righteousness will have its way for all eternity!\nThis 12-session study through “REVELATION: The Ultimate Hope in Christ” by David Jeremiah reminds believers to be faithful and look forward with great joy to all that God has in store for us.
URL:https://www.ghcc4u.org/event/thursday-morning-womens-winter-bible-study-2025-08/
LOCATION:Granada Hills Community Church\, 11263 Balboa Blvd\, Granada Hills\, CA\, 91344\, United States
CATEGORIES:Women's Ministry
ATTACH;FMTTYPE=image/jpeg:https://www.ghcc4u.org/wp-content/uploads/2025/01/david-jeremiah-revelation.jpg
END:VEVENT
END:VCALENDAR