BEGIN:VCALENDAR
VERSION:2.0
PRODID:-//Granada Hills Community Church - ECPv6.15.20//NONSGML v1.0//EN
CALSCALE:GREGORIAN
METHOD:PUBLISH
X-ORIGINAL-URL:https://www.ghcc4u.org
X-WR-CALDESC:Events for Granada Hills Community Church
REFRESH-INTERVAL;VALUE=DURATION:PT1H
X-Robots-Tag:noindex
X-PUBLISHED-TTL:PT1H
BEGIN:VTIMEZONE
TZID:America/Los_Angeles
BEGIN:DAYLIGHT
TZOFFSETFROM:-0800
TZOFFSETTO:-0700
TZNAME:PDT
DTSTART:20230312T100000
END:DAYLIGHT
BEGIN:STANDARD
TZOFFSETFROM:-0700
TZOFFSETTO:-0800
TZNAME:PST
DTSTART:20231105T090000
END:STANDARD
BEGIN:DAYLIGHT
TZOFFSETFROM:-0800
TZOFFSETTO:-0700
TZNAME:PDT
DTSTART:20240310T100000
END:DAYLIGHT
BEGIN:STANDARD
TZOFFSETFROM:-0700
TZOFFSETTO:-0800
TZNAME:PST
DTSTART:20241103T090000
END:STANDARD
BEGIN:DAYLIGHT
TZOFFSETFROM:-0800
TZOFFSETTO:-0700
TZNAME:PDT
DTSTART:20250309T100000
END:DAYLIGHT
BEGIN:STANDARD
TZOFFSETFROM:-0700
TZOFFSETTO:-0800
TZNAME:PST
DTSTART:20251102T090000
END:STANDARD
END:VTIMEZONE
BEGIN:VEVENT
DTSTART;TZID=America/Los_Angeles:20241002T183000
DTEND;TZID=America/Los_Angeles:20241002T200000
DTSTAMP:20260424T160021
CREATED:20240826T225259Z
LAST-MODIFIED:20240826T225316Z
UID:30737-1727893800-1727899200@www.ghcc4u.org
SUMMARY:Wednesday Night Women's Fall Bible Study
DESCRIPTION:This seven-week study encourages women to let go of striving and learn to trust in God’s character\, His control\, and even His correction.\nThe prophet Isaiah served as God’s spokesman to the people of Israel during a rebellious time in their history. It is a book with both warning and promise. Isaiah’s encouragement was to strive less and trust in our sovereign God’s purpose of salvation.
URL:https://www.ghcc4u.org/event/wednesday-night-womens-fall-bible-study-2024-04/
LOCATION:Granada Hills Community Church\, 11263 Balboa Blvd\, Granada Hills\, CA\, 91344\, United States
CATEGORIES:Women's Ministry
ATTACH;FMTTYPE=image/jpeg:https://www.ghcc4u.org/wp-content/uploads/2024/08/spoelstra.jpg
END:VEVENT
BEGIN:VEVENT
DTSTART;TZID=America/Los_Angeles:20241003T094500
DTEND;TZID=America/Los_Angeles:20241003T113000
DTSTAMP:20260424T160021
CREATED:20240826T230159Z
LAST-MODIFIED:20240826T230211Z
UID:30753-1727948700-1727955000@www.ghcc4u.org
SUMMARY:Thursday Morning Women's Fall Bible Study
DESCRIPTION:This seven-week study encourages women to let go of striving and learn to trust in God’s character\, His control\, and even His correction.\nThe prophet Isaiah served as God’s spokesman to the people of Israel during a rebellious time in their history. It is a book with both warning and promise. Isaiah’s encouragement was to strive less and trust in our sovereign God’s purpose of salvation.
URL:https://www.ghcc4u.org/event/thursday-morning-womens-fall-bible-study-2024-04/
LOCATION:Granada Hills Community Church\, 11263 Balboa Blvd\, Granada Hills\, CA\, 91344\, United States
CATEGORIES:Women's Ministry
ATTACH;FMTTYPE=image/jpeg:https://www.ghcc4u.org/wp-content/uploads/2024/08/spoelstra.jpg
END:VEVENT
BEGIN:VEVENT
DTSTART;TZID=America/Los_Angeles:20241009T183000
DTEND;TZID=America/Los_Angeles:20241009T200000
DTSTAMP:20260424T160021
CREATED:20240826T225333Z
LAST-MODIFIED:20240826T225346Z
UID:30739-1728498600-1728504000@www.ghcc4u.org
SUMMARY:Wednesday Night Women's Fall Bible Study
DESCRIPTION:This seven-week study encourages women to let go of striving and learn to trust in God’s character\, His control\, and even His correction.\nThe prophet Isaiah served as God’s spokesman to the people of Israel during a rebellious time in their history. It is a book with both warning and promise. Isaiah’s encouragement was to strive less and trust in our sovereign God’s purpose of salvation.
URL:https://www.ghcc4u.org/event/wednesday-night-womens-fall-bible-study-2024-05/
LOCATION:Granada Hills Community Church\, 11263 Balboa Blvd\, Granada Hills\, CA\, 91344\, United States
CATEGORIES:Women's Ministry
ATTACH;FMTTYPE=image/jpeg:https://www.ghcc4u.org/wp-content/uploads/2024/08/spoelstra.jpg
END:VEVENT
BEGIN:VEVENT
DTSTART;TZID=America/Los_Angeles:20241010T094500
DTEND;TZID=America/Los_Angeles:20241010T113000
DTSTAMP:20260424T160021
CREATED:20240826T230231Z
LAST-MODIFIED:20240826T230245Z
UID:30755-1728553500-1728559800@www.ghcc4u.org
SUMMARY:Thursday Morning Women's Fall Bible Study
DESCRIPTION:This seven-week study encourages women to let go of striving and learn to trust in God’s character\, His control\, and even His correction.\nThe prophet Isaiah served as God’s spokesman to the people of Israel during a rebellious time in their history. It is a book with both warning and promise. Isaiah’s encouragement was to strive less and trust in our sovereign God’s purpose of salvation.
URL:https://www.ghcc4u.org/event/thursday-morning-womens-fall-bible-study-2024-05/
LOCATION:Granada Hills Community Church\, 11263 Balboa Blvd\, Granada Hills\, CA\, 91344\, United States
CATEGORIES:Women's Ministry
ATTACH;FMTTYPE=image/jpeg:https://www.ghcc4u.org/wp-content/uploads/2024/08/spoelstra.jpg
END:VEVENT
BEGIN:VEVENT
DTSTART;TZID=America/Los_Angeles:20241016T183000
DTEND;TZID=America/Los_Angeles:20241016T200000
DTSTAMP:20260424T160021
CREATED:20240826T225404Z
LAST-MODIFIED:20240826T225422Z
UID:30741-1729103400-1729108800@www.ghcc4u.org
SUMMARY:Wednesday Night Women's Fall Bible Study
DESCRIPTION:This seven-week study encourages women to let go of striving and learn to trust in God’s character\, His control\, and even His correction.\nThe prophet Isaiah served as God’s spokesman to the people of Israel during a rebellious time in their history. It is a book with both warning and promise. Isaiah’s encouragement was to strive less and trust in our sovereign God’s purpose of salvation.
URL:https://www.ghcc4u.org/event/wednesday-night-womens-fall-bible-study-2024-06/
LOCATION:Granada Hills Community Church\, 11263 Balboa Blvd\, Granada Hills\, CA\, 91344\, United States
CATEGORIES:Women's Ministry
ATTACH;FMTTYPE=image/jpeg:https://www.ghcc4u.org/wp-content/uploads/2024/08/spoelstra.jpg
END:VEVENT
BEGIN:VEVENT
DTSTART;TZID=America/Los_Angeles:20241017T094500
DTEND;TZID=America/Los_Angeles:20241017T113000
DTSTAMP:20260424T160021
CREATED:20240826T230307Z
LAST-MODIFIED:20240826T230320Z
UID:30757-1729158300-1729164600@www.ghcc4u.org
SUMMARY:Thursday Morning Women's Fall Bible Study
DESCRIPTION:This seven-week study encourages women to let go of striving and learn to trust in God’s character\, His control\, and even His correction.\nThe prophet Isaiah served as God’s spokesman to the people of Israel during a rebellious time in their history. It is a book with both warning and promise. Isaiah’s encouragement was to strive less and trust in our sovereign God’s purpose of salvation.
URL:https://www.ghcc4u.org/event/thursday-morning-womens-fall-bible-study-2024-06/
LOCATION:Granada Hills Community Church\, 11263 Balboa Blvd\, Granada Hills\, CA\, 91344\, United States
CATEGORIES:Women's Ministry
ATTACH;FMTTYPE=image/jpeg:https://www.ghcc4u.org/wp-content/uploads/2024/08/spoelstra.jpg
END:VEVENT
BEGIN:VEVENT
DTSTART;TZID=America/Los_Angeles:20241023T183000
DTEND;TZID=America/Los_Angeles:20241023T200000
DTSTAMP:20260424T160021
CREATED:20240826T225450Z
LAST-MODIFIED:20240826T225514Z
UID:30743-1729708200-1729713600@www.ghcc4u.org
SUMMARY:Wednesday Night Women's Fall Bible Study
DESCRIPTION:This seven-week study encourages women to let go of striving and learn to trust in God’s character\, His control\, and even His correction.\nThe prophet Isaiah served as God’s spokesman to the people of Israel during a rebellious time in their history. It is a book with both warning and promise. Isaiah’s encouragement was to strive less and trust in our sovereign God’s purpose of salvation.
URL:https://www.ghcc4u.org/event/wednesday-night-womens-fall-bible-study-2024-07/
LOCATION:Granada Hills Community Church\, 11263 Balboa Blvd\, Granada Hills\, CA\, 91344\, United States
CATEGORIES:Women's Ministry
ATTACH;FMTTYPE=image/jpeg:https://www.ghcc4u.org/wp-content/uploads/2024/08/spoelstra.jpg
END:VEVENT
BEGIN:VEVENT
DTSTART;TZID=America/Los_Angeles:20241024T094500
DTEND;TZID=America/Los_Angeles:20241024T113000
DTSTAMP:20260424T160021
CREATED:20240826T230339Z
LAST-MODIFIED:20240826T230353Z
UID:30759-1729763100-1729769400@www.ghcc4u.org
SUMMARY:Thursday Morning Women's Fall Bible Study
DESCRIPTION:This seven-week study encourages women to let go of striving and learn to trust in God’s character\, His control\, and even His correction.\nThe prophet Isaiah served as God’s spokesman to the people of Israel during a rebellious time in their history. It is a book with both warning and promise. Isaiah’s encouragement was to strive less and trust in our sovereign God’s purpose of salvation.
URL:https://www.ghcc4u.org/event/thursday-morning-womens-fall-bible-study-2024-07/
LOCATION:Granada Hills Community Church\, 11263 Balboa Blvd\, Granada Hills\, CA\, 91344\, United States
CATEGORIES:Women's Ministry
ATTACH;FMTTYPE=image/jpeg:https://www.ghcc4u.org/wp-content/uploads/2024/08/spoelstra.jpg
END:VEVENT
BEGIN:VEVENT
DTSTART;TZID=America/Los_Angeles:20241030T183000
DTEND;TZID=America/Los_Angeles:20241030T200000
DTSTAMP:20260424T160021
CREATED:20241031T174700Z
LAST-MODIFIED:20241031T174700Z
UID:30807-1730313000-1730318400@www.ghcc4u.org
SUMMARY:Wednesday Night Women's Christmas Advent Devotional
DESCRIPTION:Advent is a season of anticipation\, a celebration of the moment that God came near.\nIn this 4-session study we will focus on the beautiful life of our Savior: His birth\, His message\, His miracles\, and His mission. We will be challenged and invited to see Him in a new light whether we have walked with Him for years or are just getting to know Him.
URL:https://www.ghcc4u.org/event/wednesday-night-womens-christmas-advent-devotional-2024-01/
LOCATION:Granada Hills Community Church\, 11263 Balboa Blvd\, Granada Hills\, CA\, 91344\, United States
CATEGORIES:Women's Ministry
ATTACH;FMTTYPE=image/jpeg:https://www.ghcc4u.org/wp-content/uploads/2024/10/manger.jpg
END:VEVENT
BEGIN:VEVENT
DTSTART;TZID=America/Los_Angeles:20241031T094500
DTEND;TZID=America/Los_Angeles:20241031T111500
DTSTAMP:20260424T160021
CREATED:20241031T174846Z
LAST-MODIFIED:20241031T174846Z
UID:30810-1730367900-1730373300@www.ghcc4u.org
SUMMARY:Thursday Morning Women's Christmas Advent Devotional
DESCRIPTION:Advent is a season of anticipation\, a celebration of the moment that God came near.\nIn this 4-session study we will focus on the beautiful life of our Savior: His birth\, His message\, His miracles\, and His mission. We will be challenged and invited to see Him in a new light whether we have walked with Him for years or are just getting to know Him.
URL:https://www.ghcc4u.org/event/thursday-morning-womens-christmas-advent-devotional-2024-01/
LOCATION:Granada Hills Community Church\, 11263 Balboa Blvd\, Granada Hills\, CA\, 91344\, United States
CATEGORIES:Women's Ministry
ATTACH;FMTTYPE=image/jpeg:https://www.ghcc4u.org/wp-content/uploads/2024/10/manger.jpg
END:VEVENT
END:VCALENDAR