BEGIN:VCALENDAR
VERSION:2.0
PRODID:-//Granada Hills Community Church - ECPv6.15.20//NONSGML v1.0//EN
CALSCALE:GREGORIAN
METHOD:PUBLISH
X-ORIGINAL-URL:https://www.ghcc4u.org
X-WR-CALDESC:Events for Granada Hills Community Church
REFRESH-INTERVAL;VALUE=DURATION:PT1H
X-Robots-Tag:noindex
X-PUBLISHED-TTL:PT1H
BEGIN:VTIMEZONE
TZID:America/Denver
BEGIN:DAYLIGHT
TZOFFSETFROM:-0700
TZOFFSETTO:-0600
TZNAME:MDT
DTSTART:20150308T090000
END:DAYLIGHT
BEGIN:STANDARD
TZOFFSETFROM:-0600
TZOFFSETTO:-0700
TZNAME:MST
DTSTART:20151101T080000
END:STANDARD
BEGIN:DAYLIGHT
TZOFFSETFROM:-0700
TZOFFSETTO:-0600
TZNAME:MDT
DTSTART:20160313T090000
END:DAYLIGHT
BEGIN:STANDARD
TZOFFSETFROM:-0600
TZOFFSETTO:-0700
TZNAME:MST
DTSTART:20161106T080000
END:STANDARD
BEGIN:DAYLIGHT
TZOFFSETFROM:-0700
TZOFFSETTO:-0600
TZNAME:MDT
DTSTART:20170312T090000
END:DAYLIGHT
BEGIN:STANDARD
TZOFFSETFROM:-0600
TZOFFSETTO:-0700
TZNAME:MST
DTSTART:20171105T080000
END:STANDARD
BEGIN:DAYLIGHT
TZOFFSETFROM:-0700
TZOFFSETTO:-0600
TZNAME:MDT
DTSTART:20180311T090000
END:DAYLIGHT
BEGIN:STANDARD
TZOFFSETFROM:-0600
TZOFFSETTO:-0700
TZNAME:MST
DTSTART:20181104T080000
END:STANDARD
END:VTIMEZONE
BEGIN:VTIMEZONE
TZID:America/Los_Angeles
BEGIN:DAYLIGHT
TZOFFSETFROM:-0800
TZOFFSETTO:-0700
TZNAME:PDT
DTSTART:20150308T100000
END:DAYLIGHT
BEGIN:STANDARD
TZOFFSETFROM:-0700
TZOFFSETTO:-0800
TZNAME:PST
DTSTART:20151101T090000
END:STANDARD
BEGIN:DAYLIGHT
TZOFFSETFROM:-0800
TZOFFSETTO:-0700
TZNAME:PDT
DTSTART:20160313T100000
END:DAYLIGHT
BEGIN:STANDARD
TZOFFSETFROM:-0700
TZOFFSETTO:-0800
TZNAME:PST
DTSTART:20161106T090000
END:STANDARD
BEGIN:DAYLIGHT
TZOFFSETFROM:-0800
TZOFFSETTO:-0700
TZNAME:PDT
DTSTART:20170312T100000
END:DAYLIGHT
BEGIN:STANDARD
TZOFFSETFROM:-0700
TZOFFSETTO:-0800
TZNAME:PST
DTSTART:20171105T090000
END:STANDARD
BEGIN:DAYLIGHT
TZOFFSETFROM:-0800
TZOFFSETTO:-0700
TZNAME:PDT
DTSTART:20180311T100000
END:DAYLIGHT
BEGIN:STANDARD
TZOFFSETFROM:-0700
TZOFFSETTO:-0800
TZNAME:PST
DTSTART:20181104T090000
END:STANDARD
END:VTIMEZONE
BEGIN:VEVENT
DTSTART;TZID=America/Denver:20171121T190000
DTEND;TZID=America/Denver:20171121T203000
DTSTAMP:20260423T171637
CREATED:20171030T190249Z
LAST-MODIFIED:20171030T190652Z
UID:27663-1511290800-1511296200@www.ghcc4u.org
SUMMARY:Thanksgiving Service
DESCRIPTION:Please come join us for communion and thanksgiving as we worship together as a church family.
URL:https://www.ghcc4u.org/event/thanksgiving-service-2017-1/
LOCATION:Granada Hills Community Church\, 11263 Balboa Blvd\, Granada Hills\, CA\, 91344\, United States
CATEGORIES:Service
END:VEVENT
BEGIN:VEVENT
DTSTART;TZID=America/Los_Angeles:20170416T103000
DTEND;TZID=America/Los_Angeles:20170416T114500
DTSTAMP:20260423T171637
CREATED:20170327T200405Z
LAST-MODIFIED:20170327T200915Z
UID:27218-1492338600-1492343100@www.ghcc4u.org
SUMMARY:Easter Sunday Service
DESCRIPTION:He is Risen! He is risen\, indeed!\nCome join us as we celebrate Christ’s resurrection from the grave!
URL:https://www.ghcc4u.org/event/easter-sunday-2017-1/
LOCATION:Granada Hills Community Church\, 11263 Balboa Blvd\, Granada Hills\, CA\, 91344\, United States
CATEGORIES:Service
END:VEVENT
BEGIN:VEVENT
DTSTART;TZID=America/Los_Angeles:20170414T190000
DTEND;TZID=America/Los_Angeles:20170414T201500
DTSTAMP:20260423T171637
CREATED:20170327T195329Z
LAST-MODIFIED:20170328T032411Z
UID:27212-1492196400-1492200900@www.ghcc4u.org
SUMMARY:Good Friday Service
DESCRIPTION:Come join us as we reflect on Christ who became sin on our behalf.
URL:https://www.ghcc4u.org/event/good-friday-2017-1/
LOCATION:Granada Hills Community Church\, 11263 Balboa Blvd\, Granada Hills\, CA\, 91344\, United States
CATEGORIES:Service
END:VEVENT
BEGIN:VEVENT
DTSTART;TZID=America/Los_Angeles:20170409T103000
DTEND;TZID=America/Los_Angeles:20170409T114500
DTSTAMP:20260423T171637
CREATED:20170327T194819Z
LAST-MODIFIED:20170403T163252Z
UID:27210-1491733800-1491738300@www.ghcc4u.org
SUMMARY:Palm Sunday Service
DESCRIPTION:Hosanna! Hosanna in the highest!\nCome join us and celebrate Jesus the King of kings!
URL:https://www.ghcc4u.org/event/palm-sunday-2017-1/
LOCATION:Granada Hills Community Church\, 11263 Balboa Blvd\, Granada Hills\, CA\, 91344\, United States
CATEGORIES:Service
END:VEVENT
BEGIN:VEVENT
DTSTART;TZID=America/Los_Angeles:20161225T103000
DTEND;TZID=America/Los_Angeles:20161225T114500
DTSTAMP:20260423T171637
CREATED:20161202T010200Z
LAST-MODIFIED:20161209T011236Z
UID:26688-1482661800-1482666300@www.ghcc4u.org
SUMMARY:Christmas Service
DESCRIPTION:Come let us adore Him\, Christ the Lord!
URL:https://www.ghcc4u.org/event/christmas-service-2016-1/
LOCATION:Granada Hills Community Church\, 11263 Balboa Blvd\, Granada Hills\, CA\, 91344\, United States
CATEGORIES:Service
END:VEVENT
BEGIN:VEVENT
DTSTART;TZID=America/Denver:20161122T190000
DTEND;TZID=America/Denver:20161122T203000
DTSTAMP:20260423T171637
CREATED:20161014T003248Z
LAST-MODIFIED:20161202T064031Z
UID:26583-1479841200-1479846600@www.ghcc4u.org
SUMMARY:Thanksgiving Service
DESCRIPTION:Please come join us for communion and thanksgiving as we worship together as a church family.
URL:https://www.ghcc4u.org/event/thanksgiving-service-2016-1/
LOCATION:Granada Hills Community Church\, 11263 Balboa Blvd\, Granada Hills\, CA\, 91344\, United States
CATEGORIES:Service
END:VEVENT
END:VCALENDAR