BEGIN:VCALENDAR
VERSION:2.0
PRODID:-//Granada Hills Community Church - ECPv6.15.20//NONSGML v1.0//EN
CALSCALE:GREGORIAN
METHOD:PUBLISH
X-ORIGINAL-URL:https://www.ghcc4u.org
X-WR-CALDESC:Events for Granada Hills Community Church
REFRESH-INTERVAL;VALUE=DURATION:PT1H
X-Robots-Tag:noindex
X-PUBLISHED-TTL:PT1H
BEGIN:VTIMEZONE
TZID:America/Denver
BEGIN:DAYLIGHT
TZOFFSETFROM:-0700
TZOFFSETTO:-0600
TZNAME:MDT
DTSTART:20150308T090000
END:DAYLIGHT
BEGIN:STANDARD
TZOFFSETFROM:-0600
TZOFFSETTO:-0700
TZNAME:MST
DTSTART:20151101T080000
END:STANDARD
BEGIN:DAYLIGHT
TZOFFSETFROM:-0700
TZOFFSETTO:-0600
TZNAME:MDT
DTSTART:20160313T090000
END:DAYLIGHT
BEGIN:STANDARD
TZOFFSETFROM:-0600
TZOFFSETTO:-0700
TZNAME:MST
DTSTART:20161106T080000
END:STANDARD
BEGIN:DAYLIGHT
TZOFFSETFROM:-0700
TZOFFSETTO:-0600
TZNAME:MDT
DTSTART:20170312T090000
END:DAYLIGHT
BEGIN:STANDARD
TZOFFSETFROM:-0600
TZOFFSETTO:-0700
TZNAME:MST
DTSTART:20171105T080000
END:STANDARD
BEGIN:DAYLIGHT
TZOFFSETFROM:-0700
TZOFFSETTO:-0600
TZNAME:MDT
DTSTART:20180311T090000
END:DAYLIGHT
BEGIN:STANDARD
TZOFFSETFROM:-0600
TZOFFSETTO:-0700
TZNAME:MST
DTSTART:20181104T080000
END:STANDARD
BEGIN:DAYLIGHT
TZOFFSETFROM:-0700
TZOFFSETTO:-0600
TZNAME:MDT
DTSTART:20190310T090000
END:DAYLIGHT
BEGIN:STANDARD
TZOFFSETFROM:-0600
TZOFFSETTO:-0700
TZNAME:MST
DTSTART:20191103T080000
END:STANDARD
BEGIN:DAYLIGHT
TZOFFSETFROM:-0700
TZOFFSETTO:-0600
TZNAME:MDT
DTSTART:20200308T090000
END:DAYLIGHT
BEGIN:STANDARD
TZOFFSETFROM:-0600
TZOFFSETTO:-0700
TZNAME:MST
DTSTART:20201101T080000
END:STANDARD
BEGIN:DAYLIGHT
TZOFFSETFROM:-0700
TZOFFSETTO:-0600
TZNAME:MDT
DTSTART:20210314T090000
END:DAYLIGHT
BEGIN:STANDARD
TZOFFSETFROM:-0600
TZOFFSETTO:-0700
TZNAME:MST
DTSTART:20211107T080000
END:STANDARD
BEGIN:DAYLIGHT
TZOFFSETFROM:-0700
TZOFFSETTO:-0600
TZNAME:MDT
DTSTART:20220313T090000
END:DAYLIGHT
BEGIN:STANDARD
TZOFFSETFROM:-0600
TZOFFSETTO:-0700
TZNAME:MST
DTSTART:20221106T080000
END:STANDARD
BEGIN:DAYLIGHT
TZOFFSETFROM:-0700
TZOFFSETTO:-0600
TZNAME:MDT
DTSTART:20230312T090000
END:DAYLIGHT
BEGIN:STANDARD
TZOFFSETFROM:-0600
TZOFFSETTO:-0700
TZNAME:MST
DTSTART:20231105T080000
END:STANDARD
BEGIN:DAYLIGHT
TZOFFSETFROM:-0700
TZOFFSETTO:-0600
TZNAME:MDT
DTSTART:20240310T090000
END:DAYLIGHT
BEGIN:STANDARD
TZOFFSETFROM:-0600
TZOFFSETTO:-0700
TZNAME:MST
DTSTART:20241103T080000
END:STANDARD
BEGIN:DAYLIGHT
TZOFFSETFROM:-0700
TZOFFSETTO:-0600
TZNAME:MDT
DTSTART:20250309T090000
END:DAYLIGHT
BEGIN:STANDARD
TZOFFSETFROM:-0600
TZOFFSETTO:-0700
TZNAME:MST
DTSTART:20251102T080000
END:STANDARD
END:VTIMEZONE
BEGIN:VEVENT
DTSTART;VALUE=DATE:20241101
DTEND;VALUE=DATE:20241104
DTSTAMP:20260424T011532
CREATED:20241031T180916Z
LAST-MODIFIED:20241031T180916Z
UID:30838-1730419200-1730678399@www.ghcc4u.org
SUMMARY:Couples' Retreat 2024
DESCRIPTION:Guest Speakers: Rick and Karen Shurtz \nLicensed Christian psychotherapists with 35 years of combined experience in the counseling field\, helping people experience healthy relationships according to God’s design.
URL:https://www.ghcc4u.org/event/couples-retreat-2024-1/
LOCATION:Homewood Suites by Hilton\, 1950 Solar Dr\, Oxnard\, CA\, 93036\, United States
CATEGORIES:Retreat
ATTACH;FMTTYPE=image/jpeg:https://www.ghcc4u.org/wp-content/uploads/2022/10/couples.jpg
END:VEVENT
BEGIN:VEVENT
DTSTART;TZID=America/Denver:20231103T190000
DTEND;TZID=America/Denver:20231105T113000
DTSTAMP:20260424T011532
CREATED:20230831T185130Z
LAST-MODIFIED:20230831T185146Z
UID:30377-1699038000-1699183800@www.ghcc4u.org
SUMMARY:Couples' Retreat 2023
DESCRIPTION:Guest Speakers: Rick and Karen Shurtz \nLicensed Christian psychotherapists with 35 years of combined experience in the counseling field\, helping people experience healthy relationships according to God’s design.
URL:https://www.ghcc4u.org/event/couples-retreat-2023-1/
LOCATION:The Lodge at Big Bear Lake\, 40650 Village Drive\, Big Bear Lake\, 92315
CATEGORIES:Retreat
ATTACH;FMTTYPE=image/jpeg:https://www.ghcc4u.org/wp-content/uploads/2022/10/couples.jpg
END:VEVENT
BEGIN:VEVENT
DTSTART;TZID=America/Denver:20221104T190000
DTEND;TZID=America/Denver:20221106T113000
DTSTAMP:20260424T011532
CREATED:20221024T194843Z
LAST-MODIFIED:20221024T194843Z
UID:29957-1667588400-1667734200@www.ghcc4u.org
SUMMARY:Couples' Retreat 2022
DESCRIPTION:Guest Speakers: Rick and Karen Shurtz \nLicensed Christian psychotherapists with 35 years of combined experience in the counseling field\, helping people experience healthy relationships according to God’s design.
URL:https://www.ghcc4u.org/event/couples-retreat-2022-1/
LOCATION:The Lodge at Big Bear Lake\, 40650 Village Drive\, Big Bear Lake\, 92315
CATEGORIES:Retreat
ATTACH;FMTTYPE=image/jpeg:https://www.ghcc4u.org/wp-content/uploads/2022/10/couples.jpg
END:VEVENT
BEGIN:VEVENT
DTSTART;TZID=America/Denver:20161118T190000
DTEND;TZID=America/Denver:20161120T113000
DTSTAMP:20260424T011532
CREATED:20161021T000936Z
LAST-MODIFIED:20161202T064458Z
UID:26644-1479495600-1479641400@www.ghcc4u.org
SUMMARY:Couples' Retreat 2016
DESCRIPTION:Guest Speakers: Rick and Karen Shurtz \nLicensed Christian psychotherapists with 35 years of combined experience in the counseling field\, helping people experience healthy relationships according to God’s design.
URL:https://www.ghcc4u.org/event/couples-retreat-2016-1/
LOCATION:SeaCrest Oceanfront Hotel\, 2241 Price Street\, Pismo Beach\, CA\, 93449\, United States
CATEGORIES:Retreat
END:VEVENT
END:VCALENDAR