BEGIN:VCALENDAR
VERSION:2.0
PRODID:-//Granada Hills Community Church - ECPv6.15.20//NONSGML v1.0//EN
CALSCALE:GREGORIAN
METHOD:PUBLISH
X-ORIGINAL-URL:https://www.ghcc4u.org
X-WR-CALDESC:Events for Granada Hills Community Church
REFRESH-INTERVAL;VALUE=DURATION:PT1H
X-Robots-Tag:noindex
X-PUBLISHED-TTL:PT1H
BEGIN:VTIMEZONE
TZID:America/Los_Angeles
BEGIN:DAYLIGHT
TZOFFSETFROM:-0800
TZOFFSETTO:-0700
TZNAME:PDT
DTSTART:20160313T100000
END:DAYLIGHT
BEGIN:STANDARD
TZOFFSETFROM:-0700
TZOFFSETTO:-0800
TZNAME:PST
DTSTART:20161106T090000
END:STANDARD
BEGIN:DAYLIGHT
TZOFFSETFROM:-0800
TZOFFSETTO:-0700
TZNAME:PDT
DTSTART:20170312T100000
END:DAYLIGHT
BEGIN:STANDARD
TZOFFSETFROM:-0700
TZOFFSETTO:-0800
TZNAME:PST
DTSTART:20171105T090000
END:STANDARD
BEGIN:DAYLIGHT
TZOFFSETFROM:-0800
TZOFFSETTO:-0700
TZNAME:PDT
DTSTART:20180311T100000
END:DAYLIGHT
BEGIN:STANDARD
TZOFFSETFROM:-0700
TZOFFSETTO:-0800
TZNAME:PST
DTSTART:20181104T090000
END:STANDARD
BEGIN:DAYLIGHT
TZOFFSETFROM:-0800
TZOFFSETTO:-0700
TZNAME:PDT
DTSTART:20190310T100000
END:DAYLIGHT
BEGIN:STANDARD
TZOFFSETFROM:-0700
TZOFFSETTO:-0800
TZNAME:PST
DTSTART:20191103T090000
END:STANDARD
BEGIN:DAYLIGHT
TZOFFSETFROM:-0800
TZOFFSETTO:-0700
TZNAME:PDT
DTSTART:20200308T100000
END:DAYLIGHT
BEGIN:STANDARD
TZOFFSETFROM:-0700
TZOFFSETTO:-0800
TZNAME:PST
DTSTART:20201101T090000
END:STANDARD
END:VTIMEZONE
BEGIN:VTIMEZONE
TZID:America/Denver
BEGIN:DAYLIGHT
TZOFFSETFROM:-0700
TZOFFSETTO:-0600
TZNAME:MDT
DTSTART:20150308T090000
END:DAYLIGHT
BEGIN:STANDARD
TZOFFSETFROM:-0600
TZOFFSETTO:-0700
TZNAME:MST
DTSTART:20151101T080000
END:STANDARD
BEGIN:DAYLIGHT
TZOFFSETFROM:-0700
TZOFFSETTO:-0600
TZNAME:MDT
DTSTART:20160313T090000
END:DAYLIGHT
BEGIN:STANDARD
TZOFFSETFROM:-0600
TZOFFSETTO:-0700
TZNAME:MST
DTSTART:20161106T080000
END:STANDARD
BEGIN:DAYLIGHT
TZOFFSETFROM:-0700
TZOFFSETTO:-0600
TZNAME:MDT
DTSTART:20170312T090000
END:DAYLIGHT
BEGIN:STANDARD
TZOFFSETFROM:-0600
TZOFFSETTO:-0700
TZNAME:MST
DTSTART:20171105T080000
END:STANDARD
BEGIN:DAYLIGHT
TZOFFSETFROM:-0700
TZOFFSETTO:-0600
TZNAME:MDT
DTSTART:20180311T090000
END:DAYLIGHT
BEGIN:STANDARD
TZOFFSETFROM:-0600
TZOFFSETTO:-0700
TZNAME:MST
DTSTART:20181104T080000
END:STANDARD
BEGIN:DAYLIGHT
TZOFFSETFROM:-0700
TZOFFSETTO:-0600
TZNAME:MDT
DTSTART:20190310T090000
END:DAYLIGHT
BEGIN:STANDARD
TZOFFSETFROM:-0600
TZOFFSETTO:-0700
TZNAME:MST
DTSTART:20191103T080000
END:STANDARD
END:VTIMEZONE
BEGIN:VEVENT
DTSTART;TZID=America/Los_Angeles:20191012T083000
DTEND;TZID=America/Los_Angeles:20191012T130000
DTSTAMP:20260423T234814
CREATED:20190930T201600Z
LAST-MODIFIED:20190930T202018Z
UID:29136-1570869000-1570885200@www.ghcc4u.org
SUMMARY:Open Arms Walk for Life
DESCRIPTION:The Walk for Life and 5K Fun Color Run is a peaceful\, positive event giving people a way to apply their pro-life convictions\, raise support\, and increase awareness in our community. Come support Open Arms Pregnancy Clinic and the wonderful work they do!\nA burger lunch is available for $7 at the event.
URL:https://www.ghcc4u.org/event/walk-for-life-2019/
LOCATION:Open Arms Pregnancy Clinic\, 9535 Reseda Blvd #303\, Northridge\, CA\, 91324\, United States
CATEGORIES:Outreach,Service
ATTACH;FMTTYPE=image/jpeg:https://www.ghcc4u.org/wp-content/uploads/2019/09/walk.jpg
ORGANIZER;CN="Open Arms Pregnancy Clinic":MAILTO:office@openarmspregnancy.com
END:VEVENT
BEGIN:VEVENT
DTSTART;TZID=America/Denver:20181013T083000
DTEND;TZID=America/Denver:20181013T120000
DTSTAMP:20260423T234814
CREATED:20181008T194145Z
LAST-MODIFIED:20181008T195234Z
UID:28353-1539419400-1539432000@www.ghcc4u.org
SUMMARY:Walk for Life 2018
DESCRIPTION:The Walk for Life is a peaceful\, positive event giving people a way to apply their pro-life convictions\, raise support and increase awareness in our community. \n\n\n			\n				Please click here if you would like more information or to register to participate as a walker.
URL:https://www.ghcc4u.org/event/walk-for-life-2018-1/
LOCATION:First Baptist Church of Canoga Park\, 20553 Sherman Way\, Canoga Park\, CA\, 91306\, United States
CATEGORIES:Outreach
END:VEVENT
BEGIN:VEVENT
DTSTART;TZID=America/Denver:20171014T083000
DTEND;TZID=America/Denver:20171014T120000
DTSTAMP:20260423T234814
CREATED:20171005T222956Z
LAST-MODIFIED:20171005T224047Z
UID:27613-1507969800-1507982400@www.ghcc4u.org
SUMMARY:Walk for Life 2017
DESCRIPTION:The Walk for Life is a peaceful\, positive event giving people a way to apply their pro-life convictions\, raise support and increase awareness in our community. \n\n\n			\n				Please click here if you would like to register to participate as a walker.
URL:https://www.ghcc4u.org/event/walk-for-life-2017-1/
LOCATION:Lifehouse Church\, 18355 Roscoe Blvd\, Northridge\, CA\, 91325\, United States
CATEGORIES:Outreach
ATTACH;FMTTYPE=image/jpeg:https://www.ghcc4u.org/wp-content/uploads/2016/10/open-arms.jpg
END:VEVENT
BEGIN:VEVENT
DTSTART;TZID=America/Los_Angeles:20170128T090000
DTEND;TZID=America/Los_Angeles:20170128T110000
DTSTAMP:20260423T234814
CREATED:20161230T020350Z
LAST-MODIFIED:20170127T032723Z
UID:26741-1485594000-1485601200@www.ghcc4u.org
SUMMARY:LAPD Appreciation Day
DESCRIPTION:
URL:https://www.ghcc4u.org/event/lapd-appreciation-day-2017-2/
LOCATION:LAPD Devonshire Station\, 10250 Etiwanda Ave\, Northridge\, CA\, 91325\, United States
CATEGORIES:Outreach
ATTACH;FMTTYPE=image/jpeg:https://www.ghcc4u.org/wp-content/uploads/2017/01/police-appreciation.jpg
END:VEVENT
BEGIN:VEVENT
DTSTART;TZID=America/Denver:20161119T090000
DTEND;TZID=America/Denver:20161119T110000
DTSTAMP:20260423T234814
CREATED:20161101T205213Z
LAST-MODIFIED:20161201T213719Z
UID:26665-1479546000-1479553200@www.ghcc4u.org
SUMMARY:Thanksgiving Food Pantry Event
DESCRIPTION:
URL:https://www.ghcc4u.org/event/food-pantry-2016-1/
LOCATION:Granada Hills Community Church\, 11263 Balboa Blvd\, Granada Hills\, CA\, 91344\, United States
CATEGORIES:Outreach
END:VEVENT
BEGIN:VEVENT
DTSTART;TZID=America/Denver:20161015T083000
DTEND;TZID=America/Denver:20161015T113000
DTSTAMP:20260423T234814
CREATED:20161014T020002Z
LAST-MODIFIED:20161014T021331Z
UID:26609-1476520200-1476531000@www.ghcc4u.org
SUMMARY:Walk for Life 2016
DESCRIPTION:\n				Please click here if you would like to register to participate as a walker.
URL:https://www.ghcc4u.org/event/walk-for-life/
LOCATION:New Life Church of the Nazarene\, 10650 Reseda Blvd\, Northridge\, CA\, 91326\, United States
CATEGORIES:Outreach
ATTACH;FMTTYPE=image/jpeg:https://www.ghcc4u.org/wp-content/uploads/2016/10/open-arms.jpg
END:VEVENT
BEGIN:VEVENT
DTSTART;TZID=America/Denver:20160813T160000
DTEND;TZID=America/Denver:20160813T200000
DTSTAMP:20260423T234814
CREATED:20160804T001619Z
LAST-MODIFIED:20160804T001619Z
UID:26407-1471104000-1471118400@www.ghcc4u.org
SUMMARY:Food Truck Event
DESCRIPTION:
URL:https://www.ghcc4u.org/event/food-truck-event/
LOCATION:Granada Hills Community Church\, 11263 Balboa Blvd\, Granada Hills\, CA\, 91344\, United States
CATEGORIES:Outreach
ATTACH;FMTTYPE=image/jpeg:https://www.ghcc4u.org/wp-content/uploads/2016/08/food-truck-event.jpg
END:VEVENT
END:VCALENDAR