BEGIN:VCALENDAR
VERSION:2.0
PRODID:-//Granada Hills Community Church - ECPv6.15.20//NONSGML v1.0//EN
CALSCALE:GREGORIAN
METHOD:PUBLISH
X-ORIGINAL-URL:https://www.ghcc4u.org
X-WR-CALDESC:Events for Granada Hills Community Church
REFRESH-INTERVAL;VALUE=DURATION:PT1H
X-Robots-Tag:noindex
X-PUBLISHED-TTL:PT1H
BEGIN:VTIMEZONE
TZID:America/Los_Angeles
BEGIN:DAYLIGHT
TZOFFSETFROM:-0800
TZOFFSETTO:-0700
TZNAME:PDT
DTSTART:20160313T100000
END:DAYLIGHT
BEGIN:STANDARD
TZOFFSETFROM:-0700
TZOFFSETTO:-0800
TZNAME:PST
DTSTART:20161106T090000
END:STANDARD
BEGIN:DAYLIGHT
TZOFFSETFROM:-0800
TZOFFSETTO:-0700
TZNAME:PDT
DTSTART:20170312T100000
END:DAYLIGHT
BEGIN:STANDARD
TZOFFSETFROM:-0700
TZOFFSETTO:-0800
TZNAME:PST
DTSTART:20171105T090000
END:STANDARD
BEGIN:DAYLIGHT
TZOFFSETFROM:-0800
TZOFFSETTO:-0700
TZNAME:PDT
DTSTART:20180311T100000
END:DAYLIGHT
BEGIN:STANDARD
TZOFFSETFROM:-0700
TZOFFSETTO:-0800
TZNAME:PST
DTSTART:20181104T090000
END:STANDARD
BEGIN:DAYLIGHT
TZOFFSETFROM:-0800
TZOFFSETTO:-0700
TZNAME:PDT
DTSTART:20190310T100000
END:DAYLIGHT
BEGIN:STANDARD
TZOFFSETFROM:-0700
TZOFFSETTO:-0800
TZNAME:PST
DTSTART:20191103T090000
END:STANDARD
BEGIN:DAYLIGHT
TZOFFSETFROM:-0800
TZOFFSETTO:-0700
TZNAME:PDT
DTSTART:20200308T100000
END:DAYLIGHT
BEGIN:STANDARD
TZOFFSETFROM:-0700
TZOFFSETTO:-0800
TZNAME:PST
DTSTART:20201101T090000
END:STANDARD
BEGIN:DAYLIGHT
TZOFFSETFROM:-0800
TZOFFSETTO:-0700
TZNAME:PDT
DTSTART:20210314T100000
END:DAYLIGHT
BEGIN:STANDARD
TZOFFSETFROM:-0700
TZOFFSETTO:-0800
TZNAME:PST
DTSTART:20211107T090000
END:STANDARD
BEGIN:DAYLIGHT
TZOFFSETFROM:-0800
TZOFFSETTO:-0700
TZNAME:PDT
DTSTART:20220313T100000
END:DAYLIGHT
BEGIN:STANDARD
TZOFFSETFROM:-0700
TZOFFSETTO:-0800
TZNAME:PST
DTSTART:20221106T090000
END:STANDARD
BEGIN:DAYLIGHT
TZOFFSETFROM:-0800
TZOFFSETTO:-0700
TZNAME:PDT
DTSTART:20230312T100000
END:DAYLIGHT
BEGIN:STANDARD
TZOFFSETFROM:-0700
TZOFFSETTO:-0800
TZNAME:PST
DTSTART:20231105T090000
END:STANDARD
BEGIN:DAYLIGHT
TZOFFSETFROM:-0800
TZOFFSETTO:-0700
TZNAME:PDT
DTSTART:20240310T100000
END:DAYLIGHT
BEGIN:STANDARD
TZOFFSETFROM:-0700
TZOFFSETTO:-0800
TZNAME:PST
DTSTART:20241103T090000
END:STANDARD
BEGIN:DAYLIGHT
TZOFFSETFROM:-0800
TZOFFSETTO:-0700
TZNAME:PDT
DTSTART:20250309T100000
END:DAYLIGHT
BEGIN:STANDARD
TZOFFSETFROM:-0700
TZOFFSETTO:-0800
TZNAME:PST
DTSTART:20251102T090000
END:STANDARD
END:VTIMEZONE
BEGIN:VEVENT
DTSTART;TZID=America/Los_Angeles:20240707T120000
DTEND;TZID=America/Los_Angeles:20240707T133000
DTSTAMP:20260423T210751
CREATED:20240702T182017Z
LAST-MODIFIED:20240702T182017Z
UID:30671-1720353600-1720359000@www.ghcc4u.org
SUMMARY:Larry & Ou Yarger Luncheon
DESCRIPTION:Come join us for a wonderful time of food and fellowship as we hear from Larry & Ou Yarger\, our missionaries ministering in Thailand!
URL:https://www.ghcc4u.org/event/larry-and-ou-yarger-luncheon-2024-1/
LOCATION:Granada Hills Community Church\, 11263 Balboa Blvd\, Granada Hills\, CA\, 91344\, United States
CATEGORIES:Missions
ATTACH;FMTTYPE=image/jpeg:https://www.ghcc4u.org/wp-content/uploads/2024/07/luncheon.jpg
END:VEVENT
BEGIN:VEVENT
DTSTART;TZID=America/Los_Angeles:20191019T140000
DTEND;TZID=America/Los_Angeles:20191019T173000
DTSTAMP:20260423T210751
CREATED:20190910T235021Z
LAST-MODIFIED:20190912T182905Z
UID:29080-1571493600-1571506200@www.ghcc4u.org
SUMMARY:Free Movie and BBQ
DESCRIPTION:Come join us for a free showing of “The Case for Christ” (PG) and some free BBQ at our church!\nChildcare will be provided for infants-12yrs.
URL:https://www.ghcc4u.org/event/free-movie-and-bbq-2019-1/
LOCATION:Granada Hills Community Church\, 11263 Balboa Blvd\, Granada Hills\, CA\, 91344\, United States
CATEGORIES:Missions,Outreach
ATTACH;FMTTYPE=image/jpeg:https://www.ghcc4u.org/wp-content/uploads/2019/09/case-for-christ-1.jpg
END:VEVENT
BEGIN:VEVENT
DTSTART;TZID=America/Los_Angeles:20181020T143000
DTEND;TZID=America/Los_Angeles:20181020T180000
DTSTAMP:20260423T210751
CREATED:20181008T195148Z
LAST-MODIFIED:20181008T195213Z
UID:28357-1540045800-1540058400@www.ghcc4u.org
SUMMARY:Free Movie and BBQ
DESCRIPTION:Come join us for a free showing of “I Can Only Imagine” (PG) and some free BBQ at our church!\nChildcare will be provided for infants-12yrs.
URL:https://www.ghcc4u.org/event/free-movie-and-bbq-2018-1/
LOCATION:Granada Hills Community Church\, 11263 Balboa Blvd\, Granada Hills\, CA\, 91344\, United States
CATEGORIES:Missions
ATTACH;FMTTYPE=image/jpeg:https://www.ghcc4u.org/wp-content/uploads/2018/10/i-can-only-imagine.jpg
END:VEVENT
BEGIN:VEVENT
DTSTART;TZID=America/Los_Angeles:20170806T090000
DTEND;TZID=America/Los_Angeles:20170806T100000
DTSTAMP:20260423T210751
CREATED:20170724T181944Z
LAST-MODIFIED:20170724T182012Z
UID:27504-1502010000-1502013600@www.ghcc4u.org
SUMMARY:Missions Highlight
DESCRIPTION:Come join us for a wonderful time of encouragement and fellowship as we hear from Stan and Valli Yoder\, our missionaries to the Muslim community in Michigan!
URL:https://www.ghcc4u.org/event/missions-highlight-2017-2/
LOCATION:Granada Hills Community Church\, 11263 Balboa Blvd\, Granada Hills\, CA\, 91344\, United States
CATEGORIES:Missions
ATTACH;FMTTYPE=image/jpeg:https://www.ghcc4u.org/wp-content/uploads/2017/06/highlight.jpg
END:VEVENT
BEGIN:VEVENT
DTSTART;TZID=America/Los_Angeles:20170715T160000
DTEND;TZID=America/Los_Angeles:20170715T193000
DTSTAMP:20260423T210751
CREATED:20170622T002905Z
LAST-MODIFIED:20170622T004555Z
UID:27445-1500134400-1500147000@www.ghcc4u.org
SUMMARY:Free Movie and BBQ
DESCRIPTION:Come join us for a free showing of “Do You Believe?” (PG-13) and some free BBQ at our church!\nChildcare will be provided for infants-12yrs.
URL:https://www.ghcc4u.org/event/free-movie-and-bbq-2017-1/
LOCATION:Granada Hills Community Church\, 11263 Balboa Blvd\, Granada Hills\, CA\, 91344\, United States
CATEGORIES:Missions
END:VEVENT
BEGIN:VEVENT
DTSTART;TZID=America/Los_Angeles:20170628T180000
DTEND;TZID=America/Los_Angeles:20170628T200000
DTSTAMP:20260423T210751
CREATED:20170622T001155Z
LAST-MODIFIED:20170622T003353Z
UID:27440-1498672800-1498680000@www.ghcc4u.org
SUMMARY:Missions Highlight and Potluck
DESCRIPTION:Come join us for a wonderful evening of food and fellowship as we hear from Shawn Futch and his family\, our missionary to Thailand!
URL:https://www.ghcc4u.org/event/missions-highlight-and-potluck-2017-1/
LOCATION:Granada Hills Community Church\, 11263 Balboa Blvd\, Granada Hills\, CA\, 91344\, United States
CATEGORIES:Missions
ATTACH;FMTTYPE=image/jpeg:https://www.ghcc4u.org/wp-content/uploads/2017/06/highlight.jpg
END:VEVENT
END:VCALENDAR