BEGIN:VCALENDAR
VERSION:2.0
PRODID:-//Granada Hills Community Church - ECPv6.15.20//NONSGML v1.0//EN
CALSCALE:GREGORIAN
METHOD:PUBLISH
X-ORIGINAL-URL:https://www.ghcc4u.org
X-WR-CALDESC:Events for Granada Hills Community Church
REFRESH-INTERVAL;VALUE=DURATION:PT1H
X-Robots-Tag:noindex
X-PUBLISHED-TTL:PT1H
BEGIN:VTIMEZONE
TZID:America/Los_Angeles
BEGIN:DAYLIGHT
TZOFFSETFROM:-0800
TZOFFSETTO:-0700
TZNAME:PDT
DTSTART:20180311T100000
END:DAYLIGHT
BEGIN:STANDARD
TZOFFSETFROM:-0700
TZOFFSETTO:-0800
TZNAME:PST
DTSTART:20181104T090000
END:STANDARD
BEGIN:DAYLIGHT
TZOFFSETFROM:-0800
TZOFFSETTO:-0700
TZNAME:PDT
DTSTART:20190310T100000
END:DAYLIGHT
BEGIN:STANDARD
TZOFFSETFROM:-0700
TZOFFSETTO:-0800
TZNAME:PST
DTSTART:20191103T090000
END:STANDARD
BEGIN:DAYLIGHT
TZOFFSETFROM:-0800
TZOFFSETTO:-0700
TZNAME:PDT
DTSTART:20200308T100000
END:DAYLIGHT
BEGIN:STANDARD
TZOFFSETFROM:-0700
TZOFFSETTO:-0800
TZNAME:PST
DTSTART:20201101T090000
END:STANDARD
BEGIN:DAYLIGHT
TZOFFSETFROM:-0800
TZOFFSETTO:-0700
TZNAME:PDT
DTSTART:20210314T100000
END:DAYLIGHT
BEGIN:STANDARD
TZOFFSETFROM:-0700
TZOFFSETTO:-0800
TZNAME:PST
DTSTART:20211107T090000
END:STANDARD
BEGIN:DAYLIGHT
TZOFFSETFROM:-0800
TZOFFSETTO:-0700
TZNAME:PDT
DTSTART:20220313T100000
END:DAYLIGHT
BEGIN:STANDARD
TZOFFSETFROM:-0700
TZOFFSETTO:-0800
TZNAME:PST
DTSTART:20221106T090000
END:STANDARD
BEGIN:DAYLIGHT
TZOFFSETFROM:-0800
TZOFFSETTO:-0700
TZNAME:PDT
DTSTART:20230312T100000
END:DAYLIGHT
BEGIN:STANDARD
TZOFFSETFROM:-0700
TZOFFSETTO:-0800
TZNAME:PST
DTSTART:20231105T090000
END:STANDARD
END:VTIMEZONE
BEGIN:VEVENT
DTSTART;TZID=America/Los_Angeles:20221112T080000
DTEND;TZID=America/Los_Angeles:20221112T090000
DTSTAMP:20260423T205338
CREATED:20221024T193536Z
LAST-MODIFIED:20221121T194706Z
UID:29949-1668240000-1668243600@www.ghcc4u.org
SUMMARY:Men's Bible Study
DESCRIPTION:Join us for faith and fellowship as we gather to talk about what genuine discipleship looks like in our lives as Christian men.\nWe meet at 8:00am in the Family Life Center (FLC) on the GHCC campus.
URL:https://www.ghcc4u.org/event/mens-bible-study-2022-21/
LOCATION:Granada Hills Community Church\, 11263 Balboa Blvd\, Granada Hills\, CA\, 91344\, United States
CATEGORIES:Men's Ministry
ATTACH;FMTTYPE=image/jpeg:https://www.ghcc4u.org/wp-content/uploads/2022/09/mens-bible-study.jpg
END:VEVENT
BEGIN:VEVENT
DTSTART;TZID=America/Los_Angeles:20221022T080000
DTEND;TZID=America/Los_Angeles:20221022T090000
DTSTAMP:20260423T205338
CREATED:20220912T191517Z
LAST-MODIFIED:20220919T191525Z
UID:29847-1666425600-1666429200@www.ghcc4u.org
SUMMARY:Men's Bible Study
DESCRIPTION:Join us for faith and fellowship as we gather to talk about what genuine discipleship looks like in our lives as Christian men.\nWe meet at 8:00am in the Family Life Center (FLC) on the GHCC campus.
URL:https://www.ghcc4u.org/event/mens-bible-study-2022-20/
LOCATION:Granada Hills Community Church\, 11263 Balboa Blvd\, Granada Hills\, CA\, 91344\, United States
CATEGORIES:Men's Ministry
ATTACH;FMTTYPE=image/jpeg:https://www.ghcc4u.org/wp-content/uploads/2022/09/mens-bible-study.jpg
END:VEVENT
BEGIN:VEVENT
DTSTART;TZID=America/Los_Angeles:20220924T080000
DTEND;TZID=America/Los_Angeles:20220924T090000
DTSTAMP:20260423T205338
CREATED:20220912T191142Z
LAST-MODIFIED:20220919T191306Z
UID:29841-1664006400-1664010000@www.ghcc4u.org
SUMMARY:Men's Bible Study
DESCRIPTION:Join us for faith and fellowship as we gather to talk about what genuine discipleship looks like in our lives as Christian men.\nWe meet at 8:00am in the Family Life Center (FLC) on the GHCC campus.
URL:https://www.ghcc4u.org/event/mens-bible-study-2022-18/
LOCATION:Granada Hills Community Church\, 11263 Balboa Blvd\, Granada Hills\, CA\, 91344\, United States
CATEGORIES:Men's Ministry
ATTACH;FMTTYPE=image/jpeg:https://www.ghcc4u.org/wp-content/uploads/2022/09/mens-bible-study.jpg
END:VEVENT
BEGIN:VEVENT
DTSTART;TZID=America/Los_Angeles:20220910T080000
DTEND;TZID=America/Los_Angeles:20220910T090000
DTSTAMP:20260423T205338
CREATED:20220912T191715Z
LAST-MODIFIED:20220919T191257Z
UID:29849-1662796800-1662800400@www.ghcc4u.org
SUMMARY:Men's Bible Study
DESCRIPTION:Join us for faith and fellowship as we gather to talk about what genuine discipleship looks like in our lives as Christian men.\nWe meet at 8:00am in the Family Life Center (FLC) on the GHCC campus.
URL:https://www.ghcc4u.org/event/mens-bible-study-2022-17/
LOCATION:Granada Hills Community Church\, 11263 Balboa Blvd\, Granada Hills\, CA\, 91344\, United States
CATEGORIES:Men's Ministry
ATTACH;FMTTYPE=image/jpeg:https://www.ghcc4u.org/wp-content/uploads/2022/09/mens-bible-study.jpg
END:VEVENT
BEGIN:VEVENT
DTSTART;TZID=America/Los_Angeles:20200328T070000
DTEND;TZID=America/Los_Angeles:20200328T083000
DTSTAMP:20260423T205338
CREATED:20200224T194421Z
LAST-MODIFIED:20200224T194433Z
UID:29359-1585378800-1585384200@www.ghcc4u.org
SUMMARY:Men's Breakfast
DESCRIPTION:Join us for faith\, food\, and fellowship as we gather to talk about what genuine discipleship looks like in our lives as Christian men.\nWe meet at 7:00am in Room 7 on the GHCC campus.
URL:https://www.ghcc4u.org/event/mens-breakfast-2020-06/
LOCATION:Granada Hills Community Church\, 11263 Balboa Blvd\, Granada Hills\, CA\, 91344\, United States
CATEGORIES:Men's Ministry
ATTACH;FMTTYPE=image/jpeg:https://www.ghcc4u.org/wp-content/uploads/2019/02/mens-breakfast.jpg
END:VEVENT
BEGIN:VEVENT
DTSTART;TZID=America/Los_Angeles:20200314T070000
DTEND;TZID=America/Los_Angeles:20200314T083000
DTSTAMP:20260423T205338
CREATED:20200224T194248Z
LAST-MODIFIED:20200224T194409Z
UID:29357-1584169200-1584174600@www.ghcc4u.org
SUMMARY:Men's Breakfast
DESCRIPTION:Join us for faith\, food\, and fellowship as we gather to talk about what genuine discipleship looks like in our lives as Christian men.\nWe meet at 7:00am in Room 7 on the GHCC campus.
URL:https://www.ghcc4u.org/event/mens-breakfast-2020-05/
LOCATION:Granada Hills Community Church\, 11263 Balboa Blvd\, Granada Hills\, CA\, 91344\, United States
CATEGORIES:Men's Ministry
ATTACH;FMTTYPE=image/jpeg:https://www.ghcc4u.org/wp-content/uploads/2019/02/mens-breakfast.jpg
END:VEVENT
BEGIN:VEVENT
DTSTART;TZID=America/Los_Angeles:20200222T070000
DTEND;TZID=America/Los_Angeles:20200222T083000
DTSTAMP:20260423T205338
CREATED:20200128T195631Z
LAST-MODIFIED:20200128T195645Z
UID:29306-1582354800-1582360200@www.ghcc4u.org
SUMMARY:Men's Breakfast
DESCRIPTION:Join us for faith\, food\, and fellowship as we gather to talk about what genuine discipleship looks like in our lives as Christian men.\nWe meet at 7:00am in Room 7 on the GHCC campus.
URL:https://www.ghcc4u.org/event/mens-breakfast-2020-04/
LOCATION:Granada Hills Community Church\, 11263 Balboa Blvd\, Granada Hills\, CA\, 91344\, United States
CATEGORIES:Men's Ministry
ATTACH;FMTTYPE=image/jpeg:https://www.ghcc4u.org/wp-content/uploads/2019/02/mens-breakfast.jpg
END:VEVENT
BEGIN:VEVENT
DTSTART;TZID=America/Los_Angeles:20200208T070000
DTEND;TZID=America/Los_Angeles:20200208T083000
DTSTAMP:20260423T205338
CREATED:20200128T195604Z
LAST-MODIFIED:20200128T195617Z
UID:29304-1581145200-1581150600@www.ghcc4u.org
SUMMARY:Men's Breakfast
DESCRIPTION:Join us for faith\, food\, and fellowship as we gather to talk about what genuine discipleship looks like in our lives as Christian men.\nWe meet at 7:00am in Room 7 on the GHCC campus.
URL:https://www.ghcc4u.org/event/mens-breakfast-2020-03/
LOCATION:Granada Hills Community Church\, 11263 Balboa Blvd\, Granada Hills\, CA\, 91344\, United States
CATEGORIES:Men's Ministry
ATTACH;FMTTYPE=image/jpeg:https://www.ghcc4u.org/wp-content/uploads/2019/02/mens-breakfast.jpg
END:VEVENT
BEGIN:VEVENT
DTSTART;TZID=America/Los_Angeles:20200125T070000
DTEND;TZID=America/Los_Angeles:20200125T083000
DTSTAMP:20260423T205338
CREATED:20191231T005924Z
LAST-MODIFIED:20191231T005940Z
UID:29261-1579935600-1579941000@www.ghcc4u.org
SUMMARY:Men's Breakfast
DESCRIPTION:Join us for faith\, food\, and fellowship as we gather to talk about what genuine discipleship looks like in our lives as Christian men.\nWe meet at 7:00am in Room 7 on the GHCC campus.
URL:https://www.ghcc4u.org/event/mens-breakfast-2020-02/
LOCATION:Granada Hills Community Church\, 11263 Balboa Blvd\, Granada Hills\, CA\, 91344\, United States
CATEGORIES:Men's Ministry
ATTACH;FMTTYPE=image/jpeg:https://www.ghcc4u.org/wp-content/uploads/2019/02/mens-breakfast.jpg
END:VEVENT
BEGIN:VEVENT
DTSTART;TZID=America/Los_Angeles:20200111T070000
DTEND;TZID=America/Los_Angeles:20200111T083000
DTSTAMP:20260423T205338
CREATED:20191231T005845Z
LAST-MODIFIED:20191231T005906Z
UID:29259-1578726000-1578731400@www.ghcc4u.org
SUMMARY:Men's Breakfast
DESCRIPTION:Join us for faith\, food\, and fellowship as we gather to talk about what genuine discipleship looks like in our lives as Christian men.\nWe meet at 7:00am in Room 7 on the GHCC campus.
URL:https://www.ghcc4u.org/event/mens-breakfast-2020-01/
LOCATION:Granada Hills Community Church\, 11263 Balboa Blvd\, Granada Hills\, CA\, 91344\, United States
CATEGORIES:Men's Ministry
ATTACH;FMTTYPE=image/jpeg:https://www.ghcc4u.org/wp-content/uploads/2019/02/mens-breakfast.jpg
END:VEVENT
BEGIN:VEVENT
DTSTART;TZID=America/Los_Angeles:20191214T070000
DTEND;TZID=America/Los_Angeles:20191214T083000
DTSTAMP:20260423T205338
CREATED:20191203T005251Z
LAST-MODIFIED:20191203T005307Z
UID:29198-1576306800-1576312200@www.ghcc4u.org
SUMMARY:Men's Breakfast
DESCRIPTION:Join us for faith\, food\, and fellowship as we gather to talk about what genuine discipleship looks like in our lives as Christian men.\nWe meet at 7:00am in Room 7 on the GHCC campus.
URL:https://www.ghcc4u.org/event/mens-breakfast-2019-22/
LOCATION:Granada Hills Community Church\, 11263 Balboa Blvd\, Granada Hills\, CA\, 91344\, United States
CATEGORIES:Men's Ministry
ATTACH;FMTTYPE=image/jpeg:https://www.ghcc4u.org/wp-content/uploads/2019/02/mens-breakfast.jpg
END:VEVENT
BEGIN:VEVENT
DTSTART;TZID=America/Los_Angeles:20191123T070000
DTEND;TZID=America/Los_Angeles:20191123T083000
DTSTAMP:20260423T205338
CREATED:20191028T165751Z
LAST-MODIFIED:20191028T165834Z
UID:29169-1574492400-1574497800@www.ghcc4u.org
SUMMARY:Men's Breakfast
DESCRIPTION:Join us for faith\, food\, and fellowship as we gather to talk about what genuine discipleship looks like in our lives as Christian men.\nWe meet at 7:00am in Room 7 on the GHCC campus.
URL:https://www.ghcc4u.org/event/mens-breakfast-2019-21/
LOCATION:Granada Hills Community Church\, 11263 Balboa Blvd\, Granada Hills\, CA\, 91344\, United States
CATEGORIES:Men's Ministry
ATTACH;FMTTYPE=image/jpeg:https://www.ghcc4u.org/wp-content/uploads/2019/02/mens-breakfast.jpg
END:VEVENT
BEGIN:VEVENT
DTSTART;TZID=America/Los_Angeles:20191109T070000
DTEND;TZID=America/Los_Angeles:20191109T083000
DTSTAMP:20260423T205338
CREATED:20191028T165652Z
LAST-MODIFIED:20191028T165723Z
UID:29167-1573282800-1573288200@www.ghcc4u.org
SUMMARY:Men's Breakfast
DESCRIPTION:Join us for faith\, food\, and fellowship as we gather to talk about what genuine discipleship looks like in our lives as Christian men.\nWe meet at 7:00am in Room 7 on the GHCC campus.
URL:https://www.ghcc4u.org/event/mens-breakfast-2019-20/
LOCATION:Granada Hills Community Church\, 11263 Balboa Blvd\, Granada Hills\, CA\, 91344\, United States
CATEGORIES:Men's Ministry
ATTACH;FMTTYPE=image/jpeg:https://www.ghcc4u.org/wp-content/uploads/2019/02/mens-breakfast.jpg
END:VEVENT
BEGIN:VEVENT
DTSTART;TZID=America/Los_Angeles:20191026T070000
DTEND;TZID=America/Los_Angeles:20191026T083000
DTSTAMP:20260423T205338
CREATED:20190930T194336Z
LAST-MODIFIED:20190930T194348Z
UID:29119-1572073200-1572078600@www.ghcc4u.org
SUMMARY:Men's Breakfast
DESCRIPTION:Join us for faith\, food\, and fellowship as we gather to talk about what genuine discipleship looks like in our lives as Christian men.\nWe meet at 7:00am in Room 7 on the GHCC campus.
URL:https://www.ghcc4u.org/event/mens-breakfast-2019-19/
LOCATION:Granada Hills Community Church\, 11263 Balboa Blvd\, Granada Hills\, CA\, 91344\, United States
CATEGORIES:Men's Ministry
ATTACH;FMTTYPE=image/jpeg:https://www.ghcc4u.org/wp-content/uploads/2019/02/mens-breakfast.jpg
END:VEVENT
BEGIN:VEVENT
DTSTART;TZID=America/Los_Angeles:20191012T070000
DTEND;TZID=America/Los_Angeles:20191012T083000
DTSTAMP:20260423T205338
CREATED:20190930T194307Z
LAST-MODIFIED:20190930T194321Z
UID:29117-1570863600-1570869000@www.ghcc4u.org
SUMMARY:Men's Breakfast
DESCRIPTION:Join us for faith\, food\, and fellowship as we gather to talk about what genuine discipleship looks like in our lives as Christian men.\nWe meet at 7:00am in Room 7 on the GHCC campus.
URL:https://www.ghcc4u.org/event/mens-breakfast-2019-18/
LOCATION:Granada Hills Community Church\, 11263 Balboa Blvd\, Granada Hills\, CA\, 91344\, United States
CATEGORIES:Men's Ministry
ATTACH;FMTTYPE=image/jpeg:https://www.ghcc4u.org/wp-content/uploads/2019/02/mens-breakfast.jpg
END:VEVENT
BEGIN:VEVENT
DTSTART;TZID=America/Los_Angeles:20190928T070000
DTEND;TZID=America/Los_Angeles:20190928T083000
DTSTAMP:20260423T205338
CREATED:20190826T230012Z
LAST-MODIFIED:20190826T230024Z
UID:29028-1569654000-1569659400@www.ghcc4u.org
SUMMARY:Men's Breakfast
DESCRIPTION:Join us for faith\, food\, and fellowship as we gather to talk about what genuine discipleship looks like in our lives as Christian men.\nWe meet at 7:00am in Room 7 on the GHCC campus.
URL:https://www.ghcc4u.org/event/mens-breakfast-2019-17/
LOCATION:Granada Hills Community Church\, 11263 Balboa Blvd\, Granada Hills\, CA\, 91344\, United States
CATEGORIES:Men's Ministry
ATTACH;FMTTYPE=image/jpeg:https://www.ghcc4u.org/wp-content/uploads/2019/02/mens-breakfast.jpg
END:VEVENT
BEGIN:VEVENT
DTSTART;TZID=America/Los_Angeles:20190914T070000
DTEND;TZID=America/Los_Angeles:20190914T083000
DTSTAMP:20260423T205338
CREATED:20190826T225944Z
LAST-MODIFIED:20190826T225956Z
UID:29026-1568444400-1568449800@www.ghcc4u.org
SUMMARY:Men's Breakfast
DESCRIPTION:Join us for faith\, food\, and fellowship as we gather to talk about what genuine discipleship looks like in our lives as Christian men.\nWe meet at 7:00am in Room 7 on the GHCC campus.
URL:https://www.ghcc4u.org/event/mens-breakfast-2019-16/
LOCATION:Granada Hills Community Church\, 11263 Balboa Blvd\, Granada Hills\, CA\, 91344\, United States
CATEGORIES:Men's Ministry
ATTACH;FMTTYPE=image/jpeg:https://www.ghcc4u.org/wp-content/uploads/2019/02/mens-breakfast.jpg
END:VEVENT
BEGIN:VEVENT
DTSTART;TZID=America/Los_Angeles:20190824T070000
DTEND;TZID=America/Los_Angeles:20190824T083000
DTSTAMP:20260423T205338
CREATED:20190801T234705Z
LAST-MODIFIED:20190801T234742Z
UID:28994-1566630000-1566635400@www.ghcc4u.org
SUMMARY:Men's Breakfast
DESCRIPTION:Join us for faith\, food\, and fellowship as we gather to talk about what genuine discipleship looks like in our lives as Christian men.\nWe meet at 7:00am in Room 7 on the GHCC campus.
URL:https://www.ghcc4u.org/event/mens-breakfast-2019-15/
LOCATION:Granada Hills Community Church\, 11263 Balboa Blvd\, Granada Hills\, CA\, 91344\, United States
CATEGORIES:Men's Ministry
ATTACH;FMTTYPE=image/jpeg:https://www.ghcc4u.org/wp-content/uploads/2019/02/mens-breakfast.jpg
END:VEVENT
BEGIN:VEVENT
DTSTART;TZID=America/Los_Angeles:20190810T070000
DTEND;TZID=America/Los_Angeles:20190810T083000
DTSTAMP:20260423T205338
CREATED:20190801T234553Z
LAST-MODIFIED:20190801T234641Z
UID:28992-1565420400-1565425800@www.ghcc4u.org
SUMMARY:Men's Breakfast
DESCRIPTION:Join us for faith\, food\, and fellowship as we gather to talk about what genuine discipleship looks like in our lives as Christian men.\nWe meet at 7:00am in Room 7 on the GHCC campus.
URL:https://www.ghcc4u.org/event/mens-breakfast-2019-14/
LOCATION:Granada Hills Community Church\, 11263 Balboa Blvd\, Granada Hills\, CA\, 91344\, United States
CATEGORIES:Men's Ministry
ATTACH;FMTTYPE=image/jpeg:https://www.ghcc4u.org/wp-content/uploads/2019/02/mens-breakfast.jpg
END:VEVENT
BEGIN:VEVENT
DTSTART;TZID=America/Los_Angeles:20190727T070000
DTEND;TZID=America/Los_Angeles:20190727T083000
DTSTAMP:20260423T205338
CREATED:20190703T234435Z
LAST-MODIFIED:20190703T234515Z
UID:28962-1564210800-1564216200@www.ghcc4u.org
SUMMARY:Men's Breakfast
DESCRIPTION:Join us for faith\, food\, and fellowship as we gather to talk about what genuine discipleship looks like in our lives as Christian men.\nWe meet at 7:00am in Room 7 on the GHCC campus.
URL:https://www.ghcc4u.org/event/mens-breakfast-2019-13/
LOCATION:Granada Hills Community Church\, 11263 Balboa Blvd\, Granada Hills\, CA\, 91344\, United States
CATEGORIES:Men's Ministry
ATTACH;FMTTYPE=image/jpeg:https://www.ghcc4u.org/wp-content/uploads/2019/02/mens-breakfast.jpg
END:VEVENT
BEGIN:VEVENT
DTSTART;TZID=America/Los_Angeles:20190713T070000
DTEND;TZID=America/Los_Angeles:20190713T083000
DTSTAMP:20260423T205338
CREATED:20190703T234336Z
LAST-MODIFIED:20190703T234410Z
UID:28960-1563001200-1563006600@www.ghcc4u.org
SUMMARY:Men's Breakfast
DESCRIPTION:Join us for faith\, food\, and fellowship as we gather to talk about what genuine discipleship looks like in our lives as Christian men.\nWe meet at 7:00am in Room 7 on the GHCC campus.
URL:https://www.ghcc4u.org/event/mens-breakfast-2019-12/
LOCATION:Granada Hills Community Church\, 11263 Balboa Blvd\, Granada Hills\, CA\, 91344\, United States
CATEGORIES:Men's Ministry
ATTACH;FMTTYPE=image/jpeg:https://www.ghcc4u.org/wp-content/uploads/2019/02/mens-breakfast.jpg
END:VEVENT
BEGIN:VEVENT
DTSTART;TZID=America/Los_Angeles:20190622T070000
DTEND;TZID=America/Los_Angeles:20190622T083000
DTSTAMP:20260423T205338
CREATED:20190529T230226Z
LAST-MODIFIED:20190529T230302Z
UID:28863-1561186800-1561192200@www.ghcc4u.org
SUMMARY:Men's Breakfast
DESCRIPTION:Join us for faith\, food\, and fellowship as we gather to talk about what genuine discipleship looks like in our lives as Christian men.\nWe meet at 7:00am in Room 7 on the GHCC campus.
URL:https://www.ghcc4u.org/event/mens-breakfast-2019-11/
LOCATION:Granada Hills Community Church\, 11263 Balboa Blvd\, Granada Hills\, CA\, 91344\, United States
CATEGORIES:Men's Ministry
ATTACH;FMTTYPE=image/jpeg:https://www.ghcc4u.org/wp-content/uploads/2019/02/mens-breakfast.jpg
END:VEVENT
BEGIN:VEVENT
DTSTART;TZID=America/Los_Angeles:20190608T070000
DTEND;TZID=America/Los_Angeles:20190608T083000
DTSTAMP:20260423T205338
CREATED:20190529T230127Z
LAST-MODIFIED:20190529T230201Z
UID:28861-1559977200-1559982600@www.ghcc4u.org
SUMMARY:Men's Breakfast
DESCRIPTION:Join us for faith\, food\, and fellowship as we gather to talk about what genuine discipleship looks like in our lives as Christian men.\nWe meet at 7:00am in Room 7 on the GHCC campus.
URL:https://www.ghcc4u.org/event/mens-breakfast-2019-10/
LOCATION:Granada Hills Community Church\, 11263 Balboa Blvd\, Granada Hills\, CA\, 91344\, United States
CATEGORIES:Men's Ministry
ATTACH;FMTTYPE=image/jpeg:https://www.ghcc4u.org/wp-content/uploads/2019/02/mens-breakfast.jpg
END:VEVENT
BEGIN:VEVENT
DTSTART;TZID=America/Los_Angeles:20190525T070000
DTEND;TZID=America/Los_Angeles:20190525T083000
DTSTAMP:20260423T205338
CREATED:20190501T185928Z
LAST-MODIFIED:20190501T190000Z
UID:28833-1558767600-1558773000@www.ghcc4u.org
SUMMARY:Men's Breakfast
DESCRIPTION:Join us for faith\, food\, and fellowship as we gather to talk about what genuine discipleship looks like in our lives as Christian men.\nWe meet at 7:00am in Room 7 on the GHCC campus.
URL:https://www.ghcc4u.org/event/mens-breakfast-2019-09/
LOCATION:Granada Hills Community Church\, 11263 Balboa Blvd\, Granada Hills\, CA\, 91344\, United States
CATEGORIES:Men's Ministry
ATTACH;FMTTYPE=image/jpeg:https://www.ghcc4u.org/wp-content/uploads/2019/02/mens-breakfast.jpg
END:VEVENT
BEGIN:VEVENT
DTSTART;TZID=America/Los_Angeles:20190427T070000
DTEND;TZID=America/Los_Angeles:20190427T083000
DTSTAMP:20260423T205338
CREATED:20190401T174822Z
LAST-MODIFIED:20190401T174853Z
UID:28781-1556348400-1556353800@www.ghcc4u.org
SUMMARY:Men's Breakfast
DESCRIPTION:Join us for faith\, food\, and fellowship as we gather to talk about what genuine discipleship looks like in our lives as Christian men.\nWe meet at 7:00am in Room 7 on the GHCC campus.
URL:https://www.ghcc4u.org/event/mens-breakfast-2019-08/
LOCATION:Granada Hills Community Church\, 11263 Balboa Blvd\, Granada Hills\, CA\, 91344\, United States
CATEGORIES:Men's Ministry
ATTACH;FMTTYPE=image/jpeg:https://www.ghcc4u.org/wp-content/uploads/2019/02/mens-breakfast.jpg
END:VEVENT
BEGIN:VEVENT
DTSTART;TZID=America/Los_Angeles:20190413T070000
DTEND;TZID=America/Los_Angeles:20190413T083000
DTSTAMP:20260423T205338
CREATED:20190401T174720Z
LAST-MODIFIED:20190401T174754Z
UID:28779-1555138800-1555144200@www.ghcc4u.org
SUMMARY:Men's Breakfast
DESCRIPTION:Join us for faith\, food\, and fellowship as we gather to talk about what genuine discipleship looks like in our lives as Christian men.\nWe meet at 7:00am in Room 7 on the GHCC campus.
URL:https://www.ghcc4u.org/event/mens-breakfast-2019-07/
LOCATION:Granada Hills Community Church\, 11263 Balboa Blvd\, Granada Hills\, CA\, 91344\, United States
CATEGORIES:Men's Ministry
ATTACH;FMTTYPE=image/jpeg:https://www.ghcc4u.org/wp-content/uploads/2019/02/mens-breakfast.jpg
END:VEVENT
BEGIN:VEVENT
DTSTART;TZID=America/Los_Angeles:20190323T070000
DTEND;TZID=America/Los_Angeles:20190323T083000
DTSTAMP:20260423T205338
CREATED:20190228T180559Z
LAST-MODIFIED:20190228T180630Z
UID:28679-1553324400-1553329800@www.ghcc4u.org
SUMMARY:Men's Breakfast
DESCRIPTION:Join us for faith\, food\, and fellowship as we gather to talk about what genuine discipleship looks like in our lives as Christian men.\nWe meet at 7:00am in Room 7 on the GHCC campus.
URL:https://www.ghcc4u.org/event/mens-breakfast-2019-06/
LOCATION:Granada Hills Community Church\, 11263 Balboa Blvd\, Granada Hills\, CA\, 91344\, United States
CATEGORIES:Men's Ministry
ATTACH;FMTTYPE=image/jpeg:https://www.ghcc4u.org/wp-content/uploads/2019/02/mens-breakfast.jpg
END:VEVENT
BEGIN:VEVENT
DTSTART;TZID=America/Los_Angeles:20190309T070000
DTEND;TZID=America/Los_Angeles:20190309T083000
DTSTAMP:20260423T205338
CREATED:20190228T180456Z
LAST-MODIFIED:20190228T180526Z
UID:28677-1552114800-1552120200@www.ghcc4u.org
SUMMARY:Men's Breakfast
DESCRIPTION:Join us for faith\, food\, and fellowship as we gather to talk about what genuine discipleship looks like in our lives as Christian men.\nWe meet at 7:00am in Room 7 on the GHCC campus.
URL:https://www.ghcc4u.org/event/mens-breakfast-2019-05/
LOCATION:Granada Hills Community Church\, 11263 Balboa Blvd\, Granada Hills\, CA\, 91344\, United States
CATEGORIES:Men's Ministry
ATTACH;FMTTYPE=image/jpeg:https://www.ghcc4u.org/wp-content/uploads/2019/02/mens-breakfast.jpg
END:VEVENT
BEGIN:VEVENT
DTSTART;TZID=America/Los_Angeles:20190223T070000
DTEND;TZID=America/Los_Angeles:20190223T083000
DTSTAMP:20260423T205338
CREATED:20190129T220715Z
LAST-MODIFIED:20190129T220734Z
UID:28525-1550905200-1550910600@www.ghcc4u.org
SUMMARY:Men's Breakfast
DESCRIPTION:Join us for faith\, food\, and fellowship as we gather to talk about what genuine discipleship looks like in our lives as Christian men.\nWe meet at 7:00am in Room 7 on the GHCC campus.
URL:https://www.ghcc4u.org/event/mens-breakfast-2019-04/
LOCATION:Granada Hills Community Church\, 11263 Balboa Blvd\, Granada Hills\, CA\, 91344\, United States
CATEGORIES:Men's Ministry
END:VEVENT
BEGIN:VEVENT
DTSTART;TZID=America/Los_Angeles:20190209T070000
DTEND;TZID=America/Los_Angeles:20190209T083000
DTSTAMP:20260423T205338
CREATED:20190129T220634Z
LAST-MODIFIED:20190129T220654Z
UID:28523-1549695600-1549701000@www.ghcc4u.org
SUMMARY:Men's Breakfast
DESCRIPTION:Join us for faith\, food\, and fellowship as we gather to talk about what genuine discipleship looks like in our lives as Christian men.\nWe meet at 7:00am in Room 7 on the GHCC campus.
URL:https://www.ghcc4u.org/event/mens-breakfast-2019-03/
LOCATION:Granada Hills Community Church\, 11263 Balboa Blvd\, Granada Hills\, CA\, 91344\, United States
CATEGORIES:Men's Ministry
END:VEVENT
END:VCALENDAR