BEGIN:VCALENDAR
VERSION:2.0
PRODID:-//Granada Hills Community Church - ECPv6.15.20//NONSGML v1.0//EN
CALSCALE:GREGORIAN
METHOD:PUBLISH
X-ORIGINAL-URL:https://www.ghcc4u.org
X-WR-CALDESC:Events for Granada Hills Community Church
REFRESH-INTERVAL;VALUE=DURATION:PT1H
X-Robots-Tag:noindex
X-PUBLISHED-TTL:PT1H
BEGIN:VTIMEZONE
TZID:America/Los_Angeles
BEGIN:DAYLIGHT
TZOFFSETFROM:-0800
TZOFFSETTO:-0700
TZNAME:PDT
DTSTART:20160313T100000
END:DAYLIGHT
BEGIN:STANDARD
TZOFFSETFROM:-0700
TZOFFSETTO:-0800
TZNAME:PST
DTSTART:20161106T090000
END:STANDARD
BEGIN:DAYLIGHT
TZOFFSETFROM:-0800
TZOFFSETTO:-0700
TZNAME:PDT
DTSTART:20170312T100000
END:DAYLIGHT
BEGIN:STANDARD
TZOFFSETFROM:-0700
TZOFFSETTO:-0800
TZNAME:PST
DTSTART:20171105T090000
END:STANDARD
BEGIN:DAYLIGHT
TZOFFSETFROM:-0800
TZOFFSETTO:-0700
TZNAME:PDT
DTSTART:20180311T100000
END:DAYLIGHT
BEGIN:STANDARD
TZOFFSETFROM:-0700
TZOFFSETTO:-0800
TZNAME:PST
DTSTART:20181104T090000
END:STANDARD
END:VTIMEZONE
BEGIN:VEVENT
DTSTART;TZID=America/Los_Angeles:20170826T070000
DTEND;TZID=America/Los_Angeles:20170826T083000
DTSTAMP:20260424T064941
CREATED:20170724T173115Z
LAST-MODIFIED:20170724T173421Z
UID:27487-1503730800-1503736200@www.ghcc4u.org
SUMMARY:Men's Breakfast
DESCRIPTION:Join us for faith\, food\, and fellowship as we gather to talk about what genuine discipleship looks like in our lives as Christian men.\nWe meet at 7:00am in Room 7 on the GHCC campus.
URL:https://www.ghcc4u.org/event/mens-breakfast-2017-8/
LOCATION:Granada Hills Community Church\, 11263 Balboa Blvd\, Granada Hills\, CA\, 91344\, United States
CATEGORIES:Men's Ministry
END:VEVENT
BEGIN:VEVENT
DTSTART;TZID=America/Los_Angeles:20170812T070000
DTEND;TZID=America/Los_Angeles:20170812T083000
DTSTAMP:20260424T064941
CREATED:20170724T173015Z
LAST-MODIFIED:20170724T173357Z
UID:27485-1502521200-1502526600@www.ghcc4u.org
SUMMARY:Men's Breakfast
DESCRIPTION:Join us for faith\, food\, and fellowship as we gather to talk about what genuine discipleship looks like in our lives as Christian men.\nWe meet at 7:00am in Room 7 on the GHCC campus.
URL:https://www.ghcc4u.org/event/mens-breakfast-2017-7/
LOCATION:Granada Hills Community Church\, 11263 Balboa Blvd\, Granada Hills\, CA\, 91344\, United States
CATEGORIES:Men's Ministry
END:VEVENT
BEGIN:VEVENT
DTSTART;TZID=America/Los_Angeles:20170722T070000
DTEND;TZID=America/Los_Angeles:20170722T083000
DTSTAMP:20260424T064941
CREATED:20170621T232647Z
LAST-MODIFIED:20170621T233654Z
UID:27436-1500706800-1500712200@www.ghcc4u.org
SUMMARY:Men's Breakfast
DESCRIPTION:Join us for faith\, food\, and fellowship as we gather to talk about what genuine discipleship looks like in our lives as Christian men.\nOur meeting is at 7:00am at Coco’s on Sepulveda Blvd in Mission Hills: 10841 Sepulveda Blvd Mission Hills CA 91345.
URL:https://www.ghcc4u.org/event/mens-breakfast-2017-6/
LOCATION:Coco’s Mission Hills\, 10841 Sepulveda Blvd\, Mission Hills\, CA\, 91345\, United States
CATEGORIES:Men's Ministry
END:VEVENT
BEGIN:VEVENT
DTSTART;TZID=America/Los_Angeles:20170708T070000
DTEND;TZID=America/Los_Angeles:20170708T083000
DTSTAMP:20260424T064941
CREATED:20170621T232611Z
LAST-MODIFIED:20170621T233608Z
UID:27434-1499497200-1499502600@www.ghcc4u.org
SUMMARY:Men's Breakfast
DESCRIPTION:Join us for faith\, food\, and fellowship as we gather to talk about what genuine discipleship looks like in our lives as Christian men.\nOur meeting is at 7:00am at Coco’s on Sepulveda Blvd in Mission Hills: 10841 Sepulveda Blvd Mission Hills CA 91345.
URL:https://www.ghcc4u.org/event/mens-breakfast-2017-5/
LOCATION:Coco’s Mission Hills\, 10841 Sepulveda Blvd\, Mission Hills\, CA\, 91345\, United States
CATEGORIES:Men's Ministry
END:VEVENT
BEGIN:VEVENT
DTSTART;TZID=America/Los_Angeles:20170624T070000
DTEND;TZID=America/Los_Angeles:20170624T083000
DTSTAMP:20260424T064941
CREATED:20170529T194928Z
LAST-MODIFIED:20170621T233517Z
UID:27359-1498287600-1498293000@www.ghcc4u.org
SUMMARY:Men's Breakfast
DESCRIPTION:Join us for faith\, food\, and fellowship as we gather to talk about what genuine discipleship looks like in our lives as Christian men.\nOur meeting is at 7:00am at Coco’s on Sepulveda Blvd in Mission Hills: 10841 Sepulveda Blvd Mission Hills CA 91345.
URL:https://www.ghcc4u.org/event/mens-breakfast-2017-4-1/
LOCATION:Coco’s Mission Hills\, 10841 Sepulveda Blvd\, Mission Hills\, CA\, 91345\, United States
CATEGORIES:Men's Ministry
END:VEVENT
BEGIN:VEVENT
DTSTART;TZID=America/Los_Angeles:20170610T070000
DTEND;TZID=America/Los_Angeles:20170610T083000
DTSTAMP:20260424T064941
CREATED:20170529T194848Z
LAST-MODIFIED:20170529T194909Z
UID:27357-1497078000-1497083400@www.ghcc4u.org
SUMMARY:Men's Breakfast
DESCRIPTION:Join us for faith\, food\, and fellowship as we gather to talk about what genuine discipleship looks like in our lives as Christian men.\nOur meeting is at 7:00am at Coco’s on Sepulveda Blvd in Mission Hills: 10841 Sepulveda Blvd Mission Hills CA 91345.
URL:https://www.ghcc4u.org/event/mens-breakfast-2017-3/
LOCATION:Coco’s Mission Hills\, 10841 Sepulveda Blvd\, Mission Hills\, CA\, 91345\, United States
CATEGORIES:Men's Ministry
END:VEVENT
BEGIN:VEVENT
DTSTART;TZID=America/Los_Angeles:20170527T070000
DTEND;TZID=America/Los_Angeles:20170527T083000
DTSTAMP:20260424T064941
CREATED:20170515T163304Z
LAST-MODIFIED:20170515T163329Z
UID:27315-1495868400-1495873800@www.ghcc4u.org
SUMMARY:Men's Breakfast
DESCRIPTION:Join us for faith\, food\, and fellowship as we gather to talk about what genuine discipleship looks like in our lives as Christian men.\nOur meeting is at 7:00am at Coco’s on Sepulveda Blvd in Mission Hills: 10841 Sepulveda Blvd Mission Hills CA 91345.
URL:https://www.ghcc4u.org/event/mens-breakfast-2017-2/
LOCATION:Coco’s Mission Hills\, 10841 Sepulveda Blvd\, Mission Hills\, CA\, 91345\, United States
CATEGORIES:Men's Ministry
END:VEVENT
BEGIN:VEVENT
DTSTART;TZID=America/Los_Angeles:20170513T070000
DTEND;TZID=America/Los_Angeles:20170513T083000
DTSTAMP:20260424T064941
CREATED:20170509T200334Z
LAST-MODIFIED:20170509T201515Z
UID:27283-1494658800-1494664200@www.ghcc4u.org
SUMMARY:Men's Breakfast
DESCRIPTION:Join us for faith\, food\, and fellowship as we gather to talk about what genuine discipleship looks like in our lives as Christian men.\nOur meeting is at 7:00am at Coco’s on Sepulveda Blvd in Mission Hills: 10841 Sepulveda Blvd Mission Hills CA 91345.
URL:https://www.ghcc4u.org/event/mens-breakfast-2017-1/
LOCATION:Coco’s Mission Hills\, 10841 Sepulveda Blvd\, Mission Hills\, CA\, 91345\, United States
CATEGORIES:Men's Ministry
END:VEVENT
END:VCALENDAR