BEGIN:VCALENDAR
VERSION:2.0
PRODID:-//Granada Hills Community Church - ECPv6.15.20//NONSGML v1.0//EN
CALSCALE:GREGORIAN
METHOD:PUBLISH
X-ORIGINAL-URL:https://www.ghcc4u.org
X-WR-CALDESC:Events for Granada Hills Community Church
REFRESH-INTERVAL;VALUE=DURATION:PT1H
X-Robots-Tag:noindex
X-PUBLISHED-TTL:PT1H
BEGIN:VTIMEZONE
TZID:America/Los_Angeles
BEGIN:DAYLIGHT
TZOFFSETFROM:-0800
TZOFFSETTO:-0700
TZNAME:PDT
DTSTART:20230312T100000
END:DAYLIGHT
BEGIN:STANDARD
TZOFFSETFROM:-0700
TZOFFSETTO:-0800
TZNAME:PST
DTSTART:20231105T090000
END:STANDARD
BEGIN:DAYLIGHT
TZOFFSETFROM:-0800
TZOFFSETTO:-0700
TZNAME:PDT
DTSTART:20240310T100000
END:DAYLIGHT
BEGIN:STANDARD
TZOFFSETFROM:-0700
TZOFFSETTO:-0800
TZNAME:PST
DTSTART:20241103T090000
END:STANDARD
BEGIN:DAYLIGHT
TZOFFSETFROM:-0800
TZOFFSETTO:-0700
TZNAME:PDT
DTSTART:20250309T100000
END:DAYLIGHT
BEGIN:STANDARD
TZOFFSETFROM:-0700
TZOFFSETTO:-0800
TZNAME:PST
DTSTART:20251102T090000
END:STANDARD
BEGIN:DAYLIGHT
TZOFFSETFROM:-0800
TZOFFSETTO:-0700
TZNAME:PDT
DTSTART:20260308T100000
END:DAYLIGHT
BEGIN:STANDARD
TZOFFSETFROM:-0700
TZOFFSETTO:-0800
TZNAME:PST
DTSTART:20261101T090000
END:STANDARD
BEGIN:DAYLIGHT
TZOFFSETFROM:-0800
TZOFFSETTO:-0700
TZNAME:PDT
DTSTART:20270314T100000
END:DAYLIGHT
BEGIN:STANDARD
TZOFFSETFROM:-0700
TZOFFSETTO:-0800
TZNAME:PST
DTSTART:20271107T090000
END:STANDARD
END:VTIMEZONE
BEGIN:VEVENT
DTSTART;TZID=America/Los_Angeles:20260411T080000
DTEND;TZID=America/Los_Angeles:20260411T090000
DTSTAMP:20260423T104944
CREATED:20260406T192152Z
LAST-MODIFIED:20260406T192203Z
UID:31729-1775894400-1775898000@www.ghcc4u.org
SUMMARY:Men's Bible Study
DESCRIPTION:Join us for faith and fellowship as we gather to talk about what genuine discipleship looks like in our lives as Christian men.\nWe meet at 8:00am in the Family Life Center (FLC) on the GHCC campus.
URL:https://www.ghcc4u.org/event/mens-bible-study-2026-07/
LOCATION:Granada Hills Community Church\, 11263 Balboa Blvd\, Granada Hills\, CA\, 91344\, United States
CATEGORIES:Men's Ministry
ATTACH;FMTTYPE=image/jpeg:https://www.ghcc4u.org/wp-content/uploads/2022/09/mens-bible-study.jpg
END:VEVENT
BEGIN:VEVENT
DTSTART;TZID=America/Los_Angeles:20260328T080000
DTEND;TZID=America/Los_Angeles:20260328T090000
DTSTAMP:20260423T104944
CREATED:20260218T235035Z
LAST-MODIFIED:20260218T235046Z
UID:31637-1774684800-1774688400@www.ghcc4u.org
SUMMARY:Men's Bible Study
DESCRIPTION:Join us for faith and fellowship as we gather to talk about what genuine discipleship looks like in our lives as Christian men.\nWe meet at 8:00am in the Family Life Center (FLC) on the GHCC campus.
URL:https://www.ghcc4u.org/event/mens-bible-study-2026-06/
LOCATION:Granada Hills Community Church\, 11263 Balboa Blvd\, Granada Hills\, CA\, 91344\, United States
CATEGORIES:Men's Ministry
ATTACH;FMTTYPE=image/jpeg:https://www.ghcc4u.org/wp-content/uploads/2022/09/mens-bible-study.jpg
END:VEVENT
BEGIN:VEVENT
DTSTART;TZID=America/Los_Angeles:20260314T080000
DTEND;TZID=America/Los_Angeles:20260314T090000
DTSTAMP:20260423T104944
CREATED:20260218T235012Z
LAST-MODIFIED:20260218T235021Z
UID:31635-1773475200-1773478800@www.ghcc4u.org
SUMMARY:Men's Bible Study
DESCRIPTION:Join us for faith and fellowship as we gather to talk about what genuine discipleship looks like in our lives as Christian men.\nWe meet at 8:00am in the Family Life Center (FLC) on the GHCC campus.
URL:https://www.ghcc4u.org/event/mens-bible-study-2026-05/
LOCATION:Granada Hills Community Church\, 11263 Balboa Blvd\, Granada Hills\, CA\, 91344\, United States
CATEGORIES:Men's Ministry
ATTACH;FMTTYPE=image/jpeg:https://www.ghcc4u.org/wp-content/uploads/2022/09/mens-bible-study.jpg
END:VEVENT
BEGIN:VEVENT
DTSTART;TZID=America/Los_Angeles:20260228T080000
DTEND;TZID=America/Los_Angeles:20260228T090000
DTSTAMP:20260423T104944
CREATED:20260218T233916Z
LAST-MODIFIED:20260218T233926Z
UID:31607-1772265600-1772269200@www.ghcc4u.org
SUMMARY:Men's Bible Study
DESCRIPTION:Join us for faith and fellowship as we gather to talk about what genuine discipleship looks like in our lives as Christian men.\nWe meet at 8:00am in the Family Life Center (FLC) on the GHCC campus.
URL:https://www.ghcc4u.org/event/mens-bible-study-2026-04/
LOCATION:Granada Hills Community Church\, 11263 Balboa Blvd\, Granada Hills\, CA\, 91344\, United States
CATEGORIES:Men's Ministry
ATTACH;FMTTYPE=image/jpeg:https://www.ghcc4u.org/wp-content/uploads/2022/09/mens-bible-study.jpg
END:VEVENT
BEGIN:VEVENT
DTSTART;TZID=America/Los_Angeles:20260214T080000
DTEND;TZID=America/Los_Angeles:20260214T090000
DTSTAMP:20260423T104944
CREATED:20260218T233849Z
LAST-MODIFIED:20260218T233901Z
UID:31605-1771056000-1771059600@www.ghcc4u.org
SUMMARY:Men's Bible Study
DESCRIPTION:Join us for faith and fellowship as we gather to talk about what genuine discipleship looks like in our lives as Christian men.\nWe meet at 8:00am in the Family Life Center (FLC) on the GHCC campus.
URL:https://www.ghcc4u.org/event/mens-bible-study-2026-03/
LOCATION:Granada Hills Community Church\, 11263 Balboa Blvd\, Granada Hills\, CA\, 91344\, United States
CATEGORIES:Men's Ministry
ATTACH;FMTTYPE=image/jpeg:https://www.ghcc4u.org/wp-content/uploads/2022/09/mens-bible-study.jpg
END:VEVENT
BEGIN:VEVENT
DTSTART;TZID=America/Los_Angeles:20260124T080000
DTEND;TZID=America/Los_Angeles:20260124T090000
DTSTAMP:20260423T104944
CREATED:20260105T181323Z
LAST-MODIFIED:20260105T181334Z
UID:31539-1769241600-1769245200@www.ghcc4u.org
SUMMARY:Men's Bible Study
DESCRIPTION:Join us for faith and fellowship as we gather to talk about what genuine discipleship looks like in our lives as Christian men.\nWe meet at 8:00am in the Family Life Center (FLC) on the GHCC campus.
URL:https://www.ghcc4u.org/event/mens-bible-study-2026-02/
LOCATION:Granada Hills Community Church\, 11263 Balboa Blvd\, Granada Hills\, CA\, 91344\, United States
CATEGORIES:Men's Ministry
ATTACH;FMTTYPE=image/jpeg:https://www.ghcc4u.org/wp-content/uploads/2022/09/mens-bible-study.jpg
END:VEVENT
BEGIN:VEVENT
DTSTART;TZID=America/Los_Angeles:20260110T080000
DTEND;TZID=America/Los_Angeles:20260110T090000
DTSTAMP:20260423T104944
CREATED:20260105T181254Z
LAST-MODIFIED:20260105T181308Z
UID:31537-1768032000-1768035600@www.ghcc4u.org
SUMMARY:Men's Bible Study
DESCRIPTION:Join us for faith and fellowship as we gather to talk about what genuine discipleship looks like in our lives as Christian men.\nWe meet at 8:00am in the Family Life Center (FLC) on the GHCC campus.
URL:https://www.ghcc4u.org/event/mens-bible-study-2026-01/
LOCATION:Granada Hills Community Church\, 11263 Balboa Blvd\, Granada Hills\, CA\, 91344\, United States
CATEGORIES:Men's Ministry
ATTACH;FMTTYPE=image/jpeg:https://www.ghcc4u.org/wp-content/uploads/2022/09/mens-bible-study.jpg
END:VEVENT
BEGIN:VEVENT
DTSTART;TZID=America/Los_Angeles:20251213T080000
DTEND;TZID=America/Los_Angeles:20251213T090000
DTSTAMP:20260423T104944
CREATED:20251201T202621Z
LAST-MODIFIED:20251201T202634Z
UID:31509-1765612800-1765616400@www.ghcc4u.org
SUMMARY:Men's Bible Study
DESCRIPTION:Join us for faith and fellowship as we gather to talk about what genuine discipleship looks like in our lives as Christian men.\nWe meet at 8:00am in the Family Life Center (FLC) on the GHCC campus.
URL:https://www.ghcc4u.org/event/mens-bible-study-2025-16/
LOCATION:Granada Hills Community Church\, 11263 Balboa Blvd\, Granada Hills\, CA\, 91344\, United States
CATEGORIES:Men's Ministry
ATTACH;FMTTYPE=image/jpeg:https://www.ghcc4u.org/wp-content/uploads/2022/09/mens-bible-study.jpg
END:VEVENT
BEGIN:VEVENT
DTSTART;TZID=America/Los_Angeles:20251122T080000
DTEND;TZID=America/Los_Angeles:20251122T090000
DTSTAMP:20260423T104944
CREATED:20251103T195407Z
LAST-MODIFIED:20251103T195423Z
UID:31464-1763798400-1763802000@www.ghcc4u.org
SUMMARY:Men's Bible Study
DESCRIPTION:Join us for faith and fellowship as we gather to talk about what genuine discipleship looks like in our lives as Christian men.\nWe meet at 8:00am in the Family Life Center (FLC) on the GHCC campus.
URL:https://www.ghcc4u.org/event/mens-bible-study-2025-15/
LOCATION:Granada Hills Community Church\, 11263 Balboa Blvd\, Granada Hills\, CA\, 91344\, United States
CATEGORIES:Men's Ministry
ATTACH;FMTTYPE=image/jpeg:https://www.ghcc4u.org/wp-content/uploads/2022/09/mens-bible-study.jpg
END:VEVENT
BEGIN:VEVENT
DTSTART;TZID=America/Los_Angeles:20251108T080000
DTEND;TZID=America/Los_Angeles:20251108T090000
DTSTAMP:20260423T104944
CREATED:20251103T194928Z
LAST-MODIFIED:20251103T194944Z
UID:31456-1762588800-1762592400@www.ghcc4u.org
SUMMARY:Men's Bible Study
DESCRIPTION:Join us for faith and fellowship as we gather to talk about what genuine discipleship looks like in our lives as Christian men.\nWe meet at 8:00am in the Family Life Center (FLC) on the GHCC campus.
URL:https://www.ghcc4u.org/event/mens-bible-study-2025-14/
LOCATION:Granada Hills Community Church\, 11263 Balboa Blvd\, Granada Hills\, CA\, 91344\, United States
CATEGORIES:Men's Ministry
ATTACH;FMTTYPE=image/jpeg:https://www.ghcc4u.org/wp-content/uploads/2022/09/mens-bible-study.jpg
END:VEVENT
BEGIN:VEVENT
DTSTART;TZID=America/Los_Angeles:20251025T080000
DTEND;TZID=America/Los_Angeles:20251025T090000
DTSTAMP:20260423T104944
CREATED:20250929T175046Z
LAST-MODIFIED:20250929T175104Z
UID:31358-1761379200-1761382800@www.ghcc4u.org
SUMMARY:Men's Bible Study
DESCRIPTION:Join us for faith and fellowship as we gather to talk about what genuine discipleship looks like in our lives as Christian men.\nWe meet at 8:00am in the Family Life Center (FLC) on the GHCC campus.
URL:https://www.ghcc4u.org/event/mens-bible-study-2025-13/
LOCATION:Granada Hills Community Church\, 11263 Balboa Blvd\, Granada Hills\, CA\, 91344\, United States
CATEGORIES:Men's Ministry
ATTACH;FMTTYPE=image/jpeg:https://www.ghcc4u.org/wp-content/uploads/2022/09/mens-bible-study.jpg
END:VEVENT
BEGIN:VEVENT
DTSTART;TZID=America/Los_Angeles:20251011T080000
DTEND;TZID=America/Los_Angeles:20251011T090000
DTSTAMP:20260423T104944
CREATED:20250929T175016Z
LAST-MODIFIED:20250929T175032Z
UID:31356-1760169600-1760173200@www.ghcc4u.org
SUMMARY:Men's Bible Study
DESCRIPTION:Join us for faith and fellowship as we gather to talk about what genuine discipleship looks like in our lives as Christian men.\nWe meet at 8:00am in the Family Life Center (FLC) on the GHCC campus.
URL:https://www.ghcc4u.org/event/mens-bible-study-2025-12/
LOCATION:Granada Hills Community Church\, 11263 Balboa Blvd\, Granada Hills\, CA\, 91344\, United States
CATEGORIES:Men's Ministry
ATTACH;FMTTYPE=image/jpeg:https://www.ghcc4u.org/wp-content/uploads/2022/09/mens-bible-study.jpg
END:VEVENT
BEGIN:VEVENT
DTSTART;TZID=America/Los_Angeles:20250927T080000
DTEND;TZID=America/Los_Angeles:20250927T090000
DTSTAMP:20260423T104944
CREATED:20250929T174912Z
LAST-MODIFIED:20250929T174959Z
UID:31354-1758960000-1758963600@www.ghcc4u.org
SUMMARY:Men's Bible Study
DESCRIPTION:Join us for faith and fellowship as we gather to talk about what genuine discipleship looks like in our lives as Christian men.\nWe meet at 8:00am in the Family Life Center (FLC) on the GHCC campus.
URL:https://www.ghcc4u.org/event/mens-bible-study-2025-11/
LOCATION:Granada Hills Community Church\, 11263 Balboa Blvd\, Granada Hills\, CA\, 91344\, United States
CATEGORIES:Men's Ministry
ATTACH;FMTTYPE=image/jpeg:https://www.ghcc4u.org/wp-content/uploads/2022/09/mens-bible-study.jpg
END:VEVENT
BEGIN:VEVENT
DTSTART;TZID=America/Los_Angeles:20250913T080000
DTEND;TZID=America/Los_Angeles:20250913T090000
DTSTAMP:20260423T104944
CREATED:20250929T173511Z
LAST-MODIFIED:20250929T173536Z
UID:31352-1757750400-1757754000@www.ghcc4u.org
SUMMARY:Men's Bible Study
DESCRIPTION:Join us for faith and fellowship as we gather to talk about what genuine discipleship looks like in our lives as Christian men.\nWe meet at 8:00am in the Family Life Center (FLC) on the GHCC campus.
URL:https://www.ghcc4u.org/event/mens-bible-study-2025-10/
LOCATION:Granada Hills Community Church\, 11263 Balboa Blvd\, Granada Hills\, CA\, 91344\, United States
CATEGORIES:Men's Ministry
ATTACH;FMTTYPE=image/jpeg:https://www.ghcc4u.org/wp-content/uploads/2022/09/mens-bible-study.jpg
END:VEVENT
BEGIN:VEVENT
DTSTART;TZID=America/Los_Angeles:20250614T080000
DTEND;TZID=America/Los_Angeles:20250614T090000
DTSTAMP:20260423T104944
CREATED:20250602T183503Z
LAST-MODIFIED:20250602T183518Z
UID:31154-1749888000-1749891600@www.ghcc4u.org
SUMMARY:Men's Bible Study
DESCRIPTION:Join us for faith and fellowship as we gather to talk about what genuine discipleship looks like in our lives as Christian men.\nWe meet at 8:00am in the Family Life Center (FLC) on the GHCC campus.
URL:https://www.ghcc4u.org/event/mens-bible-study-2025-09/
LOCATION:Granada Hills Community Church\, 11263 Balboa Blvd\, Granada Hills\, CA\, 91344\, United States
CATEGORIES:Men's Ministry
ATTACH;FMTTYPE=image/jpeg:https://www.ghcc4u.org/wp-content/uploads/2022/09/mens-bible-study.jpg
END:VEVENT
BEGIN:VEVENT
DTSTART;TZID=America/Los_Angeles:20250510T080000
DTEND;TZID=America/Los_Angeles:20250510T090000
DTSTAMP:20260423T104944
CREATED:20250428T214705Z
LAST-MODIFIED:20250428T214723Z
UID:31104-1746864000-1746867600@www.ghcc4u.org
SUMMARY:Men's Bible Study
DESCRIPTION:Join us for faith and fellowship as we gather to talk about what genuine discipleship looks like in our lives as Christian men.\nWe meet at 8:00am in the Family Life Center (FLC) on the GHCC campus.
URL:https://www.ghcc4u.org/event/mens-bible-study-2025-08/
LOCATION:Granada Hills Community Church\, 11263 Balboa Blvd\, Granada Hills\, CA\, 91344\, United States
CATEGORIES:Men's Ministry
ATTACH;FMTTYPE=image/jpeg:https://www.ghcc4u.org/wp-content/uploads/2022/09/mens-bible-study.jpg
END:VEVENT
BEGIN:VEVENT
DTSTART;TZID=America/Los_Angeles:20250426T080000
DTEND;TZID=America/Los_Angeles:20250426T090000
DTSTAMP:20260423T104944
CREATED:20250401T034007Z
LAST-MODIFIED:20250401T034023Z
UID:31041-1745654400-1745658000@www.ghcc4u.org
SUMMARY:Men's Bible Study
DESCRIPTION:Join us for faith and fellowship as we gather to talk about what genuine discipleship looks like in our lives as Christian men.\nWe meet at 8:00am in the Family Life Center (FLC) on the GHCC campus.
URL:https://www.ghcc4u.org/event/mens-bible-study-2025-07/
LOCATION:Granada Hills Community Church\, 11263 Balboa Blvd\, Granada Hills\, CA\, 91344\, United States
CATEGORIES:Men's Ministry
ATTACH;FMTTYPE=image/jpeg:https://www.ghcc4u.org/wp-content/uploads/2022/09/mens-bible-study.jpg
END:VEVENT
BEGIN:VEVENT
DTSTART;TZID=America/Los_Angeles:20250412T080000
DTEND;TZID=America/Los_Angeles:20250412T090000
DTSTAMP:20260423T104944
CREATED:20250401T033934Z
LAST-MODIFIED:20250401T033948Z
UID:31039-1744444800-1744448400@www.ghcc4u.org
SUMMARY:Men's Bible Study
DESCRIPTION:Join us for faith and fellowship as we gather to talk about what genuine discipleship looks like in our lives as Christian men.\nWe meet at 8:00am in the Family Life Center (FLC) on the GHCC campus.
URL:https://www.ghcc4u.org/event/mens-bible-study-2025-06/
LOCATION:Granada Hills Community Church\, 11263 Balboa Blvd\, Granada Hills\, CA\, 91344\, United States
CATEGORIES:Men's Ministry
ATTACH;FMTTYPE=image/jpeg:https://www.ghcc4u.org/wp-content/uploads/2022/09/mens-bible-study.jpg
END:VEVENT
BEGIN:VEVENT
DTSTART;TZID=America/Los_Angeles:20250322T080000
DTEND;TZID=America/Los_Angeles:20250322T090000
DTSTAMP:20260423T104944
CREATED:20250311T233048Z
LAST-MODIFIED:20250311T233101Z
UID:31007-1742630400-1742634000@www.ghcc4u.org
SUMMARY:Men's Bible Study
DESCRIPTION:Join us for faith and fellowship as we gather to talk about what genuine discipleship looks like in our lives as Christian men.\nWe meet at 8:00am in the Family Life Center (FLC) on the GHCC campus.
URL:https://www.ghcc4u.org/event/mens-bible-study-2025-05/
LOCATION:Granada Hills Community Church\, 11263 Balboa Blvd\, Granada Hills\, CA\, 91344\, United States
CATEGORIES:Men's Ministry
ATTACH;FMTTYPE=image/jpeg:https://www.ghcc4u.org/wp-content/uploads/2022/09/mens-bible-study.jpg
END:VEVENT
BEGIN:VEVENT
DTSTART;TZID=America/Los_Angeles:20250308T080000
DTEND;TZID=America/Los_Angeles:20250308T090000
DTSTAMP:20260423T104944
CREATED:20250311T233020Z
LAST-MODIFIED:20250311T233035Z
UID:31005-1741420800-1741424400@www.ghcc4u.org
SUMMARY:Men's Bible Study
DESCRIPTION:Join us for faith and fellowship as we gather to talk about what genuine discipleship looks like in our lives as Christian men.\nWe meet at 8:00am in the Family Life Center (FLC) on the GHCC campus.
URL:https://www.ghcc4u.org/event/mens-bible-study-2025-04/
LOCATION:Granada Hills Community Church\, 11263 Balboa Blvd\, Granada Hills\, CA\, 91344\, United States
CATEGORIES:Men's Ministry
ATTACH;FMTTYPE=image/jpeg:https://www.ghcc4u.org/wp-content/uploads/2022/09/mens-bible-study.jpg
END:VEVENT
BEGIN:VEVENT
DTSTART;TZID=America/Los_Angeles:20250208T080000
DTEND;TZID=America/Los_Angeles:20250208T090000
DTSTAMP:20260423T104944
CREATED:20250210T181624Z
LAST-MODIFIED:20250210T181643Z
UID:30965-1739001600-1739005200@www.ghcc4u.org
SUMMARY:Men's Bible Study
DESCRIPTION:Join us for faith and fellowship as we gather to talk about what genuine discipleship looks like in our lives as Christian men.\nWe meet at 8:00am in the Family Life Center (FLC) on the GHCC campus.
URL:https://www.ghcc4u.org/event/mens-bible-study-2025-03/
LOCATION:Granada Hills Community Church\, 11263 Balboa Blvd\, Granada Hills\, CA\, 91344\, United States
CATEGORIES:Men's Ministry
ATTACH;FMTTYPE=image/jpeg:https://www.ghcc4u.org/wp-content/uploads/2022/09/mens-bible-study.jpg
END:VEVENT
BEGIN:VEVENT
DTSTART;TZID=America/Los_Angeles:20250125T080000
DTEND;TZID=America/Los_Angeles:20250125T090000
DTSTAMP:20260423T104944
CREATED:20250106T195043Z
LAST-MODIFIED:20250106T195109Z
UID:30896-1737792000-1737795600@www.ghcc4u.org
SUMMARY:Men's Bible Study
DESCRIPTION:Join us for faith and fellowship as we gather to talk about what genuine discipleship looks like in our lives as Christian men.\nWe meet at 8:00am in the Family Life Center (FLC) on the GHCC campus.
URL:https://www.ghcc4u.org/event/mens-bible-study-2025-02/
LOCATION:Granada Hills Community Church\, 11263 Balboa Blvd\, Granada Hills\, CA\, 91344\, United States
CATEGORIES:Men's Ministry
ATTACH;FMTTYPE=image/jpeg:https://www.ghcc4u.org/wp-content/uploads/2022/09/mens-bible-study.jpg
END:VEVENT
BEGIN:VEVENT
DTSTART;TZID=America/Los_Angeles:20250111T080000
DTEND;TZID=America/Los_Angeles:20250111T090000
DTSTAMP:20260423T104944
CREATED:20250106T195014Z
LAST-MODIFIED:20250106T195030Z
UID:30894-1736582400-1736586000@www.ghcc4u.org
SUMMARY:Men's Bible Study
DESCRIPTION:Join us for faith and fellowship as we gather to talk about what genuine discipleship looks like in our lives as Christian men.\nWe meet at 8:00am in the Family Life Center (FLC) on the GHCC campus.
URL:https://www.ghcc4u.org/event/mens-bible-study-2025-01/
LOCATION:Granada Hills Community Church\, 11263 Balboa Blvd\, Granada Hills\, CA\, 91344\, United States
CATEGORIES:Men's Ministry
ATTACH;FMTTYPE=image/jpeg:https://www.ghcc4u.org/wp-content/uploads/2022/09/mens-bible-study.jpg
END:VEVENT
BEGIN:VEVENT
DTSTART;TZID=America/Los_Angeles:20241214T080000
DTEND;TZID=America/Los_Angeles:20241214T090000
DTSTAMP:20260423T104944
CREATED:20241202T213347Z
LAST-MODIFIED:20241202T213401Z
UID:30863-1734163200-1734166800@www.ghcc4u.org
SUMMARY:Men's Bible Study
DESCRIPTION:Join us for faith and fellowship as we gather to talk about what genuine discipleship looks like in our lives as Christian men.\nWe meet at 8:00am in the Family Life Center (FLC) on the GHCC campus.
URL:https://www.ghcc4u.org/event/mens-bible-study-2024-21/
LOCATION:Granada Hills Community Church\, 11263 Balboa Blvd\, Granada Hills\, CA\, 91344\, United States
CATEGORIES:Men's Ministry
ATTACH;FMTTYPE=image/jpeg:https://www.ghcc4u.org/wp-content/uploads/2022/09/mens-bible-study.jpg
END:VEVENT
BEGIN:VEVENT
DTSTART;TZID=America/Los_Angeles:20241109T080000
DTEND;TZID=America/Los_Angeles:20241109T090000
DTSTAMP:20260423T104944
CREATED:20241031T180235Z
LAST-MODIFIED:20241031T180235Z
UID:30836-1731139200-1731142800@www.ghcc4u.org
SUMMARY:Men's Bible Study
DESCRIPTION:Join us for faith and fellowship as we gather to talk about what genuine discipleship looks like in our lives as Christian men.\nWe meet at 8:00am in the Family Life Center (FLC) on the GHCC campus.
URL:https://www.ghcc4u.org/event/mens-bible-study-2024-20/
LOCATION:Granada Hills Community Church\, 11263 Balboa Blvd\, Granada Hills\, CA\, 91344\, United States
CATEGORIES:Men's Ministry
ATTACH;FMTTYPE=image/jpeg:https://www.ghcc4u.org/wp-content/uploads/2022/09/mens-bible-study.jpg
END:VEVENT
BEGIN:VEVENT
DTSTART;TZID=America/Los_Angeles:20241026T080000
DTEND;TZID=America/Los_Angeles:20241026T090000
DTSTAMP:20260423T104944
CREATED:20240826T232200Z
LAST-MODIFIED:20240826T232214Z
UID:30774-1729929600-1729933200@www.ghcc4u.org
SUMMARY:Men's Bible Study
DESCRIPTION:Join us for faith and fellowship as we gather to talk about what genuine discipleship looks like in our lives as Christian men.\nWe meet at 8:00am in the Family Life Center (FLC) on the GHCC campus.
URL:https://www.ghcc4u.org/event/mens-bible-study-2024-19/
LOCATION:Granada Hills Community Church\, 11263 Balboa Blvd\, Granada Hills\, CA\, 91344\, United States
CATEGORIES:Men's Ministry
ATTACH;FMTTYPE=image/jpeg:https://www.ghcc4u.org/wp-content/uploads/2022/09/mens-bible-study.jpg
END:VEVENT
BEGIN:VEVENT
DTSTART;TZID=America/Los_Angeles:20241012T080000
DTEND;TZID=America/Los_Angeles:20241012T090000
DTSTAMP:20260423T104944
CREATED:20240826T224031Z
LAST-MODIFIED:20240826T232128Z
UID:30728-1728720000-1728723600@www.ghcc4u.org
SUMMARY:Men's Bible Study
DESCRIPTION:Join us for faith and fellowship as we gather to talk about what genuine discipleship looks like in our lives as Christian men.\nWe meet at 8:00am in the Family Life Center (FLC) on the GHCC campus.
URL:https://www.ghcc4u.org/event/mens-bible-study-2024-18/
LOCATION:Granada Hills Community Church\, 11263 Balboa Blvd\, Granada Hills\, CA\, 91344\, United States
CATEGORIES:Men's Ministry
ATTACH;FMTTYPE=image/jpeg:https://www.ghcc4u.org/wp-content/uploads/2022/09/mens-bible-study.jpg
END:VEVENT
BEGIN:VEVENT
DTSTART;TZID=America/Los_Angeles:20240914T080000
DTEND;TZID=America/Los_Angeles:20240914T090000
DTSTAMP:20260423T104944
CREATED:20240826T224004Z
LAST-MODIFIED:20240826T224016Z
UID:30726-1726300800-1726304400@www.ghcc4u.org
SUMMARY:Men's Bible Study
DESCRIPTION:Join us for faith and fellowship as we gather to talk about what genuine discipleship looks like in our lives as Christian men.\nWe meet at 8:00am in the Family Life Center (FLC) on the GHCC campus.
URL:https://www.ghcc4u.org/event/mens-bible-study-2024-17/
LOCATION:Granada Hills Community Church\, 11263 Balboa Blvd\, Granada Hills\, CA\, 91344\, United States
CATEGORIES:Men's Ministry
ATTACH;FMTTYPE=image/jpeg:https://www.ghcc4u.org/wp-content/uploads/2022/09/mens-bible-study.jpg
END:VEVENT
BEGIN:VEVENT
DTSTART;TZID=America/Los_Angeles:20240824T080000
DTEND;TZID=America/Los_Angeles:20240824T090000
DTSTAMP:20260423T104944
CREATED:20240729T183122Z
LAST-MODIFIED:20240729T183141Z
UID:30704-1724486400-1724490000@www.ghcc4u.org
SUMMARY:Men's Bible Study
DESCRIPTION:Join us for faith and fellowship as we gather to talk about what genuine discipleship looks like in our lives as Christian men.\nWe meet at 8:00am in the Family Life Center (FLC) on the GHCC campus.
URL:https://www.ghcc4u.org/event/mens-bible-study-2024-16/
LOCATION:Granada Hills Community Church\, 11263 Balboa Blvd\, Granada Hills\, CA\, 91344\, United States
CATEGORIES:Men's Ministry
ATTACH;FMTTYPE=image/jpeg:https://www.ghcc4u.org/wp-content/uploads/2022/09/mens-bible-study.jpg
END:VEVENT
BEGIN:VEVENT
DTSTART;TZID=America/Los_Angeles:20240810T080000
DTEND;TZID=America/Los_Angeles:20240810T090000
DTSTAMP:20260423T104944
CREATED:20240729T183041Z
LAST-MODIFIED:20240729T183100Z
UID:30702-1723276800-1723280400@www.ghcc4u.org
SUMMARY:Men's Bible Study
DESCRIPTION:Join us for faith and fellowship as we gather to talk about what genuine discipleship looks like in our lives as Christian men.\nWe meet at 8:00am in the Family Life Center (FLC) on the GHCC campus.
URL:https://www.ghcc4u.org/event/mens-bible-study-2024-15/
LOCATION:Granada Hills Community Church\, 11263 Balboa Blvd\, Granada Hills\, CA\, 91344\, United States
CATEGORIES:Men's Ministry
ATTACH;FMTTYPE=image/jpeg:https://www.ghcc4u.org/wp-content/uploads/2022/09/mens-bible-study.jpg
END:VEVENT
END:VCALENDAR