BEGIN:VCALENDAR
VERSION:2.0
PRODID:-//Granada Hills Community Church - ECPv6.15.20//NONSGML v1.0//EN
CALSCALE:GREGORIAN
METHOD:PUBLISH
X-WR-CALNAME:Granada Hills Community Church
X-ORIGINAL-URL:https://www.ghcc4u.org
X-WR-CALDESC:Events for Granada Hills Community Church
REFRESH-INTERVAL;VALUE=DURATION:PT1H
X-Robots-Tag:noindex
X-PUBLISHED-TTL:PT1H
BEGIN:VTIMEZONE
TZID:America/Los_Angeles
BEGIN:DAYLIGHT
TZOFFSETFROM:-0800
TZOFFSETTO:-0700
TZNAME:PDT
DTSTART:20180311T100000
END:DAYLIGHT
BEGIN:STANDARD
TZOFFSETFROM:-0700
TZOFFSETTO:-0800
TZNAME:PST
DTSTART:20181104T090000
END:STANDARD
BEGIN:DAYLIGHT
TZOFFSETFROM:-0800
TZOFFSETTO:-0700
TZNAME:PDT
DTSTART:20190310T100000
END:DAYLIGHT
BEGIN:STANDARD
TZOFFSETFROM:-0700
TZOFFSETTO:-0800
TZNAME:PST
DTSTART:20191103T090000
END:STANDARD
BEGIN:DAYLIGHT
TZOFFSETFROM:-0800
TZOFFSETTO:-0700
TZNAME:PDT
DTSTART:20200308T100000
END:DAYLIGHT
BEGIN:STANDARD
TZOFFSETFROM:-0700
TZOFFSETTO:-0800
TZNAME:PST
DTSTART:20201101T090000
END:STANDARD
BEGIN:DAYLIGHT
TZOFFSETFROM:-0800
TZOFFSETTO:-0700
TZNAME:PDT
DTSTART:20210314T100000
END:DAYLIGHT
BEGIN:STANDARD
TZOFFSETFROM:-0700
TZOFFSETTO:-0800
TZNAME:PST
DTSTART:20211107T090000
END:STANDARD
BEGIN:DAYLIGHT
TZOFFSETFROM:-0800
TZOFFSETTO:-0700
TZNAME:PDT
DTSTART:20220313T100000
END:DAYLIGHT
BEGIN:STANDARD
TZOFFSETFROM:-0700
TZOFFSETTO:-0800
TZNAME:PST
DTSTART:20221106T090000
END:STANDARD
BEGIN:DAYLIGHT
TZOFFSETFROM:-0800
TZOFFSETTO:-0700
TZNAME:PDT
DTSTART:20230312T100000
END:DAYLIGHT
BEGIN:STANDARD
TZOFFSETFROM:-0700
TZOFFSETTO:-0800
TZNAME:PST
DTSTART:20231105T090000
END:STANDARD
BEGIN:DAYLIGHT
TZOFFSETFROM:-0800
TZOFFSETTO:-0700
TZNAME:PDT
DTSTART:20240310T100000
END:DAYLIGHT
BEGIN:STANDARD
TZOFFSETFROM:-0700
TZOFFSETTO:-0800
TZNAME:PST
DTSTART:20241103T090000
END:STANDARD
BEGIN:DAYLIGHT
TZOFFSETFROM:-0800
TZOFFSETTO:-0700
TZNAME:PDT
DTSTART:20250309T100000
END:DAYLIGHT
BEGIN:STANDARD
TZOFFSETFROM:-0700
TZOFFSETTO:-0800
TZNAME:PST
DTSTART:20251102T090000
END:STANDARD
BEGIN:DAYLIGHT
TZOFFSETFROM:-0800
TZOFFSETTO:-0700
TZNAME:PDT
DTSTART:20260308T100000
END:DAYLIGHT
BEGIN:STANDARD
TZOFFSETFROM:-0700
TZOFFSETTO:-0800
TZNAME:PST
DTSTART:20261101T090000
END:STANDARD
END:VTIMEZONE
BEGIN:VTIMEZONE
TZID:America/Denver
BEGIN:DAYLIGHT
TZOFFSETFROM:-0700
TZOFFSETTO:-0600
TZNAME:MDT
DTSTART:20180311T090000
END:DAYLIGHT
BEGIN:STANDARD
TZOFFSETFROM:-0600
TZOFFSETTO:-0700
TZNAME:MST
DTSTART:20181104T080000
END:STANDARD
BEGIN:DAYLIGHT
TZOFFSETFROM:-0700
TZOFFSETTO:-0600
TZNAME:MDT
DTSTART:20190310T090000
END:DAYLIGHT
BEGIN:STANDARD
TZOFFSETFROM:-0600
TZOFFSETTO:-0700
TZNAME:MST
DTSTART:20191103T080000
END:STANDARD
BEGIN:DAYLIGHT
TZOFFSETFROM:-0700
TZOFFSETTO:-0600
TZNAME:MDT
DTSTART:20200308T090000
END:DAYLIGHT
BEGIN:STANDARD
TZOFFSETFROM:-0600
TZOFFSETTO:-0700
TZNAME:MST
DTSTART:20201101T080000
END:STANDARD
BEGIN:DAYLIGHT
TZOFFSETFROM:-0700
TZOFFSETTO:-0600
TZNAME:MDT
DTSTART:20210314T090000
END:DAYLIGHT
BEGIN:STANDARD
TZOFFSETFROM:-0600
TZOFFSETTO:-0700
TZNAME:MST
DTSTART:20211107T080000
END:STANDARD
BEGIN:DAYLIGHT
TZOFFSETFROM:-0700
TZOFFSETTO:-0600
TZNAME:MDT
DTSTART:20220313T090000
END:DAYLIGHT
BEGIN:STANDARD
TZOFFSETFROM:-0600
TZOFFSETTO:-0700
TZNAME:MST
DTSTART:20221106T080000
END:STANDARD
BEGIN:DAYLIGHT
TZOFFSETFROM:-0700
TZOFFSETTO:-0600
TZNAME:MDT
DTSTART:20230312T090000
END:DAYLIGHT
BEGIN:STANDARD
TZOFFSETFROM:-0600
TZOFFSETTO:-0700
TZNAME:MST
DTSTART:20231105T080000
END:STANDARD
BEGIN:DAYLIGHT
TZOFFSETFROM:-0700
TZOFFSETTO:-0600
TZNAME:MDT
DTSTART:20240310T090000
END:DAYLIGHT
BEGIN:STANDARD
TZOFFSETFROM:-0600
TZOFFSETTO:-0700
TZNAME:MST
DTSTART:20241103T080000
END:STANDARD
BEGIN:DAYLIGHT
TZOFFSETFROM:-0700
TZOFFSETTO:-0600
TZNAME:MDT
DTSTART:20250309T090000
END:DAYLIGHT
BEGIN:STANDARD
TZOFFSETFROM:-0600
TZOFFSETTO:-0700
TZNAME:MST
DTSTART:20251102T080000
END:STANDARD
END:VTIMEZONE
BEGIN:VEVENT
DTSTART;VALUE=DATE:20250101
DTEND;VALUE=DATE:20250102
DTSTAMP:20260423T144503
CREATED:20241202T231815Z
LAST-MODIFIED:20241202T231830Z
UID:30871-1735689600-1735775999@www.ghcc4u.org
SUMMARY:Church Office Closed
DESCRIPTION:The church office is closed for New Year’s Day.
URL:https://www.ghcc4u.org/event/church-office-closed-2025-01/
LOCATION:Granada Hills Community Church\, 11263 Balboa Blvd\, Granada Hills\, CA\, 91344\, United States
CATEGORIES:Holiday
ATTACH;FMTTYPE=image/jpeg:https://www.ghcc4u.org/wp-content/uploads/2019/02/closed.jpg
END:VEVENT
BEGIN:VEVENT
DTSTART;VALUE=DATE:20241225
DTEND;VALUE=DATE:20241226
DTSTAMP:20260423T144503
CREATED:20241202T213619Z
LAST-MODIFIED:20241202T213648Z
UID:30867-1735084800-1735171199@www.ghcc4u.org
SUMMARY:Church Office Closed
DESCRIPTION:The church office is closed for Christmas Day.
URL:https://www.ghcc4u.org/event/church-office-closed-2024-08/
LOCATION:Granada Hills Community Church\, 11263 Balboa Blvd\, Granada Hills\, CA\, 91344\, United States
CATEGORIES:Holiday
ATTACH;FMTTYPE=image/jpeg:https://www.ghcc4u.org/wp-content/uploads/2019/02/closed.jpg
END:VEVENT
BEGIN:VEVENT
DTSTART;VALUE=DATE:20241129
DTEND;VALUE=DATE:20241130
DTSTAMP:20260423T144503
CREATED:20241031T180038Z
LAST-MODIFIED:20241031T180038Z
UID:30834-1732838400-1732924799@www.ghcc4u.org
SUMMARY:Church Office Closed
DESCRIPTION:The church office is closed for Thanksgiving.
URL:https://www.ghcc4u.org/event/church-office-closed-2024-07/
LOCATION:Granada Hills Community Church\, 11263 Balboa Blvd\, Granada Hills\, CA\, 91344\, United States
CATEGORIES:Holiday
ATTACH;FMTTYPE=image/jpeg:https://www.ghcc4u.org/wp-content/uploads/2019/02/closed.jpg
END:VEVENT
BEGIN:VEVENT
DTSTART;VALUE=DATE:20241128
DTEND;VALUE=DATE:20241129
DTSTAMP:20260423T144503
CREATED:20241031T175815Z
LAST-MODIFIED:20241031T175815Z
UID:30830-1732752000-1732838399@www.ghcc4u.org
SUMMARY:Thanksgiving
DESCRIPTION:
URL:https://www.ghcc4u.org/event/thanksgiving-2024-1/
LOCATION:Granada Hills Community Church\, 11263 Balboa Blvd\, Granada Hills\, CA\, 91344\, United States
CATEGORIES:Holiday
ATTACH;FMTTYPE=image/jpeg:https://www.ghcc4u.org/wp-content/uploads/2019/02/thanksgiving.jpg
END:VEVENT
BEGIN:VEVENT
DTSTART;VALUE=DATE:20241111
DTEND;VALUE=DATE:20241112
DTSTAMP:20260423T144503
CREATED:20241031T175928Z
LAST-MODIFIED:20241031T175928Z
UID:30832-1731283200-1731369599@www.ghcc4u.org
SUMMARY:Church Office Closed
DESCRIPTION:The church office is closed for Veterans Day.
URL:https://www.ghcc4u.org/event/church-office-closed-2024-06/
LOCATION:Granada Hills Community Church\, 11263 Balboa Blvd\, Granada Hills\, CA\, 91344\, United States
CATEGORIES:Holiday
ATTACH;FMTTYPE=image/jpeg:https://www.ghcc4u.org/wp-content/uploads/2019/02/closed.jpg
END:VEVENT
BEGIN:VEVENT
DTSTART;VALUE=DATE:20240902
DTEND;VALUE=DATE:20240903
DTSTAMP:20260423T144503
CREATED:20240826T223904Z
LAST-MODIFIED:20240826T223920Z
UID:30724-1725235200-1725321599@www.ghcc4u.org
SUMMARY:Church Office Closed
DESCRIPTION:The church office is closed for Labor Day.
URL:https://www.ghcc4u.org/event/church-office-closed-2024-05/
LOCATION:Granada Hills Community Church\, 11263 Balboa Blvd\, Granada Hills\, CA\, 91344\, United States
CATEGORIES:Holiday
ATTACH;FMTTYPE=image/jpeg:https://www.ghcc4u.org/wp-content/uploads/2019/02/closed.jpg
END:VEVENT
BEGIN:VEVENT
DTSTART;VALUE=DATE:20240704
DTEND;VALUE=DATE:20240705
DTSTAMP:20260423T144503
CREATED:20240702T180640Z
LAST-MODIFIED:20240702T180657Z
UID:30669-1720051200-1720137599@www.ghcc4u.org
SUMMARY:Church Office Closed
DESCRIPTION:The church office is closed for Independence Day.
URL:https://www.ghcc4u.org/event/church-office-closed-2024-04/
LOCATION:Granada Hills Community Church\, 11263 Balboa Blvd\, Granada Hills\, CA\, 91344\, United States
CATEGORIES:Holiday
ATTACH;FMTTYPE=image/jpeg:https://www.ghcc4u.org/wp-content/uploads/2019/02/closed.jpg
END:VEVENT
BEGIN:VEVENT
DTSTART;TZID=America/Los_Angeles:20240616T103000
DTEND;TZID=America/Los_Angeles:20240616T114500
DTSTAMP:20260423T144503
CREATED:20240610T202556Z
LAST-MODIFIED:20240610T202657Z
UID:30656-1718533800-1718538300@www.ghcc4u.org
SUMMARY:Father's Day Celebration
DESCRIPTION:Come join us as we celebrate God’s providence through fathers!
URL:https://www.ghcc4u.org/event/fathers-day-2024-1/
LOCATION:Granada Hills Community Church\, 11263 Balboa Blvd\, Granada Hills\, CA\, 91344\, United States
CATEGORIES:Holiday
ATTACH;FMTTYPE=image/jpeg:https://www.ghcc4u.org/wp-content/uploads/2024/06/fathers-day.jpg
END:VEVENT
BEGIN:VEVENT
DTSTART;TZID=America/Los_Angeles:20240512T103000
DTEND;TZID=America/Los_Angeles:20240512T114500
DTSTAMP:20260423T144503
CREATED:20240401T182413Z
LAST-MODIFIED:20240401T182432Z
UID:30590-1715509800-1715514300@www.ghcc4u.org
SUMMARY:Mother's Day Celebration
DESCRIPTION:Come join us as we celebrate the blessing of mothers!
URL:https://www.ghcc4u.org/event/mothers-day-2024-1/
LOCATION:Granada Hills Community Church\, 11263 Balboa Blvd\, Granada Hills\, CA\, 91344\, United States
CATEGORIES:Holiday
ATTACH;FMTTYPE=image/jpeg:https://www.ghcc4u.org/wp-content/uploads/2018/05/mothers-day.jpg
END:VEVENT
BEGIN:VEVENT
DTSTART;VALUE=DATE:20230904
DTEND;VALUE=DATE:20230905
DTSTAMP:20260423T144503
CREATED:20230830T224816Z
LAST-MODIFIED:20230830T224838Z
UID:30375-1693785600-1693871999@www.ghcc4u.org
SUMMARY:Church Office Closed
DESCRIPTION:The church office is closed for Labor Day.
URL:https://www.ghcc4u.org/event/church-office-closed-2023-05/
LOCATION:Granada Hills Community Church\, 11263 Balboa Blvd\, Granada Hills\, CA\, 91344\, United States
CATEGORIES:Holiday
ATTACH;FMTTYPE=image/jpeg:https://www.ghcc4u.org/wp-content/uploads/2019/02/closed.jpg
END:VEVENT
BEGIN:VEVENT
DTSTART;VALUE=DATE:20230704
DTEND;VALUE=DATE:20230705
DTSTAMP:20260423T144503
CREATED:20230830T223558Z
LAST-MODIFIED:20230830T223627Z
UID:30373-1688428800-1688515199@www.ghcc4u.org
SUMMARY:Church Office Closed
DESCRIPTION:The church office is closed for Independence Day.
URL:https://www.ghcc4u.org/event/church-office-closed-2023-04/
LOCATION:Granada Hills Community Church\, 11263 Balboa Blvd\, Granada Hills\, CA\, 91344\, United States
CATEGORIES:Holiday
ATTACH;FMTTYPE=image/jpeg:https://www.ghcc4u.org/wp-content/uploads/2019/02/closed.jpg
END:VEVENT
BEGIN:VEVENT
DTSTART;VALUE=DATE:20230529
DTEND;VALUE=DATE:20230530
DTSTAMP:20260423T144503
CREATED:20230830T223314Z
LAST-MODIFIED:20230830T223501Z
UID:30371-1685318400-1685404799@www.ghcc4u.org
SUMMARY:Church Office Closed
DESCRIPTION:The church office is closed for Memorial Day.
URL:https://www.ghcc4u.org/event/church-office-closed-2023-03/
LOCATION:Granada Hills Community Church\, 11263 Balboa Blvd\, Granada Hills\, CA\, 91344\, United States
CATEGORIES:Holiday
ATTACH;FMTTYPE=image/jpeg:https://www.ghcc4u.org/wp-content/uploads/2019/02/closed.jpg
END:VEVENT
BEGIN:VEVENT
DTSTART;VALUE=DATE:20230220
DTEND;VALUE=DATE:20230221
DTSTAMP:20260423T144503
CREATED:20230117T210049Z
LAST-MODIFIED:20230117T210102Z
UID:30067-1676851200-1676937599@www.ghcc4u.org
SUMMARY:Church Office Closed
DESCRIPTION:The church office is closed for Presidents’ Day.
URL:https://www.ghcc4u.org/event/church-office-closed-2023-02/
LOCATION:Granada Hills Community Church\, 11263 Balboa Blvd\, Granada Hills\, CA\, 91344\, United States
CATEGORIES:Holiday
ATTACH;FMTTYPE=image/jpeg:https://www.ghcc4u.org/wp-content/uploads/2019/02/closed.jpg
END:VEVENT
BEGIN:VEVENT
DTSTART;VALUE=DATE:20230116
DTEND;VALUE=DATE:20230117
DTSTAMP:20260423T144503
CREATED:20221205T205034Z
LAST-MODIFIED:20221205T205046Z
UID:30017-1673827200-1673913599@www.ghcc4u.org
SUMMARY:Church Office Closed
DESCRIPTION:The church office is closed for Martin Luther King\, Jr. Day.
URL:https://www.ghcc4u.org/event/church-office-closed-2023-01/
LOCATION:Granada Hills Community Church\, 11263 Balboa Blvd\, Granada Hills\, CA\, 91344\, United States
CATEGORIES:Holiday
ATTACH;FMTTYPE=image/jpeg:https://www.ghcc4u.org/wp-content/uploads/2019/02/closed.jpg
END:VEVENT
BEGIN:VEVENT
DTSTART;VALUE=DATE:20221125
DTEND;VALUE=DATE:20221126
DTSTAMP:20260423T144503
CREATED:20221121T193956Z
LAST-MODIFIED:20221121T194111Z
UID:29983-1669334400-1669420799@www.ghcc4u.org
SUMMARY:Church Office Closed
DESCRIPTION:The church office is closed for Thanksgiving holiday.
URL:https://www.ghcc4u.org/event/church-office-closed-2022-01/
LOCATION:Granada Hills Community Church\, 11263 Balboa Blvd\, Granada Hills\, CA\, 91344\, United States
CATEGORIES:Holiday
ATTACH;FMTTYPE=image/jpeg:https://www.ghcc4u.org/wp-content/uploads/2019/02/closed.jpg
END:VEVENT
BEGIN:VEVENT
DTSTART;VALUE=DATE:20221124
DTEND;VALUE=DATE:20221125
DTSTAMP:20260423T144503
CREATED:20221024T195107Z
LAST-MODIFIED:20221024T195107Z
UID:29961-1669248000-1669334399@www.ghcc4u.org
SUMMARY:Thanksgiving
DESCRIPTION:
URL:https://www.ghcc4u.org/event/thanksgiving-2022-1/
LOCATION:Granada Hills Community Church\, 11263 Balboa Blvd\, Granada Hills\, CA\, 91344\, United States
CATEGORIES:Holiday
ATTACH;FMTTYPE=image/jpeg:https://www.ghcc4u.org/wp-content/uploads/2019/02/thanksgiving.jpg
END:VEVENT
BEGIN:VEVENT
DTSTART;VALUE=DATE:20200217
DTEND;VALUE=DATE:20200218
DTSTAMP:20260423T144503
CREATED:20200128T195900Z
LAST-MODIFIED:20200128T195946Z
UID:29308-1581897600-1581983999@www.ghcc4u.org
SUMMARY:Church Office Closed
DESCRIPTION:The church office is closed for Presidents’ Day.
URL:https://www.ghcc4u.org/event/church-office-closed-2020-03/
LOCATION:Granada Hills Community Church\, 11263 Balboa Blvd\, Granada Hills\, CA\, 91344\, United States
CATEGORIES:Holiday
ATTACH;FMTTYPE=image/jpeg:https://www.ghcc4u.org/wp-content/uploads/2019/02/closed.jpg
END:VEVENT
BEGIN:VEVENT
DTSTART;VALUE=DATE:20200120
DTEND;VALUE=DATE:20200121
DTSTAMP:20260423T144503
CREATED:20191231T005453Z
LAST-MODIFIED:20191231T005512Z
UID:29257-1579478400-1579564799@www.ghcc4u.org
SUMMARY:Church Office Closed
DESCRIPTION:The church office is closed for Martin Luther King\, Jr. Day.
URL:https://www.ghcc4u.org/event/church-office-closed-2020-02/
LOCATION:Granada Hills Community Church\, 11263 Balboa Blvd\, Granada Hills\, CA\, 91344\, United States
CATEGORIES:Holiday
ATTACH;FMTTYPE=image/jpeg:https://www.ghcc4u.org/wp-content/uploads/2019/02/closed.jpg
END:VEVENT
BEGIN:VEVENT
DTSTART;VALUE=DATE:20200101
DTEND;VALUE=DATE:20200102
DTSTAMP:20260423T144503
CREATED:20191230T234049Z
LAST-MODIFIED:20191230T234115Z
UID:29224-1577836800-1577923199@www.ghcc4u.org
SUMMARY:Church Office Closed
DESCRIPTION:The church office is closed for New Year’s Day.
URL:https://www.ghcc4u.org/event/church-office-closed-2020-01/
LOCATION:Granada Hills Community Church\, 11263 Balboa Blvd\, Granada Hills\, CA\, 91344\, United States
CATEGORIES:Holiday
ATTACH;FMTTYPE=image/jpeg:https://www.ghcc4u.org/wp-content/uploads/2019/02/closed.jpg
END:VEVENT
BEGIN:VEVENT
DTSTART;VALUE=DATE:20191225
DTEND;VALUE=DATE:20191226
DTSTAMP:20260423T144503
CREATED:20191203T012544Z
LAST-MODIFIED:20191203T012544Z
UID:29211-1577232000-1577318399@www.ghcc4u.org
SUMMARY:Church Office Closed
DESCRIPTION:The church office is closed for Christmas.
URL:https://www.ghcc4u.org/event/church-office-closed-2019-10/
LOCATION:Granada Hills Community Church\, 11263 Balboa Blvd\, Granada Hills\, CA\, 91344\, United States
CATEGORIES:Holiday
ATTACH;FMTTYPE=image/jpeg:https://www.ghcc4u.org/wp-content/uploads/2019/02/closed.jpg
END:VEVENT
BEGIN:VEVENT
DTSTART;VALUE=DATE:20191129
DTEND;VALUE=DATE:20191130
DTSTAMP:20260423T144503
CREATED:20191203T012252Z
LAST-MODIFIED:20191203T012309Z
UID:29209-1574985600-1575071999@www.ghcc4u.org
SUMMARY:Church Office Closed
DESCRIPTION:The church office is closed for Thanksgiving.
URL:https://www.ghcc4u.org/event/church-office-closed-2019-09/
LOCATION:Granada Hills Community Church\, 11263 Balboa Blvd\, Granada Hills\, CA\, 91344\, United States
CATEGORIES:Holiday
ATTACH;FMTTYPE=image/jpeg:https://www.ghcc4u.org/wp-content/uploads/2019/02/closed.jpg
END:VEVENT
BEGIN:VEVENT
DTSTART;VALUE=DATE:20191128
DTEND;VALUE=DATE:20191129
DTSTAMP:20260423T144503
CREATED:20191203T012213Z
LAST-MODIFIED:20191203T012230Z
UID:29207-1574899200-1574985599@www.ghcc4u.org
SUMMARY:Church Office Closed
DESCRIPTION:The church office is closed for Thanksgiving.
URL:https://www.ghcc4u.org/event/church-office-closed-2019-08/
LOCATION:Granada Hills Community Church\, 11263 Balboa Blvd\, Granada Hills\, CA\, 91344\, United States
CATEGORIES:Holiday
ATTACH;FMTTYPE=image/jpeg:https://www.ghcc4u.org/wp-content/uploads/2019/02/closed.jpg
END:VEVENT
BEGIN:VEVENT
DTSTART;VALUE=DATE:20191128
DTEND;VALUE=DATE:20191129
DTSTAMP:20260423T144503
CREATED:20191028T170440Z
LAST-MODIFIED:20191028T170931Z
UID:29173-1574899200-1574985599@www.ghcc4u.org
SUMMARY:Thanksgiving
DESCRIPTION:
URL:https://www.ghcc4u.org/event/thanksgiving-2019-1/
LOCATION:Granada Hills Community Church\, 11263 Balboa Blvd\, Granada Hills\, CA\, 91344\, United States
CATEGORIES:Holiday
ATTACH;FMTTYPE=image/jpeg:https://www.ghcc4u.org/wp-content/uploads/2019/02/thanksgiving.jpg
END:VEVENT
BEGIN:VEVENT
DTSTART;VALUE=DATE:20191111
DTEND;VALUE=DATE:20191112
DTSTAMP:20260423T144503
CREATED:20191028T165537Z
LAST-MODIFIED:20191028T165612Z
UID:29165-1573430400-1573516799@www.ghcc4u.org
SUMMARY:Church Office Closed
DESCRIPTION:The church office is closed for Veteran’s Day.
URL:https://www.ghcc4u.org/event/church-office-closed-2019-07/
LOCATION:Granada Hills Community Church\, 11263 Balboa Blvd\, Granada Hills\, CA\, 91344\, United States
CATEGORIES:Holiday
ATTACH;FMTTYPE=image/jpeg:https://www.ghcc4u.org/wp-content/uploads/2019/02/closed.jpg
END:VEVENT
BEGIN:VEVENT
DTSTART;VALUE=DATE:20190902
DTEND;VALUE=DATE:20190903
DTSTAMP:20260423T144503
CREATED:20190826T233036Z
LAST-MODIFIED:20190826T233057Z
UID:29063-1567382400-1567468799@www.ghcc4u.org
SUMMARY:Church Office Closed
DESCRIPTION:The church office is closed for Labor Day.
URL:https://www.ghcc4u.org/event/church-office-closed-2019-06/
LOCATION:Granada Hills Community Church\, 11263 Balboa Blvd\, Granada Hills\, CA\, 91344\, United States
CATEGORIES:Holiday
ATTACH;FMTTYPE=image/jpeg:https://www.ghcc4u.org/wp-content/uploads/2019/02/closed.jpg
END:VEVENT
BEGIN:VEVENT
DTSTART;VALUE=DATE:20190704
DTEND;VALUE=DATE:20190705
DTSTAMP:20260423T144503
CREATED:20190703T234631Z
LAST-MODIFIED:20190703T234707Z
UID:28964-1562198400-1562284799@www.ghcc4u.org
SUMMARY:Church Office Closed
DESCRIPTION:The church office is closed for Independence Day.
URL:https://www.ghcc4u.org/event/church-office-closed-2019-05/
LOCATION:Granada Hills Community Church\, 11263 Balboa Blvd\, Granada Hills\, CA\, 91344\, United States
CATEGORIES:Holiday
ATTACH;FMTTYPE=image/jpeg:https://www.ghcc4u.org/wp-content/uploads/2019/02/closed.jpg
END:VEVENT
BEGIN:VEVENT
DTSTART;VALUE=DATE:20190527
DTEND;VALUE=DATE:20190528
DTSTAMP:20260423T144503
CREATED:20190501T190326Z
LAST-MODIFIED:20190501T190326Z
UID:28835-1558915200-1559001599@www.ghcc4u.org
SUMMARY:Church Office Closed
DESCRIPTION:The church office is closed for Memorial Day.
URL:https://www.ghcc4u.org/event/church-office-closed-2019-04/
LOCATION:Granada Hills Community Church\, 11263 Balboa Blvd\, Granada Hills\, CA\, 91344\, United States
CATEGORIES:Holiday
ATTACH;FMTTYPE=image/jpeg:https://www.ghcc4u.org/wp-content/uploads/2019/02/closed.jpg
END:VEVENT
BEGIN:VEVENT
DTSTART;VALUE=DATE:20190218
DTEND;VALUE=DATE:20190219
DTSTAMP:20260423T144503
CREATED:20190212T211849Z
LAST-MODIFIED:20190212T211919Z
UID:28659-1550448000-1550534399@www.ghcc4u.org
SUMMARY:Church Office Closed
DESCRIPTION:The church office is closed for President’s Day.
URL:https://www.ghcc4u.org/event/church-office-closed-2019-03/
LOCATION:Granada Hills Community Church\, 11263 Balboa Blvd\, Granada Hills\, CA\, 91344\, United States
CATEGORIES:Holiday
ATTACH;FMTTYPE=image/jpeg:https://www.ghcc4u.org/wp-content/uploads/2019/02/closed.jpg
END:VEVENT
BEGIN:VEVENT
DTSTART;VALUE=DATE:20190121
DTEND;VALUE=DATE:20190122
DTSTAMP:20260423T144503
CREATED:20181231T185507Z
LAST-MODIFIED:20181231T185825Z
UID:28453-1548028800-1548115199@www.ghcc4u.org
SUMMARY:Church Office Closed
DESCRIPTION:The church office is closed for Martin Luther King\, Jr. Day.
URL:https://www.ghcc4u.org/event/church-office-closed-2019-02/
LOCATION:Granada Hills Community Church\, 11263 Balboa Blvd\, Granada Hills\, CA\, 91344\, United States
CATEGORIES:Holiday
END:VEVENT
BEGIN:VEVENT
DTSTART;VALUE=DATE:20190101
DTEND;VALUE=DATE:20190102
DTSTAMP:20260423T144503
CREATED:20181205T002705Z
LAST-MODIFIED:20181205T002728Z
UID:28435-1546300800-1546387199@www.ghcc4u.org
SUMMARY:Church Office Closed
DESCRIPTION:The church office is closed for New Year’s Day.
URL:https://www.ghcc4u.org/event/church-office-closed-2019-01/
LOCATION:Granada Hills Community Church\, 11263 Balboa Blvd\, Granada Hills\, CA\, 91344\, United States
CATEGORIES:Holiday
END:VEVENT
END:VCALENDAR