BEGIN:VCALENDAR
VERSION:2.0
PRODID:-//Granada Hills Community Church - ECPv6.15.20//NONSGML v1.0//EN
CALSCALE:GREGORIAN
METHOD:PUBLISH
X-WR-CALNAME:Granada Hills Community Church
X-ORIGINAL-URL:https://www.ghcc4u.org
X-WR-CALDESC:Events for Granada Hills Community Church
REFRESH-INTERVAL;VALUE=DURATION:PT1H
X-Robots-Tag:noindex
X-PUBLISHED-TTL:PT1H
BEGIN:VTIMEZONE
TZID:America/Los_Angeles
BEGIN:DAYLIGHT
TZOFFSETFROM:-0800
TZOFFSETTO:-0700
TZNAME:PDT
DTSTART:20170312T100000
END:DAYLIGHT
BEGIN:STANDARD
TZOFFSETFROM:-0700
TZOFFSETTO:-0800
TZNAME:PST
DTSTART:20171105T090000
END:STANDARD
BEGIN:DAYLIGHT
TZOFFSETFROM:-0800
TZOFFSETTO:-0700
TZNAME:PDT
DTSTART:20180311T100000
END:DAYLIGHT
BEGIN:STANDARD
TZOFFSETFROM:-0700
TZOFFSETTO:-0800
TZNAME:PST
DTSTART:20181104T090000
END:STANDARD
BEGIN:DAYLIGHT
TZOFFSETFROM:-0800
TZOFFSETTO:-0700
TZNAME:PDT
DTSTART:20190310T100000
END:DAYLIGHT
BEGIN:STANDARD
TZOFFSETFROM:-0700
TZOFFSETTO:-0800
TZNAME:PST
DTSTART:20191103T090000
END:STANDARD
BEGIN:DAYLIGHT
TZOFFSETFROM:-0800
TZOFFSETTO:-0700
TZNAME:PDT
DTSTART:20200308T100000
END:DAYLIGHT
BEGIN:STANDARD
TZOFFSETFROM:-0700
TZOFFSETTO:-0800
TZNAME:PST
DTSTART:20201101T090000
END:STANDARD
END:VTIMEZONE
BEGIN:VEVENT
DTSTART;TZID=America/Los_Angeles:20190610T090000
DTEND;TZID=America/Los_Angeles:20190610T120000
DTSTAMP:20260423T233204
CREATED:20190529T225751Z
LAST-MODIFIED:20190529T225829Z
UID:28855-1560157200-1560168000@www.ghcc4u.org
SUMMARY:"Pieces of Heaven" Quilting Fellowship
DESCRIPTION:
URL:https://www.ghcc4u.org/event/quilting-2019-20/
LOCATION:Granada Hills Community Church\, 11263 Balboa Blvd\, Granada Hills\, CA\, 91344\, United States
CATEGORIES:Fellowship
ATTACH;FMTTYPE=image/jpeg:https://www.ghcc4u.org/wp-content/uploads/2019/02/quilt.jpg
END:VEVENT
BEGIN:VEVENT
DTSTART;TZID=America/Los_Angeles:20190603T090000
DTEND;TZID=America/Los_Angeles:20190603T120000
DTSTAMP:20260423T233204
CREATED:20190529T225543Z
LAST-MODIFIED:20190529T225614Z
UID:28853-1559552400-1559563200@www.ghcc4u.org
SUMMARY:"Pieces of Heaven" Quilting Fellowship
DESCRIPTION:
URL:https://www.ghcc4u.org/event/quilting-2019-19/
LOCATION:Granada Hills Community Church\, 11263 Balboa Blvd\, Granada Hills\, CA\, 91344\, United States
CATEGORIES:Fellowship
ATTACH;FMTTYPE=image/jpeg:https://www.ghcc4u.org/wp-content/uploads/2019/02/quilt.jpg
END:VEVENT
BEGIN:VEVENT
DTSTART;TZID=America/Los_Angeles:20190520T090000
DTEND;TZID=America/Los_Angeles:20190520T120000
DTSTAMP:20260423T233204
CREATED:20190501T184832Z
LAST-MODIFIED:20190501T184904Z
UID:28826-1558342800-1558353600@www.ghcc4u.org
SUMMARY:"Pieces of Heaven" Quilting Fellowship
DESCRIPTION:
URL:https://www.ghcc4u.org/event/quilting-2019-18/
LOCATION:Granada Hills Community Church\, 11263 Balboa Blvd\, Granada Hills\, CA\, 91344\, United States
CATEGORIES:Fellowship
ATTACH;FMTTYPE=image/jpeg:https://www.ghcc4u.org/wp-content/uploads/2019/02/quilt.jpg
END:VEVENT
BEGIN:VEVENT
DTSTART;TZID=America/Los_Angeles:20190513T090000
DTEND;TZID=America/Los_Angeles:20190513T120000
DTSTAMP:20260423T233204
CREATED:20190501T184733Z
LAST-MODIFIED:20190501T184807Z
UID:28824-1557738000-1557748800@www.ghcc4u.org
SUMMARY:"Pieces of Heaven" Quilting Fellowship
DESCRIPTION:
URL:https://www.ghcc4u.org/event/quilting-2019-17/
LOCATION:Granada Hills Community Church\, 11263 Balboa Blvd\, Granada Hills\, CA\, 91344\, United States
CATEGORIES:Fellowship
ATTACH;FMTTYPE=image/jpeg:https://www.ghcc4u.org/wp-content/uploads/2019/02/quilt.jpg
END:VEVENT
BEGIN:VEVENT
DTSTART;TZID=America/Los_Angeles:20190506T090000
DTEND;TZID=America/Los_Angeles:20190506T120000
DTSTAMP:20260423T233204
CREATED:20190501T184635Z
LAST-MODIFIED:20190501T184708Z
UID:28822-1557133200-1557144000@www.ghcc4u.org
SUMMARY:"Pieces of Heaven" Quilting Fellowship
DESCRIPTION:
URL:https://www.ghcc4u.org/event/quilting-2019-16/
LOCATION:Granada Hills Community Church\, 11263 Balboa Blvd\, Granada Hills\, CA\, 91344\, United States
CATEGORIES:Fellowship
ATTACH;FMTTYPE=image/jpeg:https://www.ghcc4u.org/wp-content/uploads/2019/02/quilt.jpg
END:VEVENT
BEGIN:VEVENT
DTSTART;TZID=America/Los_Angeles:20190429T090000
DTEND;TZID=America/Los_Angeles:20190429T120000
DTSTAMP:20260423T233204
CREATED:20190401T174117Z
LAST-MODIFIED:20190401T174151Z
UID:28777-1556528400-1556539200@www.ghcc4u.org
SUMMARY:"Pieces of Heaven" Quilting Fellowship
DESCRIPTION:
URL:https://www.ghcc4u.org/event/quilting-2019-15/
LOCATION:Granada Hills Community Church\, 11263 Balboa Blvd\, Granada Hills\, CA\, 91344\, United States
CATEGORIES:Fellowship
ATTACH;FMTTYPE=image/jpeg:https://www.ghcc4u.org/wp-content/uploads/2019/02/quilt.jpg
END:VEVENT
BEGIN:VEVENT
DTSTART;TZID=America/Los_Angeles:20190422T090000
DTEND;TZID=America/Los_Angeles:20190422T120000
DTSTAMP:20260423T233204
CREATED:20190401T173918Z
LAST-MODIFIED:20190401T174001Z
UID:28775-1555923600-1555934400@www.ghcc4u.org
SUMMARY:"Pieces of Heaven" Quilting Fellowship
DESCRIPTION:
URL:https://www.ghcc4u.org/event/quilting-2019-14/
LOCATION:Granada Hills Community Church\, 11263 Balboa Blvd\, Granada Hills\, CA\, 91344\, United States
CATEGORIES:Fellowship
ATTACH;FMTTYPE=image/jpeg:https://www.ghcc4u.org/wp-content/uploads/2019/02/quilt.jpg
END:VEVENT
BEGIN:VEVENT
DTSTART;TZID=America/Los_Angeles:20190415T090000
DTEND;TZID=America/Los_Angeles:20190415T120000
DTSTAMP:20260423T233204
CREATED:20190401T173821Z
LAST-MODIFIED:20190401T173853Z
UID:28773-1555318800-1555329600@www.ghcc4u.org
SUMMARY:"Pieces of Heaven" Quilting Fellowship
DESCRIPTION:
URL:https://www.ghcc4u.org/event/quilting-2019-13/
LOCATION:Granada Hills Community Church\, 11263 Balboa Blvd\, Granada Hills\, CA\, 91344\, United States
CATEGORIES:Fellowship
ATTACH;FMTTYPE=image/jpeg:https://www.ghcc4u.org/wp-content/uploads/2019/02/quilt.jpg
END:VEVENT
BEGIN:VEVENT
DTSTART;TZID=America/Los_Angeles:20190408T090000
DTEND;TZID=America/Los_Angeles:20190408T120000
DTSTAMP:20260423T233204
CREATED:20190401T173537Z
LAST-MODIFIED:20190401T173751Z
UID:28771-1554714000-1554724800@www.ghcc4u.org
SUMMARY:"Pieces of Heaven" Quilting Fellowship
DESCRIPTION:
URL:https://www.ghcc4u.org/event/quilting-2019-12/
LOCATION:Granada Hills Community Church\, 11263 Balboa Blvd\, Granada Hills\, CA\, 91344\, United States
CATEGORIES:Fellowship
ATTACH;FMTTYPE=image/jpeg:https://www.ghcc4u.org/wp-content/uploads/2019/02/quilt.jpg
END:VEVENT
BEGIN:VEVENT
DTSTART;TZID=America/Los_Angeles:20190401T090000
DTEND;TZID=America/Los_Angeles:20190401T120000
DTSTAMP:20260423T233204
CREATED:20190401T173443Z
LAST-MODIFIED:20190401T173510Z
UID:28769-1554109200-1554120000@www.ghcc4u.org
SUMMARY:"Pieces of Heaven" Quilting Fellowship
DESCRIPTION:
URL:https://www.ghcc4u.org/event/quilting-2019-11/
LOCATION:Granada Hills Community Church\, 11263 Balboa Blvd\, Granada Hills\, CA\, 91344\, United States
CATEGORIES:Fellowship
ATTACH;FMTTYPE=image/jpeg:https://www.ghcc4u.org/wp-content/uploads/2019/02/quilt.jpg
END:VEVENT
BEGIN:VEVENT
DTSTART;TZID=America/Los_Angeles:20190325T090000
DTEND;TZID=America/Los_Angeles:20190325T120000
DTSTAMP:20260423T233204
CREATED:20190228T182331Z
LAST-MODIFIED:20190228T182406Z
UID:28685-1553504400-1553515200@www.ghcc4u.org
SUMMARY:"Pieces of Heaven" Quilting Fellowship
DESCRIPTION:
URL:https://www.ghcc4u.org/event/quilting-2019-10/
LOCATION:Granada Hills Community Church\, 11263 Balboa Blvd\, Granada Hills\, CA\, 91344\, United States
CATEGORIES:Fellowship
ATTACH;FMTTYPE=image/jpeg:https://www.ghcc4u.org/wp-content/uploads/2019/02/quilt.jpg
END:VEVENT
BEGIN:VEVENT
DTSTART;TZID=America/Los_Angeles:20190318T090000
DTEND;TZID=America/Los_Angeles:20190318T120000
DTSTAMP:20260423T233204
CREATED:20190228T182231Z
LAST-MODIFIED:20190228T182308Z
UID:28683-1552899600-1552910400@www.ghcc4u.org
SUMMARY:"Pieces of Heaven" Quilting Fellowship
DESCRIPTION:
URL:https://www.ghcc4u.org/event/quilting-2019-09/
LOCATION:Granada Hills Community Church\, 11263 Balboa Blvd\, Granada Hills\, CA\, 91344\, United States
CATEGORIES:Fellowship
ATTACH;FMTTYPE=image/jpeg:https://www.ghcc4u.org/wp-content/uploads/2019/02/quilt.jpg
END:VEVENT
BEGIN:VEVENT
DTSTART;TZID=America/Los_Angeles:20190311T090000
DTEND;TZID=America/Los_Angeles:20190311T120000
DTSTAMP:20260423T233204
CREATED:20190228T182135Z
LAST-MODIFIED:20190228T182208Z
UID:28681-1552294800-1552305600@www.ghcc4u.org
SUMMARY:"Pieces of Heaven" Quilting Fellowship
DESCRIPTION:
URL:https://www.ghcc4u.org/event/quilting-2019-08/
LOCATION:Granada Hills Community Church\, 11263 Balboa Blvd\, Granada Hills\, CA\, 91344\, United States
CATEGORIES:Fellowship
ATTACH;FMTTYPE=image/jpeg:https://www.ghcc4u.org/wp-content/uploads/2019/02/quilt.jpg
END:VEVENT
BEGIN:VEVENT
DTSTART;TZID=America/Los_Angeles:20190304T090000
DTEND;TZID=America/Los_Angeles:20190304T120000
DTSTAMP:20260423T233204
CREATED:20190129T220549Z
LAST-MODIFIED:20190212T212248Z
UID:28521-1551690000-1551700800@www.ghcc4u.org
SUMMARY:"Pieces of Heaven" Quilting Fellowship
DESCRIPTION:
URL:https://www.ghcc4u.org/event/quilting-2019-07/
LOCATION:Granada Hills Community Church\, 11263 Balboa Blvd\, Granada Hills\, CA\, 91344\, United States
CATEGORIES:Fellowship
ATTACH;FMTTYPE=image/jpeg:https://www.ghcc4u.org/wp-content/uploads/2019/02/quilt.jpg
END:VEVENT
BEGIN:VEVENT
DTSTART;TZID=America/Los_Angeles:20190225T090000
DTEND;TZID=America/Los_Angeles:20190225T120000
DTSTAMP:20260423T233204
CREATED:20190129T215041Z
LAST-MODIFIED:20190212T212334Z
UID:28519-1551085200-1551096000@www.ghcc4u.org
SUMMARY:"Pieces of Heaven" Quilting Fellowship
DESCRIPTION:
URL:https://www.ghcc4u.org/event/quilting-2019-06/
LOCATION:Granada Hills Community Church\, 11263 Balboa Blvd\, Granada Hills\, CA\, 91344\, United States
CATEGORIES:Fellowship
END:VEVENT
BEGIN:VEVENT
DTSTART;TZID=America/Los_Angeles:20190211T090000
DTEND;TZID=America/Los_Angeles:20190211T120000
DTSTAMP:20260423T233204
CREATED:20190129T214950Z
LAST-MODIFIED:20190129T215011Z
UID:28517-1549875600-1549886400@www.ghcc4u.org
SUMMARY:"Pieces of Heaven" Quilting Fellowship
DESCRIPTION:
URL:https://www.ghcc4u.org/event/quilting-2019-05/
LOCATION:Granada Hills Community Church\, 11263 Balboa Blvd\, Granada Hills\, CA\, 91344\, United States
CATEGORIES:Fellowship
END:VEVENT
BEGIN:VEVENT
DTSTART;TZID=America/Los_Angeles:20190204T090000
DTEND;TZID=America/Los_Angeles:20190204T120000
DTSTAMP:20260423T233204
CREATED:20190129T214845Z
LAST-MODIFIED:20190129T214906Z
UID:28515-1549270800-1549281600@www.ghcc4u.org
SUMMARY:"Pieces of Heaven" Quilting Fellowship
DESCRIPTION:
URL:https://www.ghcc4u.org/event/quilting-2019-04/
LOCATION:Granada Hills Community Church\, 11263 Balboa Blvd\, Granada Hills\, CA\, 91344\, United States
CATEGORIES:Fellowship
END:VEVENT
BEGIN:VEVENT
DTSTART;TZID=America/Los_Angeles:20190128T090000
DTEND;TZID=America/Los_Angeles:20190128T120000
DTSTAMP:20260423T233204
CREATED:20181231T190636Z
LAST-MODIFIED:20181231T190657Z
UID:28471-1548666000-1548676800@www.ghcc4u.org
SUMMARY:"Pieces of Heaven" Quilting Fellowship
DESCRIPTION:
URL:https://www.ghcc4u.org/event/quilting-2019-03/
LOCATION:Granada Hills Community Church\, 11263 Balboa Blvd\, Granada Hills\, CA\, 91344\, United States
CATEGORIES:Fellowship
END:VEVENT
BEGIN:VEVENT
DTSTART;TZID=America/Los_Angeles:20190114T090000
DTEND;TZID=America/Los_Angeles:20190114T120000
DTSTAMP:20260423T233204
CREATED:20181231T190555Z
LAST-MODIFIED:20181231T190616Z
UID:28469-1547456400-1547467200@www.ghcc4u.org
SUMMARY:"Pieces of Heaven" Quilting Fellowship
DESCRIPTION:
URL:https://www.ghcc4u.org/event/quilting-2019-02/
LOCATION:Granada Hills Community Church\, 11263 Balboa Blvd\, Granada Hills\, CA\, 91344\, United States
CATEGORIES:Fellowship
END:VEVENT
BEGIN:VEVENT
DTSTART;TZID=America/Los_Angeles:20190107T090000
DTEND;TZID=America/Los_Angeles:20190107T120000
DTSTAMP:20260423T233204
CREATED:20181231T190503Z
LAST-MODIFIED:20181231T190528Z
UID:28467-1546851600-1546862400@www.ghcc4u.org
SUMMARY:"Pieces of Heaven" Quilting Fellowship
DESCRIPTION:
URL:https://www.ghcc4u.org/event/quilting-2019-01/
LOCATION:Granada Hills Community Church\, 11263 Balboa Blvd\, Granada Hills\, CA\, 91344\, United States
CATEGORIES:Fellowship
END:VEVENT
BEGIN:VEVENT
DTSTART;TZID=America/Los_Angeles:20181217T090000
DTEND;TZID=America/Los_Angeles:20181217T120000
DTSTAMP:20260423T233204
CREATED:20181205T002032Z
LAST-MODIFIED:20181205T002054Z
UID:28425-1545037200-1545048000@www.ghcc4u.org
SUMMARY:"Pieces of Heaven" Quilting Fellowship
DESCRIPTION:
URL:https://www.ghcc4u.org/event/quilting-2018-40/
LOCATION:Granada Hills Community Church\, 11263 Balboa Blvd\, Granada Hills\, CA\, 91344\, United States
CATEGORIES:Fellowship
END:VEVENT
BEGIN:VEVENT
DTSTART;TZID=America/Los_Angeles:20181216T170000
DTEND;TZID=America/Los_Angeles:20181216T193000
DTSTAMP:20260423T233204
CREATED:20181205T003127Z
LAST-MODIFIED:20181205T003152Z
UID:28440-1544979600-1544988600@www.ghcc4u.org
SUMMARY:Soup & Sing 2018
DESCRIPTION:Please come join us for a fabulous evening of food\, fellowship\, Christmas carols\, and performances.
URL:https://www.ghcc4u.org/event/soup-and-sing-2018-1/
LOCATION:Granada Hills Community Church\, 11263 Balboa Blvd\, Granada Hills\, CA\, 91344\, United States
CATEGORIES:Fellowship
ATTACH;FMTTYPE=image/jpeg:https://www.ghcc4u.org/wp-content/uploads/2017/11/soup.jpg
END:VEVENT
BEGIN:VEVENT
DTSTART;TZID=America/Los_Angeles:20181210T090000
DTEND;TZID=America/Los_Angeles:20181210T120000
DTSTAMP:20260423T233204
CREATED:20181205T001944Z
LAST-MODIFIED:20181205T002006Z
UID:28423-1544432400-1544443200@www.ghcc4u.org
SUMMARY:"Pieces of Heaven" Quilting Fellowship
DESCRIPTION:
URL:https://www.ghcc4u.org/event/quilting-2018-39/
LOCATION:Granada Hills Community Church\, 11263 Balboa Blvd\, Granada Hills\, CA\, 91344\, United States
CATEGORIES:Fellowship
END:VEVENT
BEGIN:VEVENT
DTSTART;TZID=America/Los_Angeles:20181203T090000
DTEND;TZID=America/Los_Angeles:20181203T120000
DTSTAMP:20260423T233204
CREATED:20181205T001831Z
LAST-MODIFIED:20181205T001919Z
UID:28421-1543827600-1543838400@www.ghcc4u.org
SUMMARY:"Pieces of Heaven" Quilting Fellowship
DESCRIPTION:
URL:https://www.ghcc4u.org/event/quilting-2018-38/
LOCATION:Granada Hills Community Church\, 11263 Balboa Blvd\, Granada Hills\, CA\, 91344\, United States
CATEGORIES:Fellowship
END:VEVENT
BEGIN:VEVENT
DTSTART;TZID=America/Los_Angeles:20181126T090000
DTEND;TZID=America/Los_Angeles:20181126T120000
DTSTAMP:20260423T233204
CREATED:20181029T224917Z
LAST-MODIFIED:20181029T224948Z
UID:28383-1543222800-1543233600@www.ghcc4u.org
SUMMARY:"Pieces of Heaven" Quilting Fellowship
DESCRIPTION:
URL:https://www.ghcc4u.org/event/quilting-2018-37/
LOCATION:Granada Hills Community Church\, 11263 Balboa Blvd\, Granada Hills\, CA\, 91344\, United States
CATEGORIES:Fellowship
END:VEVENT
BEGIN:VEVENT
DTSTART;TZID=America/Los_Angeles:20181119T090000
DTEND;TZID=America/Los_Angeles:20181119T120000
DTSTAMP:20260423T233204
CREATED:20181029T224753Z
LAST-MODIFIED:20181029T224836Z
UID:28381-1542618000-1542628800@www.ghcc4u.org
SUMMARY:"Pieces of Heaven" Quilting Fellowship
DESCRIPTION:
URL:https://www.ghcc4u.org/event/quilting-2018-36/
LOCATION:Granada Hills Community Church\, 11263 Balboa Blvd\, Granada Hills\, CA\, 91344\, United States
CATEGORIES:Fellowship
END:VEVENT
BEGIN:VEVENT
DTSTART;TZID=America/Los_Angeles:20181112T090000
DTEND;TZID=America/Los_Angeles:20181112T120000
DTSTAMP:20260423T233204
CREATED:20181029T224659Z
LAST-MODIFIED:20181029T224732Z
UID:28379-1542013200-1542024000@www.ghcc4u.org
SUMMARY:"Pieces of Heaven" Quilting Fellowship
DESCRIPTION:
URL:https://www.ghcc4u.org/event/quilting-2018-35/
LOCATION:Granada Hills Community Church\, 11263 Balboa Blvd\, Granada Hills\, CA\, 91344\, United States
CATEGORIES:Fellowship
END:VEVENT
BEGIN:VEVENT
DTSTART;TZID=America/Los_Angeles:20181105T090000
DTEND;TZID=America/Los_Angeles:20181105T120000
DTSTAMP:20260423T233204
CREATED:20181029T224540Z
LAST-MODIFIED:20181029T224607Z
UID:28377-1541408400-1541419200@www.ghcc4u.org
SUMMARY:"Pieces of Heaven" Quilting Fellowship
DESCRIPTION:
URL:https://www.ghcc4u.org/event/quilting-2018-34/
LOCATION:Granada Hills Community Church\, 11263 Balboa Blvd\, Granada Hills\, CA\, 91344\, United States
CATEGORIES:Fellowship
END:VEVENT
BEGIN:VEVENT
DTSTART;TZID=America/Los_Angeles:20181029T090000
DTEND;TZID=America/Los_Angeles:20181029T120000
DTSTAMP:20260423T233204
CREATED:20180905T180316Z
LAST-MODIFIED:20180905T180346Z
UID:28288-1540803600-1540814400@www.ghcc4u.org
SUMMARY:"Pieces of Heaven" Quilting Fellowship
DESCRIPTION:
URL:https://www.ghcc4u.org/event/quilting-2018-33/
LOCATION:Granada Hills Community Church\, 11263 Balboa Blvd\, Granada Hills\, CA\, 91344\, United States
CATEGORIES:Fellowship
END:VEVENT
BEGIN:VEVENT
DTSTART;TZID=America/Los_Angeles:20181022T090000
DTEND;TZID=America/Los_Angeles:20181022T120000
DTSTAMP:20260423T233204
CREATED:20180905T180235Z
LAST-MODIFIED:20180905T180256Z
UID:28286-1540198800-1540209600@www.ghcc4u.org
SUMMARY:"Pieces of Heaven" Quilting Fellowship
DESCRIPTION:
URL:https://www.ghcc4u.org/event/quilting-2018-32/
LOCATION:Granada Hills Community Church\, 11263 Balboa Blvd\, Granada Hills\, CA\, 91344\, United States
CATEGORIES:Fellowship
END:VEVENT
END:VCALENDAR