BEGIN:VCALENDAR
VERSION:2.0
PRODID:-//Granada Hills Community Church - ECPv6.15.20//NONSGML v1.0//EN
CALSCALE:GREGORIAN
METHOD:PUBLISH
X-WR-CALNAME:Granada Hills Community Church
X-ORIGINAL-URL:https://www.ghcc4u.org
X-WR-CALDESC:Events for Granada Hills Community Church
REFRESH-INTERVAL;VALUE=DURATION:PT1H
X-Robots-Tag:noindex
X-PUBLISHED-TTL:PT1H
BEGIN:VTIMEZONE
TZID:America/Los_Angeles
BEGIN:DAYLIGHT
TZOFFSETFROM:-0800
TZOFFSETTO:-0700
TZNAME:PDT
DTSTART:20180311T100000
END:DAYLIGHT
BEGIN:STANDARD
TZOFFSETFROM:-0700
TZOFFSETTO:-0800
TZNAME:PST
DTSTART:20181104T090000
END:STANDARD
BEGIN:DAYLIGHT
TZOFFSETFROM:-0800
TZOFFSETTO:-0700
TZNAME:PDT
DTSTART:20190310T100000
END:DAYLIGHT
BEGIN:STANDARD
TZOFFSETFROM:-0700
TZOFFSETTO:-0800
TZNAME:PST
DTSTART:20191103T090000
END:STANDARD
BEGIN:DAYLIGHT
TZOFFSETFROM:-0800
TZOFFSETTO:-0700
TZNAME:PDT
DTSTART:20200308T100000
END:DAYLIGHT
BEGIN:STANDARD
TZOFFSETFROM:-0700
TZOFFSETTO:-0800
TZNAME:PST
DTSTART:20201101T090000
END:STANDARD
BEGIN:DAYLIGHT
TZOFFSETFROM:-0800
TZOFFSETTO:-0700
TZNAME:PDT
DTSTART:20210314T100000
END:DAYLIGHT
BEGIN:STANDARD
TZOFFSETFROM:-0700
TZOFFSETTO:-0800
TZNAME:PST
DTSTART:20211107T090000
END:STANDARD
BEGIN:DAYLIGHT
TZOFFSETFROM:-0800
TZOFFSETTO:-0700
TZNAME:PDT
DTSTART:20220313T100000
END:DAYLIGHT
BEGIN:STANDARD
TZOFFSETFROM:-0700
TZOFFSETTO:-0800
TZNAME:PST
DTSTART:20221106T090000
END:STANDARD
BEGIN:DAYLIGHT
TZOFFSETFROM:-0800
TZOFFSETTO:-0700
TZNAME:PDT
DTSTART:20230312T100000
END:DAYLIGHT
BEGIN:STANDARD
TZOFFSETFROM:-0700
TZOFFSETTO:-0800
TZNAME:PST
DTSTART:20231105T090000
END:STANDARD
BEGIN:DAYLIGHT
TZOFFSETFROM:-0800
TZOFFSETTO:-0700
TZNAME:PDT
DTSTART:20240310T100000
END:DAYLIGHT
BEGIN:STANDARD
TZOFFSETFROM:-0700
TZOFFSETTO:-0800
TZNAME:PST
DTSTART:20241103T090000
END:STANDARD
BEGIN:DAYLIGHT
TZOFFSETFROM:-0800
TZOFFSETTO:-0700
TZNAME:PDT
DTSTART:20250309T100000
END:DAYLIGHT
BEGIN:STANDARD
TZOFFSETFROM:-0700
TZOFFSETTO:-0800
TZNAME:PST
DTSTART:20251102T090000
END:STANDARD
BEGIN:DAYLIGHT
TZOFFSETFROM:-0800
TZOFFSETTO:-0700
TZNAME:PDT
DTSTART:20260308T100000
END:DAYLIGHT
BEGIN:STANDARD
TZOFFSETFROM:-0700
TZOFFSETTO:-0800
TZNAME:PST
DTSTART:20261101T090000
END:STANDARD
END:VTIMEZONE
BEGIN:VEVENT
DTSTART;TZID=America/Los_Angeles:20251214T170000
DTEND;TZID=America/Los_Angeles:20251214T193000
DTSTAMP:20260423T171457
CREATED:20251201T202710Z
LAST-MODIFIED:20251201T202724Z
UID:31511-1765731600-1765740600@www.ghcc4u.org
SUMMARY:Soup & Sing 2025
DESCRIPTION:Please come join us for a fabulous evening of food\, fellowship\, Christmas carols\, and performances.
URL:https://www.ghcc4u.org/event/soup-and-sing-2025-1/
LOCATION:Granada Hills Community Church\, 11263 Balboa Blvd\, Granada Hills\, CA\, 91344\, United States
CATEGORIES:Fellowship
ATTACH;FMTTYPE=image/jpeg:https://www.ghcc4u.org/wp-content/uploads/2017/11/soup.jpg
END:VEVENT
BEGIN:VEVENT
DTSTART;TZID=America/Los_Angeles:20241215T170000
DTEND;TZID=America/Los_Angeles:20241215T193000
DTSTAMP:20260423T171457
CREATED:20241202T213501Z
LAST-MODIFIED:20241202T213514Z
UID:30865-1734282000-1734291000@www.ghcc4u.org
SUMMARY:Soup & Sing 2024
DESCRIPTION:Please come join us for a fabulous evening of food\, fellowship\, Christmas carols\, and performances.
URL:https://www.ghcc4u.org/event/soup-and-sing-2024-1/
LOCATION:Granada Hills Community Church\, 11263 Balboa Blvd\, Granada Hills\, CA\, 91344\, United States
CATEGORIES:Fellowship
ATTACH;FMTTYPE=image/jpeg:https://www.ghcc4u.org/wp-content/uploads/2017/11/soup.jpg
END:VEVENT
BEGIN:VEVENT
DTSTART;TZID=America/Los_Angeles:20221218T170000
DTEND;TZID=America/Los_Angeles:20221218T193000
DTSTAMP:20260423T171457
CREATED:20221121T194312Z
LAST-MODIFIED:20221121T194327Z
UID:29985-1671382800-1671391800@www.ghcc4u.org
SUMMARY:Soup & Sing 2022
DESCRIPTION:Please come join us for a fabulous evening of food\, fellowship\, Christmas carols\, and performances.
URL:https://www.ghcc4u.org/event/soup-and-sing-2022-1/
LOCATION:Granada Hills Community Church\, 11263 Balboa Blvd\, Granada Hills\, CA\, 91344\, United States
CATEGORIES:Fellowship
ATTACH;FMTTYPE=image/jpeg:https://www.ghcc4u.org/wp-content/uploads/2017/11/soup.jpg
END:VEVENT
BEGIN:VEVENT
DTSTART;TZID=America/Los_Angeles:20200330T090000
DTEND;TZID=America/Los_Angeles:20200330T120000
DTSTAMP:20260423T171457
CREATED:20200224T190949Z
LAST-MODIFIED:20200224T191004Z
UID:29326-1585558800-1585569600@www.ghcc4u.org
SUMMARY:"Pieces of Heaven" Quilting Fellowship
DESCRIPTION:
URL:https://www.ghcc4u.org/event/quilting-2020-11/
LOCATION:Granada Hills Community Church\, 11263 Balboa Blvd\, Granada Hills\, CA\, 91344\, United States
CATEGORIES:Fellowship
ATTACH;FMTTYPE=image/jpeg:https://www.ghcc4u.org/wp-content/uploads/2019/02/quilt.jpg
END:VEVENT
BEGIN:VEVENT
DTSTART;TZID=America/Los_Angeles:20200323T090000
DTEND;TZID=America/Los_Angeles:20200323T120000
DTSTAMP:20260423T171457
CREATED:20200224T190919Z
LAST-MODIFIED:20200224T190931Z
UID:29324-1584954000-1584964800@www.ghcc4u.org
SUMMARY:"Pieces of Heaven" Quilting Fellowship
DESCRIPTION:
URL:https://www.ghcc4u.org/event/quilting-2020-10/
LOCATION:Granada Hills Community Church\, 11263 Balboa Blvd\, Granada Hills\, CA\, 91344\, United States
CATEGORIES:Fellowship
ATTACH;FMTTYPE=image/jpeg:https://www.ghcc4u.org/wp-content/uploads/2019/02/quilt.jpg
END:VEVENT
BEGIN:VEVENT
DTSTART;TZID=America/Los_Angeles:20200316T090000
DTEND;TZID=America/Los_Angeles:20200316T120000
DTSTAMP:20260423T171457
CREATED:20200224T190853Z
LAST-MODIFIED:20200224T190906Z
UID:29322-1584349200-1584360000@www.ghcc4u.org
SUMMARY:"Pieces of Heaven" Quilting Fellowship
DESCRIPTION:
URL:https://www.ghcc4u.org/event/quilting-2020-09/
LOCATION:Granada Hills Community Church\, 11263 Balboa Blvd\, Granada Hills\, CA\, 91344\, United States
CATEGORIES:Fellowship
ATTACH;FMTTYPE=image/jpeg:https://www.ghcc4u.org/wp-content/uploads/2019/02/quilt.jpg
END:VEVENT
BEGIN:VEVENT
DTSTART;TZID=America/Los_Angeles:20200309T090000
DTEND;TZID=America/Los_Angeles:20200309T120000
DTSTAMP:20260423T171457
CREATED:20200224T190823Z
LAST-MODIFIED:20200224T190838Z
UID:29320-1583744400-1583755200@www.ghcc4u.org
SUMMARY:"Pieces of Heaven" Quilting Fellowship
DESCRIPTION:
URL:https://www.ghcc4u.org/event/quilting-2020-08/
LOCATION:Granada Hills Community Church\, 11263 Balboa Blvd\, Granada Hills\, CA\, 91344\, United States
CATEGORIES:Fellowship
ATTACH;FMTTYPE=image/jpeg:https://www.ghcc4u.org/wp-content/uploads/2019/02/quilt.jpg
END:VEVENT
BEGIN:VEVENT
DTSTART;TZID=America/Los_Angeles:20200302T090000
DTEND;TZID=America/Los_Angeles:20200302T120000
DTSTAMP:20260423T171457
CREATED:20200128T194949Z
LAST-MODIFIED:20200128T200005Z
UID:29282-1583139600-1583150400@www.ghcc4u.org
SUMMARY:"Pieces of Heaven" Quilting Fellowship
DESCRIPTION:
URL:https://www.ghcc4u.org/event/quilting-2020-07/
LOCATION:Granada Hills Community Church\, 11263 Balboa Blvd\, Granada Hills\, CA\, 91344\, United States
CATEGORIES:Fellowship
ATTACH;FMTTYPE=image/jpeg:https://www.ghcc4u.org/wp-content/uploads/2019/02/quilt.jpg
END:VEVENT
BEGIN:VEVENT
DTSTART;TZID=America/Los_Angeles:20200224T090000
DTEND;TZID=America/Los_Angeles:20200224T120000
DTSTAMP:20260423T171457
CREATED:20200128T194925Z
LAST-MODIFIED:20200128T200025Z
UID:29280-1582534800-1582545600@www.ghcc4u.org
SUMMARY:"Pieces of Heaven" Quilting Fellowship
DESCRIPTION:
URL:https://www.ghcc4u.org/event/quilting-2020-06/
LOCATION:Granada Hills Community Church\, 11263 Balboa Blvd\, Granada Hills\, CA\, 91344\, United States
CATEGORIES:Fellowship
ATTACH;FMTTYPE=image/jpeg:https://www.ghcc4u.org/wp-content/uploads/2019/02/quilt.jpg
END:VEVENT
BEGIN:VEVENT
DTSTART;TZID=America/Los_Angeles:20200210T090000
DTEND;TZID=America/Los_Angeles:20200210T120000
DTSTAMP:20260423T171457
CREATED:20200128T194856Z
LAST-MODIFIED:20200128T194910Z
UID:29278-1581325200-1581336000@www.ghcc4u.org
SUMMARY:"Pieces of Heaven" Quilting Fellowship
DESCRIPTION:
URL:https://www.ghcc4u.org/event/quilting-2020-05/
LOCATION:Granada Hills Community Church\, 11263 Balboa Blvd\, Granada Hills\, CA\, 91344\, United States
CATEGORIES:Fellowship
ATTACH;FMTTYPE=image/jpeg:https://www.ghcc4u.org/wp-content/uploads/2019/02/quilt.jpg
END:VEVENT
BEGIN:VEVENT
DTSTART;TZID=America/Los_Angeles:20200203T090000
DTEND;TZID=America/Los_Angeles:20200203T120000
DTSTAMP:20260423T171457
CREATED:20191230T234339Z
LAST-MODIFIED:20191231T005619Z
UID:29232-1580720400-1580731200@www.ghcc4u.org
SUMMARY:"Pieces of Heaven" Quilting Fellowship
DESCRIPTION:
URL:https://www.ghcc4u.org/event/quilting-2020-04/
LOCATION:Granada Hills Community Church\, 11263 Balboa Blvd\, Granada Hills\, CA\, 91344\, United States
CATEGORIES:Fellowship
ATTACH;FMTTYPE=image/jpeg:https://www.ghcc4u.org/wp-content/uploads/2019/02/quilt.jpg
END:VEVENT
BEGIN:VEVENT
DTSTART;TZID=America/Los_Angeles:20200127T090000
DTEND;TZID=America/Los_Angeles:20200127T120000
DTSTAMP:20260423T171457
CREATED:20191230T234305Z
LAST-MODIFIED:20191231T005637Z
UID:29230-1580115600-1580126400@www.ghcc4u.org
SUMMARY:"Pieces of Heaven" Quilting Fellowship
DESCRIPTION:
URL:https://www.ghcc4u.org/event/quilting-2020-03/
LOCATION:Granada Hills Community Church\, 11263 Balboa Blvd\, Granada Hills\, CA\, 91344\, United States
CATEGORIES:Fellowship
ATTACH;FMTTYPE=image/jpeg:https://www.ghcc4u.org/wp-content/uploads/2019/02/quilt.jpg
END:VEVENT
BEGIN:VEVENT
DTSTART;TZID=America/Los_Angeles:20200113T090000
DTEND;TZID=America/Los_Angeles:20200113T120000
DTSTAMP:20260423T171457
CREATED:20191230T234235Z
LAST-MODIFIED:20191230T234250Z
UID:29228-1578906000-1578916800@www.ghcc4u.org
SUMMARY:"Pieces of Heaven" Quilting Fellowship
DESCRIPTION:
URL:https://www.ghcc4u.org/event/quilting-2020-02/
LOCATION:Granada Hills Community Church\, 11263 Balboa Blvd\, Granada Hills\, CA\, 91344\, United States
CATEGORIES:Fellowship
ATTACH;FMTTYPE=image/jpeg:https://www.ghcc4u.org/wp-content/uploads/2019/02/quilt.jpg
END:VEVENT
BEGIN:VEVENT
DTSTART;TZID=America/Los_Angeles:20200106T090000
DTEND;TZID=America/Los_Angeles:20200106T120000
DTSTAMP:20260423T171457
CREATED:20191230T234158Z
LAST-MODIFIED:20191230T234215Z
UID:29226-1578301200-1578312000@www.ghcc4u.org
SUMMARY:"Pieces of Heaven" Quilting Fellowship
DESCRIPTION:
URL:https://www.ghcc4u.org/event/quilting-2020-01/
LOCATION:Granada Hills Community Church\, 11263 Balboa Blvd\, Granada Hills\, CA\, 91344\, United States
CATEGORIES:Fellowship
ATTACH;FMTTYPE=image/jpeg:https://www.ghcc4u.org/wp-content/uploads/2019/02/quilt.jpg
END:VEVENT
BEGIN:VEVENT
DTSTART;TZID=America/Los_Angeles:20191216T090000
DTEND;TZID=America/Los_Angeles:20191216T120000
DTSTAMP:20260423T171457
CREATED:20191203T005157Z
LAST-MODIFIED:20191203T005212Z
UID:29196-1576486800-1576497600@www.ghcc4u.org
SUMMARY:"Pieces of Heaven" Quilting Fellowship
DESCRIPTION:
URL:https://www.ghcc4u.org/event/quilting-2019-45/
LOCATION:Granada Hills Community Church\, 11263 Balboa Blvd\, Granada Hills\, CA\, 91344\, United States
CATEGORIES:Fellowship
ATTACH;FMTTYPE=image/jpeg:https://www.ghcc4u.org/wp-content/uploads/2019/02/quilt.jpg
END:VEVENT
BEGIN:VEVENT
DTSTART;TZID=America/Los_Angeles:20191215T170000
DTEND;TZID=America/Los_Angeles:20191215T193000
DTSTAMP:20260423T171457
CREATED:20191203T005407Z
LAST-MODIFIED:20191203T005422Z
UID:29200-1576429200-1576438200@www.ghcc4u.org
SUMMARY:Soup & Sing 2019
DESCRIPTION:Please come join us for a fabulous evening of food\, fellowship\, Christmas carols\, and performances.
URL:https://www.ghcc4u.org/event/soup-and-sing-2019-1/
LOCATION:Granada Hills Community Church\, 11263 Balboa Blvd\, Granada Hills\, CA\, 91344\, United States
CATEGORIES:Fellowship
ATTACH;FMTTYPE=image/jpeg:https://www.ghcc4u.org/wp-content/uploads/2017/11/soup.jpg
END:VEVENT
BEGIN:VEVENT
DTSTART;TZID=America/Los_Angeles:20191209T090000
DTEND;TZID=America/Los_Angeles:20191209T120000
DTSTAMP:20260423T171457
CREATED:20191203T005128Z
LAST-MODIFIED:20191203T005141Z
UID:29194-1575882000-1575892800@www.ghcc4u.org
SUMMARY:"Pieces of Heaven" Quilting Fellowship
DESCRIPTION:
URL:https://www.ghcc4u.org/event/quilting-2019-44/
LOCATION:Granada Hills Community Church\, 11263 Balboa Blvd\, Granada Hills\, CA\, 91344\, United States
CATEGORIES:Fellowship
ATTACH;FMTTYPE=image/jpeg:https://www.ghcc4u.org/wp-content/uploads/2019/02/quilt.jpg
END:VEVENT
BEGIN:VEVENT
DTSTART;TZID=America/Los_Angeles:20191202T090000
DTEND;TZID=America/Los_Angeles:20191202T120000
DTSTAMP:20260423T171457
CREATED:20191203T005054Z
LAST-MODIFIED:20191203T005109Z
UID:29192-1575277200-1575288000@www.ghcc4u.org
SUMMARY:"Pieces of Heaven" Quilting Fellowship
DESCRIPTION:
URL:https://www.ghcc4u.org/event/quilting-2019-43/
LOCATION:Granada Hills Community Church\, 11263 Balboa Blvd\, Granada Hills\, CA\, 91344\, United States
CATEGORIES:Fellowship
ATTACH;FMTTYPE=image/jpeg:https://www.ghcc4u.org/wp-content/uploads/2019/02/quilt.jpg
END:VEVENT
BEGIN:VEVENT
DTSTART;TZID=America/Los_Angeles:20191125T090000
DTEND;TZID=America/Los_Angeles:20191125T120000
DTSTAMP:20260423T171457
CREATED:20191028T165229Z
LAST-MODIFIED:20191028T165305Z
UID:29163-1574672400-1574683200@www.ghcc4u.org
SUMMARY:"Pieces of Heaven" Quilting Fellowship
DESCRIPTION:
URL:https://www.ghcc4u.org/event/quilting-2019-42/
LOCATION:Granada Hills Community Church\, 11263 Balboa Blvd\, Granada Hills\, CA\, 91344\, United States
CATEGORIES:Fellowship
ATTACH;FMTTYPE=image/jpeg:https://www.ghcc4u.org/wp-content/uploads/2019/02/quilt.jpg
END:VEVENT
BEGIN:VEVENT
DTSTART;TZID=America/Los_Angeles:20191118T090000
DTEND;TZID=America/Los_Angeles:20191118T120000
DTSTAMP:20260423T171457
CREATED:20191028T165053Z
LAST-MODIFIED:20191028T165331Z
UID:29161-1574067600-1574078400@www.ghcc4u.org
SUMMARY:"Pieces of Heaven" Quilting Fellowship
DESCRIPTION:
URL:https://www.ghcc4u.org/event/quilting-2019-41/
LOCATION:Granada Hills Community Church\, 11263 Balboa Blvd\, Granada Hills\, CA\, 91344\, United States
CATEGORIES:Fellowship
ATTACH;FMTTYPE=image/jpeg:https://www.ghcc4u.org/wp-content/uploads/2019/02/quilt.jpg
END:VEVENT
BEGIN:VEVENT
DTSTART;TZID=America/Los_Angeles:20191104T090000
DTEND;TZID=America/Los_Angeles:20191104T120000
DTSTAMP:20260423T171457
CREATED:20191028T164730Z
LAST-MODIFIED:20191028T164811Z
UID:29159-1572858000-1572868800@www.ghcc4u.org
SUMMARY:"Pieces of Heaven" Quilting Fellowship
DESCRIPTION:
URL:https://www.ghcc4u.org/event/quilting-2019-40/
LOCATION:Granada Hills Community Church\, 11263 Balboa Blvd\, Granada Hills\, CA\, 91344\, United States
CATEGORIES:Fellowship
ATTACH;FMTTYPE=image/jpeg:https://www.ghcc4u.org/wp-content/uploads/2019/02/quilt.jpg
END:VEVENT
BEGIN:VEVENT
DTSTART;TZID=America/Los_Angeles:20191028T090000
DTEND;TZID=America/Los_Angeles:20191028T120000
DTSTAMP:20260423T171457
CREATED:20190930T194218Z
LAST-MODIFIED:20190930T194232Z
UID:29115-1572253200-1572264000@www.ghcc4u.org
SUMMARY:"Pieces of Heaven" Quilting Fellowship
DESCRIPTION:
URL:https://www.ghcc4u.org/event/quilting-2019-39/
LOCATION:Granada Hills Community Church\, 11263 Balboa Blvd\, Granada Hills\, CA\, 91344\, United States
CATEGORIES:Fellowship
ATTACH;FMTTYPE=image/jpeg:https://www.ghcc4u.org/wp-content/uploads/2019/02/quilt.jpg
END:VEVENT
BEGIN:VEVENT
DTSTART;TZID=America/Los_Angeles:20191021T090000
DTEND;TZID=America/Los_Angeles:20191021T120000
DTSTAMP:20260423T171457
CREATED:20190930T194149Z
LAST-MODIFIED:20190930T194202Z
UID:29113-1571648400-1571659200@www.ghcc4u.org
SUMMARY:"Pieces of Heaven" Quilting Fellowship
DESCRIPTION:
URL:https://www.ghcc4u.org/event/quilting-2019-38/
LOCATION:Granada Hills Community Church\, 11263 Balboa Blvd\, Granada Hills\, CA\, 91344\, United States
CATEGORIES:Fellowship
ATTACH;FMTTYPE=image/jpeg:https://www.ghcc4u.org/wp-content/uploads/2019/02/quilt.jpg
END:VEVENT
BEGIN:VEVENT
DTSTART;TZID=America/Los_Angeles:20191014T090000
DTEND;TZID=America/Los_Angeles:20191014T120000
DTSTAMP:20260423T171457
CREATED:20190930T194118Z
LAST-MODIFIED:20190930T194133Z
UID:29111-1571043600-1571054400@www.ghcc4u.org
SUMMARY:"Pieces of Heaven" Quilting Fellowship
DESCRIPTION:
URL:https://www.ghcc4u.org/event/quilting-2019-37/
LOCATION:Granada Hills Community Church\, 11263 Balboa Blvd\, Granada Hills\, CA\, 91344\, United States
CATEGORIES:Fellowship
ATTACH;FMTTYPE=image/jpeg:https://www.ghcc4u.org/wp-content/uploads/2019/02/quilt.jpg
END:VEVENT
BEGIN:VEVENT
DTSTART;TZID=America/Los_Angeles:20191007T090000
DTEND;TZID=America/Los_Angeles:20191007T120000
DTSTAMP:20260423T171457
CREATED:20190930T194047Z
LAST-MODIFIED:20190930T194103Z
UID:29109-1570438800-1570449600@www.ghcc4u.org
SUMMARY:"Pieces of Heaven" Quilting Fellowship
DESCRIPTION:
URL:https://www.ghcc4u.org/event/quilting-2019-36/
LOCATION:Granada Hills Community Church\, 11263 Balboa Blvd\, Granada Hills\, CA\, 91344\, United States
CATEGORIES:Fellowship
ATTACH;FMTTYPE=image/jpeg:https://www.ghcc4u.org/wp-content/uploads/2019/02/quilt.jpg
END:VEVENT
BEGIN:VEVENT
DTSTART;TZID=America/Los_Angeles:20190930T090000
DTEND;TZID=America/Los_Angeles:20190930T120000
DTSTAMP:20260423T171457
CREATED:20190826T225642Z
LAST-MODIFIED:20190826T225653Z
UID:29016-1569834000-1569844800@www.ghcc4u.org
SUMMARY:"Pieces of Heaven" Quilting Fellowship
DESCRIPTION:
URL:https://www.ghcc4u.org/event/quilting-2019-35/
LOCATION:Granada Hills Community Church\, 11263 Balboa Blvd\, Granada Hills\, CA\, 91344\, United States
CATEGORIES:Fellowship
ATTACH;FMTTYPE=image/jpeg:https://www.ghcc4u.org/wp-content/uploads/2019/02/quilt.jpg
END:VEVENT
BEGIN:VEVENT
DTSTART;TZID=America/Los_Angeles:20190923T090000
DTEND;TZID=America/Los_Angeles:20190923T120000
DTSTAMP:20260423T171457
CREATED:20190826T225616Z
LAST-MODIFIED:20190826T225628Z
UID:29014-1569229200-1569240000@www.ghcc4u.org
SUMMARY:"Pieces of Heaven" Quilting Fellowship
DESCRIPTION:
URL:https://www.ghcc4u.org/event/quilting-2019-34/
LOCATION:Granada Hills Community Church\, 11263 Balboa Blvd\, Granada Hills\, CA\, 91344\, United States
CATEGORIES:Fellowship
ATTACH;FMTTYPE=image/jpeg:https://www.ghcc4u.org/wp-content/uploads/2019/02/quilt.jpg
END:VEVENT
BEGIN:VEVENT
DTSTART;TZID=America/Los_Angeles:20190916T090000
DTEND;TZID=America/Los_Angeles:20190916T120000
DTSTAMP:20260423T171457
CREATED:20190826T225548Z
LAST-MODIFIED:20190826T225602Z
UID:29012-1568624400-1568635200@www.ghcc4u.org
SUMMARY:"Pieces of Heaven" Quilting Fellowship
DESCRIPTION:
URL:https://www.ghcc4u.org/event/quilting-2019-33/
LOCATION:Granada Hills Community Church\, 11263 Balboa Blvd\, Granada Hills\, CA\, 91344\, United States
CATEGORIES:Fellowship
ATTACH;FMTTYPE=image/jpeg:https://www.ghcc4u.org/wp-content/uploads/2019/02/quilt.jpg
END:VEVENT
BEGIN:VEVENT
DTSTART;TZID=America/Los_Angeles:20190909T090000
DTEND;TZID=America/Los_Angeles:20190909T120000
DTSTAMP:20260423T171457
CREATED:20190826T225516Z
LAST-MODIFIED:20190826T225531Z
UID:29010-1568019600-1568030400@www.ghcc4u.org
SUMMARY:"Pieces of Heaven" Quilting Fellowship
DESCRIPTION:
URL:https://www.ghcc4u.org/event/quilting-2019-32/
LOCATION:Granada Hills Community Church\, 11263 Balboa Blvd\, Granada Hills\, CA\, 91344\, United States
CATEGORIES:Fellowship
ATTACH;FMTTYPE=image/jpeg:https://www.ghcc4u.org/wp-content/uploads/2019/02/quilt.jpg
END:VEVENT
BEGIN:VEVENT
DTSTART;TZID=America/Los_Angeles:20190826T090000
DTEND;TZID=America/Los_Angeles:20190826T120000
DTSTAMP:20260423T171457
CREATED:20190801T234443Z
LAST-MODIFIED:20190801T234514Z
UID:28990-1566810000-1566820800@www.ghcc4u.org
SUMMARY:"Pieces of Heaven" Quilting Fellowship
DESCRIPTION:
URL:https://www.ghcc4u.org/event/quilting-2019-31/
LOCATION:Granada Hills Community Church\, 11263 Balboa Blvd\, Granada Hills\, CA\, 91344\, United States
CATEGORIES:Fellowship
ATTACH;FMTTYPE=image/jpeg:https://www.ghcc4u.org/wp-content/uploads/2019/02/quilt.jpg
END:VEVENT
END:VCALENDAR