BEGIN:VCALENDAR
VERSION:2.0
PRODID:-//Granada Hills Community Church - ECPv6.15.20//NONSGML v1.0//EN
CALSCALE:GREGORIAN
METHOD:PUBLISH
X-ORIGINAL-URL:https://www.ghcc4u.org
X-WR-CALDESC:Events for Granada Hills Community Church
REFRESH-INTERVAL;VALUE=DURATION:PT1H
X-Robots-Tag:noindex
X-PUBLISHED-TTL:PT1H
BEGIN:VTIMEZONE
TZID:America/Los_Angeles
BEGIN:DAYLIGHT
TZOFFSETFROM:-0800
TZOFFSETTO:-0700
TZNAME:PDT
DTSTART:20160313T100000
END:DAYLIGHT
BEGIN:STANDARD
TZOFFSETFROM:-0700
TZOFFSETTO:-0800
TZNAME:PST
DTSTART:20161106T090000
END:STANDARD
BEGIN:DAYLIGHT
TZOFFSETFROM:-0800
TZOFFSETTO:-0700
TZNAME:PDT
DTSTART:20170312T100000
END:DAYLIGHT
BEGIN:STANDARD
TZOFFSETFROM:-0700
TZOFFSETTO:-0800
TZNAME:PST
DTSTART:20171105T090000
END:STANDARD
BEGIN:DAYLIGHT
TZOFFSETFROM:-0800
TZOFFSETTO:-0700
TZNAME:PDT
DTSTART:20180311T100000
END:DAYLIGHT
BEGIN:STANDARD
TZOFFSETFROM:-0700
TZOFFSETTO:-0800
TZNAME:PST
DTSTART:20181104T090000
END:STANDARD
END:VTIMEZONE
BEGIN:VEVENT
DTSTART;TZID=America/Los_Angeles:20170510T183000
DTEND;TZID=America/Los_Angeles:20170510T200000
DTSTAMP:20260424T050759
CREATED:20170511T003544Z
LAST-MODIFIED:20170511T003620Z
UID:27307-1494441000-1494446400@www.ghcc4u.org
SUMMARY:Wednesday Night Women's Spring Bible Study
DESCRIPTION:If you’re tired of worrying about all the what-ifs in your life and want to experience the calm and contentment promised in Scripture\, “Calm My Anxious Heart” is what you’ve been looking for.\nThis twelve-week study will help you discover what the Bible says about contentment and apply it to your life.
URL:https://www.ghcc4u.org/event/wednesday-night-womens-spring-bible-study-2017-9/
LOCATION:Granada Hills Community Church\, 11263 Balboa Blvd\, Granada Hills\, CA\, 91344\, United States
CATEGORIES:Bible Study
END:VEVENT
BEGIN:VEVENT
DTSTART;TZID=America/Los_Angeles:20170504T093000
DTEND;TZID=America/Los_Angeles:20170504T113000
DTSTAMP:20260424T050759
CREATED:20170417T212622Z
LAST-MODIFIED:20170417T212702Z
UID:27256-1493890200-1493897400@www.ghcc4u.org
SUMMARY:Thursday Morning Women's Spring Bible Study
DESCRIPTION:If you’re tired of worrying about all the what-ifs in your life and want to experience the calm and contentment promised in Scripture\, “Calm My Anxious Heart” is what you’ve been looking for.\nThis twelve-week study will help you discover what the Bible says about contentment and apply it to your life.
URL:https://www.ghcc4u.org/event/thursday-morning-womens-spring-bible-study-2017-7/
LOCATION:Granada Hills Community Church\, 11263 Balboa Blvd\, Granada Hills\, CA\, 91344\, United States
CATEGORIES:Bible Study
END:VEVENT
BEGIN:VEVENT
DTSTART;TZID=America/Los_Angeles:20170503T183000
DTEND;TZID=America/Los_Angeles:20170503T200000
DTSTAMP:20260424T050759
CREATED:20170417T212016Z
LAST-MODIFIED:20170417T212036Z
UID:27248-1493836200-1493841600@www.ghcc4u.org
SUMMARY:Wednesday Night Women's Spring Bible Study
DESCRIPTION:The city of Corinth was much like the cities of today–full of lots of struggling people. Paul wrote to encourage the early church to share the gospel in spite of their own hardships\, pain\, and struggles. He reminded the new believers that Christ makes all things new!\nIn this eight week study we will enjoy in-depth teaching in our homework and in Kelly’s DVD teaching sessions.
URL:https://www.ghcc4u.org/event/wednesday-night-womens-spring-bible-study-2017-8/
LOCATION:Granada Hills Community Church\, 11263 Balboa Blvd\, Granada Hills\, CA\, 91344\, United States
CATEGORIES:Bible Study
END:VEVENT
BEGIN:VEVENT
DTSTART;TZID=America/Los_Angeles:20170427T093000
DTEND;TZID=America/Los_Angeles:20170427T113000
DTSTAMP:20260424T050759
CREATED:20170327T191917Z
LAST-MODIFIED:20170403T220350Z
UID:27197-1493285400-1493292600@www.ghcc4u.org
SUMMARY:Thursday Morning Women's Spring Bible Study
DESCRIPTION:If you’re tired of worrying about all the what-ifs in your life and want to experience the calm and contentment promised in Scripture\, “Calm My Anxious Heart” is what you’ve been looking for.\nThis twelve-week study will help you discover what the Bible says about contentment and apply it to your life.
URL:https://www.ghcc4u.org/event/thursday-morning-womens-spring-bible-study-2017-6/
LOCATION:Granada Hills Community Church\, 11263 Balboa Blvd\, Granada Hills\, CA\, 91344\, United States
CATEGORIES:Bible Study
END:VEVENT
BEGIN:VEVENT
DTSTART;TZID=America/Los_Angeles:20170426T183000
DTEND;TZID=America/Los_Angeles:20170426T200000
DTSTAMP:20260424T050759
CREATED:20170327T191556Z
LAST-MODIFIED:20170403T215259Z
UID:27189-1493231400-1493236800@www.ghcc4u.org
SUMMARY:Wednesday Night Women's Spring Bible Study
DESCRIPTION:The city of Corinth was much like the cities of today–full of lots of struggling people. Paul wrote to encourage the early church to share the gospel in spite of their own hardships\, pain\, and struggles. He reminded the new believers that Christ makes all things new!\nIn this eight week study we will enjoy in-depth teaching in our homework and in Kelly’s DVD teaching sessions.
URL:https://www.ghcc4u.org/event/wednesday-night-womens-spring-bible-study-2017-7/
LOCATION:Granada Hills Community Church\, 11263 Balboa Blvd\, Granada Hills\, CA\, 91344\, United States
CATEGORIES:Bible Study
END:VEVENT
BEGIN:VEVENT
DTSTART;TZID=America/Los_Angeles:20170420T093000
DTEND;TZID=America/Los_Angeles:20170420T113000
DTSTAMP:20260424T050759
CREATED:20170327T191834Z
LAST-MODIFIED:20170403T215401Z
UID:27195-1492680600-1492687800@www.ghcc4u.org
SUMMARY:Thursday Morning Women's Spring Bible Study
DESCRIPTION:If you’re tired of worrying about all the what-ifs in your life and want to experience the calm and contentment promised in Scripture\, “Calm My Anxious Heart” is what you’ve been looking for.\nThis twelve-week study will help you discover what the Bible says about contentment and apply it to your life.
URL:https://www.ghcc4u.org/event/thursday-morning-womens-spring-bible-study-2017-5/
LOCATION:Granada Hills Community Church\, 11263 Balboa Blvd\, Granada Hills\, CA\, 91344\, United States
CATEGORIES:Bible Study
END:VEVENT
BEGIN:VEVENT
DTSTART;TZID=America/Los_Angeles:20170419T183000
DTEND;TZID=America/Los_Angeles:20170419T200000
DTSTAMP:20260424T050759
CREATED:20170327T191509Z
LAST-MODIFIED:20170403T215229Z
UID:27187-1492626600-1492632000@www.ghcc4u.org
SUMMARY:Wednesday Night Women's Spring Bible Study
DESCRIPTION:The city of Corinth was much like the cities of today–full of lots of struggling people. Paul wrote to encourage the early church to share the gospel in spite of their own hardships\, pain\, and struggles. He reminded the new believers that Christ makes all things new!\nIn this eight week study we will enjoy in-depth teaching in our homework and in Kelly’s DVD teaching sessions.
URL:https://www.ghcc4u.org/event/wednesday-night-womens-spring-bible-study-2017-6/
LOCATION:Granada Hills Community Church\, 11263 Balboa Blvd\, Granada Hills\, CA\, 91344\, United States
CATEGORIES:Bible Study
END:VEVENT
BEGIN:VEVENT
DTSTART;TZID=America/Los_Angeles:20170406T093000
DTEND;TZID=America/Los_Angeles:20170406T113000
DTSTAMP:20260424T050759
CREATED:20170327T191719Z
LAST-MODIFIED:20170327T191735Z
UID:27191-1491471000-1491478200@www.ghcc4u.org
SUMMARY:Thursday Morning Women's Spring Bible Study
DESCRIPTION:If you’re tired of worrying about all the what-ifs in your life and want to experience the calm and contentment promised in Scripture\, “Calm My Anxious Heart” is what you’ve been looking for.\nThis twelve-week study will help you discover what the Bible says about contentment and apply it to your life.
URL:https://www.ghcc4u.org/event/thursday-morning-womens-spring-bible-study-2017-4/
LOCATION:Granada Hills Community Church\, 11263 Balboa Blvd\, Granada Hills\, CA\, 91344\, United States
CATEGORIES:Bible Study
END:VEVENT
BEGIN:VEVENT
DTSTART;TZID=America/Los_Angeles:20170405T183000
DTEND;TZID=America/Los_Angeles:20170405T200000
DTSTAMP:20260424T050759
CREATED:20170327T191337Z
LAST-MODIFIED:20170327T191359Z
UID:27183-1491417000-1491422400@www.ghcc4u.org
SUMMARY:Wednesday Night Women's Spring Bible Study
DESCRIPTION:The city of Corinth was much like the cities of today–full of lots of struggling people. Paul wrote to encourage the early church to share the gospel in spite of their own hardships\, pain\, and struggles. He reminded the new believers that Christ makes all things new!\nIn this eight week study we will enjoy in-depth teaching in our homework and in Kelly’s DVD teaching sessions.
URL:https://www.ghcc4u.org/event/wednesday-night-womens-spring-bible-study-2017-5/
LOCATION:Granada Hills Community Church\, 11263 Balboa Blvd\, Granada Hills\, CA\, 91344\, United States
CATEGORIES:Bible Study
END:VEVENT
BEGIN:VEVENT
DTSTART;TZID=America/Los_Angeles:20170330T093000
DTEND;TZID=America/Los_Angeles:20170330T113000
DTSTAMP:20260424T050759
CREATED:20170301T185520Z
LAST-MODIFIED:20170303T005009Z
UID:27112-1490866200-1490873400@www.ghcc4u.org
SUMMARY:Thursday Morning Women's Spring Bible Study
DESCRIPTION:If you’re tired of worrying about all the what-ifs in your life and want to experience the calm and contentment promised in Scripture\, “Calm My Anxious Heart” is what you’ve been looking for.\nThis twelve-week study will help you discover what the Bible says about contentment and apply it to your life.
URL:https://www.ghcc4u.org/event/thursday-morning-womens-spring-bible-study-2017-3/
LOCATION:Granada Hills Community Church\, 11263 Balboa Blvd\, Granada Hills\, CA\, 91344\, United States
CATEGORIES:Bible Study
END:VEVENT
BEGIN:VEVENT
DTSTART;TZID=America/Los_Angeles:20170329T183000
DTEND;TZID=America/Los_Angeles:20170329T200000
DTSTAMP:20260424T050759
CREATED:20170302T181955Z
LAST-MODIFIED:20170302T182014Z
UID:27121-1490812200-1490817600@www.ghcc4u.org
SUMMARY:Wednesday Night Women's Spring Bible Study
DESCRIPTION:The city of Corinth was much like the cities of today–full of lots of struggling people. Paul wrote to encourage the early church to share the gospel in spite of their own hardships\, pain\, and struggles. He reminded the new believers that Christ makes all things new!\nIn this eight week study we will enjoy in-depth teaching in our homework and in Kelly’s DVD teaching sessions.
URL:https://www.ghcc4u.org/event/wednesday-night-womens-spring-bible-study-2017-4/
LOCATION:Granada Hills Community Church\, 11263 Balboa Blvd\, Granada Hills\, CA\, 91344\, United States
CATEGORIES:Bible Study
END:VEVENT
BEGIN:VEVENT
DTSTART;TZID=America/Los_Angeles:20170323T093000
DTEND;TZID=America/Los_Angeles:20170323T113000
DTSTAMP:20260424T050759
CREATED:20170301T185436Z
LAST-MODIFIED:20170303T004945Z
UID:27110-1490261400-1490268600@www.ghcc4u.org
SUMMARY:Thursday Morning Women's Spring Bible Study
DESCRIPTION:If you’re tired of worrying about all the what-ifs in your life and want to experience the calm and contentment promised in Scripture\, “Calm My Anxious Heart” is what you’ve been looking for.\nThis twelve-week study will help you discover what the Bible says about contentment and apply it to your life.
URL:https://www.ghcc4u.org/event/thursday-morning-womens-spring-bible-study-2017-2/
LOCATION:Granada Hills Community Church\, 11263 Balboa Blvd\, Granada Hills\, CA\, 91344\, United States
CATEGORIES:Bible Study
END:VEVENT
BEGIN:VEVENT
DTSTART;TZID=America/Los_Angeles:20170322T183000
DTEND;TZID=America/Los_Angeles:20170322T200000
DTSTAMP:20260424T050759
CREATED:20170302T181906Z
LAST-MODIFIED:20170302T181927Z
UID:27119-1490207400-1490212800@www.ghcc4u.org
SUMMARY:Wednesday Night Women's Spring Bible Study
DESCRIPTION:The city of Corinth was much like the cities of today–full of lots of struggling people. Paul wrote to encourage the early church to share the gospel in spite of their own hardships\, pain\, and struggles. He reminded the new believers that Christ makes all things new!\nIn this eight week study we will enjoy in-depth teaching in our homework and in Kelly’s DVD teaching sessions.
URL:https://www.ghcc4u.org/event/wednesday-night-womens-spring-bible-study-2017-3/
LOCATION:Granada Hills Community Church\, 11263 Balboa Blvd\, Granada Hills\, CA\, 91344\, United States
CATEGORIES:Bible Study
END:VEVENT
BEGIN:VEVENT
DTSTART;TZID=America/Los_Angeles:20170316T093000
DTEND;TZID=America/Los_Angeles:20170316T113000
DTSTAMP:20260424T050759
CREATED:20170301T185112Z
LAST-MODIFIED:20170303T004752Z
UID:27108-1489656600-1489663800@www.ghcc4u.org
SUMMARY:Thursday Morning Women's Spring Bible Study
DESCRIPTION:If you’re tired of worrying about all the what-ifs in your life and want to experience the calm and contentment promised in Scripture\, “Calm My Anxious Heart” is what you’ve been looking for.\nThis twelve-week study will help you discover what the Bible says about contentment and apply it to your life.
URL:https://www.ghcc4u.org/event/thursday-morning-womens-spring-bible-study-2017-1/
LOCATION:Granada Hills Community Church\, 11263 Balboa Blvd\, Granada Hills\, CA\, 91344\, United States
CATEGORIES:Bible Study
END:VEVENT
BEGIN:VEVENT
DTSTART;TZID=America/Los_Angeles:20170315T183000
DTEND;TZID=America/Los_Angeles:20170315T200000
DTSTAMP:20260424T050759
CREATED:20170302T181804Z
LAST-MODIFIED:20170302T181832Z
UID:27117-1489602600-1489608000@www.ghcc4u.org
SUMMARY:Wednesday Night Women's Spring Bible Study
DESCRIPTION:The city of Corinth was much like the cities of today–full of lots of struggling people. Paul wrote to encourage the early church to share the gospel in spite of their own hardships\, pain\, and struggles. He reminded the new believers that Christ makes all things new!\nIn this eight week study we will enjoy in-depth teaching in our homework and in Kelly’s DVD teaching sessions.
URL:https://www.ghcc4u.org/event/wednesday-night-womens-spring-bible-study-2017-2/
LOCATION:Granada Hills Community Church\, 11263 Balboa Blvd\, Granada Hills\, CA\, 91344\, United States
CATEGORIES:Bible Study
END:VEVENT
BEGIN:VEVENT
DTSTART;TZID=America/Los_Angeles:20170308T183000
DTEND;TZID=America/Los_Angeles:20170308T200000
DTSTAMP:20260424T050759
CREATED:20170302T181329Z
LAST-MODIFIED:20170302T181601Z
UID:27114-1488997800-1489003200@www.ghcc4u.org
SUMMARY:Wednesday Night Women's Spring Bible Study
DESCRIPTION:The city of Corinth was much like the cities of today–full of lots of struggling people. Paul wrote to encourage the early church to share the gospel in spite of their own hardships\, pain\, and struggles. He reminded the new believers that Christ makes all things new!\nIn this eight week study we will enjoy in-depth teaching in our homework and in Kelly’s DVD teaching sessions.
URL:https://www.ghcc4u.org/event/wednesday-night-womens-spring-bible-study-2017-1/
LOCATION:Granada Hills Community Church\, 11263 Balboa Blvd\, Granada Hills\, CA\, 91344\, United States
CATEGORIES:Bible Study
END:VEVENT
BEGIN:VEVENT
DTSTART;TZID=America/Los_Angeles:20170302T093000
DTEND;TZID=America/Los_Angeles:20170302T113000
DTSTAMP:20260424T050759
CREATED:20170301T183118Z
LAST-MODIFIED:20170301T184529Z
UID:27104-1488447000-1488454200@www.ghcc4u.org
SUMMARY:Thursday Morning Women's Winter Bible Study
DESCRIPTION:
URL:https://www.ghcc4u.org/event/thursday-morning-womens-winter-bible-study-2017-9/
LOCATION:Granada Hills Community Church\, 11263 Balboa Blvd\, Granada Hills\, CA\, 91344\, United States
CATEGORIES:Bible Study
END:VEVENT
BEGIN:VEVENT
DTSTART;TZID=America/Los_Angeles:20170301T183000
DTEND;TZID=America/Los_Angeles:20170301T200000
DTSTAMP:20260424T050759
CREATED:20170301T182317Z
LAST-MODIFIED:20170301T182340Z
UID:27092-1488393000-1488398400@www.ghcc4u.org
SUMMARY:Wednesday Night Women's Winter Bible Study
DESCRIPTION:
URL:https://www.ghcc4u.org/event/wednesday-night-womens-winter-bible-study-2017-8/
LOCATION:Granada Hills Community Church\, 11263 Balboa Blvd\, Granada Hills\, CA\, 91344\, United States
CATEGORIES:Bible Study
END:VEVENT
BEGIN:VEVENT
DTSTART;TZID=America/Los_Angeles:20170226T090000
DTEND;TZID=America/Los_Angeles:20170226T100000
DTSTAMP:20260424T050759
CREATED:20170126T181512Z
LAST-MODIFIED:20170126T181533Z
UID:27037-1488099600-1488103200@www.ghcc4u.org
SUMMARY:Sunday Morning Women's Winter Bible Study
DESCRIPTION:
URL:https://www.ghcc4u.org/event/sunday-morning-womens-winter-bible-study-2017-7/
LOCATION:Granada Hills Community Church\, 11263 Balboa Blvd\, Granada Hills\, CA\, 91344\, United States
CATEGORIES:Bible Study
END:VEVENT
BEGIN:VEVENT
DTSTART;TZID=America/Los_Angeles:20170223T093000
DTEND;TZID=America/Los_Angeles:20170223T113000
DTSTAMP:20260424T050759
CREATED:20170126T180542Z
LAST-MODIFIED:20170126T180603Z
UID:27021-1487842200-1487849400@www.ghcc4u.org
SUMMARY:Thursday Morning Women's Winter Bible Study
DESCRIPTION:
URL:https://www.ghcc4u.org/event/thursday-morning-womens-winter-bible-study-2017-7/
LOCATION:Granada Hills Community Church\, 11263 Balboa Blvd\, Granada Hills\, CA\, 91344\, United States
CATEGORIES:Bible Study
END:VEVENT
BEGIN:VEVENT
DTSTART;TZID=America/Los_Angeles:20170222T183000
DTEND;TZID=America/Los_Angeles:20170222T200000
DTSTAMP:20260424T050759
CREATED:20170126T180023Z
LAST-MODIFIED:20170126T180046Z
UID:27013-1487788200-1487793600@www.ghcc4u.org
SUMMARY:Wednesday Night Women's Winter Bible Study
DESCRIPTION:
URL:https://www.ghcc4u.org/event/wednesday-night-womens-winter-bible-study-2017-7/
LOCATION:Granada Hills Community Church\, 11263 Balboa Blvd\, Granada Hills\, CA\, 91344\, United States
CATEGORIES:Bible Study
END:VEVENT
BEGIN:VEVENT
DTSTART;TZID=America/Los_Angeles:20170219T090000
DTEND;TZID=America/Los_Angeles:20170219T100000
DTSTAMP:20260424T050759
CREATED:20170126T181422Z
LAST-MODIFIED:20170126T181445Z
UID:27035-1487494800-1487498400@www.ghcc4u.org
SUMMARY:Sunday Morning Women's Winter Bible Study
DESCRIPTION:
URL:https://www.ghcc4u.org/event/sunday-morning-womens-winter-bible-study-2017-6/
LOCATION:Granada Hills Community Church\, 11263 Balboa Blvd\, Granada Hills\, CA\, 91344\, United States
CATEGORIES:Bible Study
END:VEVENT
BEGIN:VEVENT
DTSTART;TZID=America/Los_Angeles:20170216T093000
DTEND;TZID=America/Los_Angeles:20170216T113000
DTSTAMP:20260424T050759
CREATED:20170126T180432Z
LAST-MODIFIED:20170126T180458Z
UID:27019-1487237400-1487244600@www.ghcc4u.org
SUMMARY:Thursday Morning Women's Winter Bible Study
DESCRIPTION:
URL:https://www.ghcc4u.org/event/thursday-morning-womens-winter-bible-study-2017-6/
LOCATION:Granada Hills Community Church\, 11263 Balboa Blvd\, Granada Hills\, CA\, 91344\, United States
CATEGORIES:Bible Study
END:VEVENT
BEGIN:VEVENT
DTSTART;TZID=America/Los_Angeles:20170215T183000
DTEND;TZID=America/Los_Angeles:20170215T200000
DTSTAMP:20260424T050759
CREATED:20170126T175926Z
LAST-MODIFIED:20170126T175950Z
UID:27011-1487183400-1487188800@www.ghcc4u.org
SUMMARY:Wednesday Night Women's Winter Bible Study
DESCRIPTION:
URL:https://www.ghcc4u.org/event/wednesday-night-womens-winter-bible-study-2017-6/
LOCATION:Granada Hills Community Church\, 11263 Balboa Blvd\, Granada Hills\, CA\, 91344\, United States
CATEGORIES:Bible Study
END:VEVENT
BEGIN:VEVENT
DTSTART;TZID=America/Los_Angeles:20170212T090000
DTEND;TZID=America/Los_Angeles:20170212T100000
DTSTAMP:20260424T050759
CREATED:20170126T181310Z
LAST-MODIFIED:20170126T181353Z
UID:27033-1486890000-1486893600@www.ghcc4u.org
SUMMARY:Sunday Morning Women's Winter Bible Study
DESCRIPTION:
URL:https://www.ghcc4u.org/event/sunday-morning-womens-winter-bible-study-2017-5/
LOCATION:Granada Hills Community Church\, 11263 Balboa Blvd\, Granada Hills\, CA\, 91344\, United States
CATEGORIES:Bible Study
END:VEVENT
BEGIN:VEVENT
DTSTART;TZID=America/Los_Angeles:20170209T093000
DTEND;TZID=America/Los_Angeles:20170209T113000
DTSTAMP:20260424T050759
CREATED:20170126T180311Z
LAST-MODIFIED:20170126T180358Z
UID:27017-1486632600-1486639800@www.ghcc4u.org
SUMMARY:Thursday Morning Women's Winter Bible Study
DESCRIPTION:
URL:https://www.ghcc4u.org/event/thursday-morning-womens-winter-bible-study-2017-5/
LOCATION:Granada Hills Community Church\, 11263 Balboa Blvd\, Granada Hills\, CA\, 91344\, United States
CATEGORIES:Bible Study
END:VEVENT
BEGIN:VEVENT
DTSTART;TZID=America/Los_Angeles:20170208T183000
DTEND;TZID=America/Los_Angeles:20170208T200000
DTSTAMP:20260424T050759
CREATED:20170126T175829Z
LAST-MODIFIED:20170126T175853Z
UID:27009-1486578600-1486584000@www.ghcc4u.org
SUMMARY:Wednesday Night Women's Winter Bible Study
DESCRIPTION:
URL:https://www.ghcc4u.org/event/wednesday-night-womens-winter-bible-study-2017-5/
LOCATION:Granada Hills Community Church\, 11263 Balboa Blvd\, Granada Hills\, CA\, 91344\, United States
CATEGORIES:Bible Study
END:VEVENT
BEGIN:VEVENT
DTSTART;TZID=America/Los_Angeles:20170205T090000
DTEND;TZID=America/Los_Angeles:20170205T100000
DTSTAMP:20260424T050759
CREATED:20170126T181222Z
LAST-MODIFIED:20170126T181251Z
UID:27031-1486285200-1486288800@www.ghcc4u.org
SUMMARY:Sunday Morning Women's Winter Bible Study
DESCRIPTION:
URL:https://www.ghcc4u.org/event/sunday-morning-womens-winter-bible-study-2017-4/
LOCATION:Granada Hills Community Church\, 11263 Balboa Blvd\, Granada Hills\, CA\, 91344\, United States
CATEGORIES:Bible Study
END:VEVENT
BEGIN:VEVENT
DTSTART;TZID=America/Los_Angeles:20170202T093000
DTEND;TZID=America/Los_Angeles:20170202T113000
DTSTAMP:20260424T050759
CREATED:20170126T180215Z
LAST-MODIFIED:20170126T180242Z
UID:27015-1486027800-1486035000@www.ghcc4u.org
SUMMARY:Thursday Morning Women's Winter Bible Study
DESCRIPTION:
URL:https://www.ghcc4u.org/event/thursday-morning-womens-winter-bible-study-2017-4/
LOCATION:Granada Hills Community Church\, 11263 Balboa Blvd\, Granada Hills\, CA\, 91344\, United States
CATEGORIES:Bible Study
END:VEVENT
BEGIN:VEVENT
DTSTART;TZID=America/Los_Angeles:20170201T183000
DTEND;TZID=America/Los_Angeles:20170201T200000
DTSTAMP:20260424T050759
CREATED:20170126T175730Z
LAST-MODIFIED:20170126T175758Z
UID:27007-1485973800-1485979200@www.ghcc4u.org
SUMMARY:Wednesday Night Women's Winter Bible Study
DESCRIPTION:
URL:https://www.ghcc4u.org/event/wednesday-night-womens-winter-bible-study-2017-4/
LOCATION:Granada Hills Community Church\, 11263 Balboa Blvd\, Granada Hills\, CA\, 91344\, United States
CATEGORIES:Bible Study
END:VEVENT
END:VCALENDAR