BEGIN:VCALENDAR
VERSION:2.0
PRODID:-//Granada Hills Community Church - ECPv6.15.20//NONSGML v1.0//EN
CALSCALE:GREGORIAN
METHOD:PUBLISH
X-ORIGINAL-URL:https://www.ghcc4u.org
X-WR-CALDESC:Events for Granada Hills Community Church
REFRESH-INTERVAL;VALUE=DURATION:PT1H
X-Robots-Tag:noindex
X-PUBLISHED-TTL:PT1H
BEGIN:VTIMEZONE
TZID:America/Los_Angeles
BEGIN:DAYLIGHT
TZOFFSETFROM:-0800
TZOFFSETTO:-0700
TZNAME:PDT
DTSTART:20160313T100000
END:DAYLIGHT
BEGIN:STANDARD
TZOFFSETFROM:-0700
TZOFFSETTO:-0800
TZNAME:PST
DTSTART:20161106T090000
END:STANDARD
BEGIN:DAYLIGHT
TZOFFSETFROM:-0800
TZOFFSETTO:-0700
TZNAME:PDT
DTSTART:20170312T100000
END:DAYLIGHT
BEGIN:STANDARD
TZOFFSETFROM:-0700
TZOFFSETTO:-0800
TZNAME:PST
DTSTART:20171105T090000
END:STANDARD
BEGIN:DAYLIGHT
TZOFFSETFROM:-0800
TZOFFSETTO:-0700
TZNAME:PDT
DTSTART:20180311T100000
END:DAYLIGHT
BEGIN:STANDARD
TZOFFSETFROM:-0700
TZOFFSETTO:-0800
TZNAME:PST
DTSTART:20181104T090000
END:STANDARD
END:VTIMEZONE
BEGIN:VEVENT
DTSTART;TZID=America/Los_Angeles:20170928T093000
DTEND;TZID=America/Los_Angeles:20170928T113000
DTSTAMP:20260424T015512
CREATED:20170828T174041Z
LAST-MODIFIED:20170828T174100Z
UID:27549-1506591000-1506598200@www.ghcc4u.org
SUMMARY:Thursday Morning Women's Fall Bible Study
DESCRIPTION:Peter\, an eyewitness to the life of Christ\, challenges us to look beyond our present circumstances and focus on the marvelous inheritance we have as believers. This is an in depth\, verse by verse\, study describing our true identity in Christ.\nThis 9-week study will challenge you to live a life of humility and submission.
URL:https://www.ghcc4u.org/event/thursday-morning-womens-fall-bible-study-2017-3/
LOCATION:Granada Hills Community Church\, 11263 Balboa Blvd\, Granada Hills\, CA\, 91344\, United States
CATEGORIES:Bible Study
ATTACH;FMTTYPE=image/jpeg:https://www.ghcc4u.org/wp-content/uploads/2017/08/jen-wilkin.jpg
END:VEVENT
BEGIN:VEVENT
DTSTART;TZID=America/Los_Angeles:20170927T183000
DTEND;TZID=America/Los_Angeles:20170927T200000
DTSTAMP:20260424T015512
CREATED:20170828T173652Z
LAST-MODIFIED:20170828T173718Z
UID:27543-1506537000-1506542400@www.ghcc4u.org
SUMMARY:Wednesday Night Women's Fall Bible Study
DESCRIPTION:Peter\, an eyewitness to the life of Christ\, challenges us to look beyond our present circumstances and focus on the marvelous inheritance we have as believers. This is an in depth\, verse by verse\, study describing our true identity in Christ.\nThis 9-week study will challenge you to live a life of humility and submission.
URL:https://www.ghcc4u.org/event/wednesday-night-womens-fall-bible-study-2017-3/
LOCATION:Granada Hills Community Church\, 11263 Balboa Blvd\, Granada Hills\, CA\, 91344\, United States
CATEGORIES:Bible Study
ATTACH;FMTTYPE=image/jpeg:https://www.ghcc4u.org/wp-content/uploads/2017/08/jen-wilkin.jpg
END:VEVENT
BEGIN:VEVENT
DTSTART;TZID=America/Los_Angeles:20170921T093000
DTEND;TZID=America/Los_Angeles:20170921T113000
DTSTAMP:20260424T015512
CREATED:20170828T173959Z
LAST-MODIFIED:20170828T174018Z
UID:27547-1505986200-1505993400@www.ghcc4u.org
SUMMARY:Thursday Morning Women's Fall Bible Study
DESCRIPTION:Peter\, an eyewitness to the life of Christ\, challenges us to look beyond our present circumstances and focus on the marvelous inheritance we have as believers. This is an in depth\, verse by verse\, study describing our true identity in Christ.\nThis 9-week study will challenge you to live a life of humility and submission.
URL:https://www.ghcc4u.org/event/thursday-morning-womens-fall-bible-study-2017-2/
LOCATION:Granada Hills Community Church\, 11263 Balboa Blvd\, Granada Hills\, CA\, 91344\, United States
CATEGORIES:Bible Study
ATTACH;FMTTYPE=image/jpeg:https://www.ghcc4u.org/wp-content/uploads/2017/08/jen-wilkin.jpg
END:VEVENT
BEGIN:VEVENT
DTSTART;TZID=America/Los_Angeles:20170920T183000
DTEND;TZID=America/Los_Angeles:20170920T200000
DTSTAMP:20260424T015512
CREATED:20170828T173611Z
LAST-MODIFIED:20170828T173629Z
UID:27541-1505932200-1505937600@www.ghcc4u.org
SUMMARY:Wednesday Night Women's Fall Bible Study
DESCRIPTION:Peter\, an eyewitness to the life of Christ\, challenges us to look beyond our present circumstances and focus on the marvelous inheritance we have as believers. This is an in depth\, verse by verse\, study describing our true identity in Christ.\nThis 9-week study will challenge you to live a life of humility and submission.
URL:https://www.ghcc4u.org/event/wednesday-night-womens-fall-bible-study-2017-2/
LOCATION:Granada Hills Community Church\, 11263 Balboa Blvd\, Granada Hills\, CA\, 91344\, United States
CATEGORIES:Bible Study
ATTACH;FMTTYPE=image/jpeg:https://www.ghcc4u.org/wp-content/uploads/2017/08/jen-wilkin.jpg
END:VEVENT
BEGIN:VEVENT
DTSTART;TZID=America/Los_Angeles:20170914T093000
DTEND;TZID=America/Los_Angeles:20170914T113000
DTSTAMP:20260424T015512
CREATED:20170828T173906Z
LAST-MODIFIED:20170828T173936Z
UID:27545-1505381400-1505388600@www.ghcc4u.org
SUMMARY:Thursday Morning Women's Fall Bible Study
DESCRIPTION:Peter\, an eyewitness to the life of Christ\, challenges us to look beyond our present circumstances and focus on the marvelous inheritance we have as believers. This is an in depth\, verse by verse\, study describing our true identity in Christ.\nThis 9-week study will challenge you to live a life of humility and submission.
URL:https://www.ghcc4u.org/event/thursday-morning-womens-fall-bible-study-2017-1/
LOCATION:Granada Hills Community Church\, 11263 Balboa Blvd\, Granada Hills\, CA\, 91344\, United States
CATEGORIES:Bible Study
ATTACH;FMTTYPE=image/jpeg:https://www.ghcc4u.org/wp-content/uploads/2017/08/jen-wilkin.jpg
END:VEVENT
BEGIN:VEVENT
DTSTART;TZID=America/Los_Angeles:20170913T183000
DTEND;TZID=America/Los_Angeles:20170913T200000
DTSTAMP:20260424T015512
CREATED:20170828T173502Z
LAST-MODIFIED:20170828T173532Z
UID:27539-1505327400-1505332800@www.ghcc4u.org
SUMMARY:Wednesday Night Women's Fall Bible Study
DESCRIPTION:Peter\, an eyewitness to the life of Christ\, challenges us to look beyond our present circumstances and focus on the marvelous inheritance we have as believers. This is an in depth\, verse by verse\, study describing our true identity in Christ.\nThis 9-week study will challenge you to live a life of humility and submission.
URL:https://www.ghcc4u.org/event/wednesday-night-womens-fall-bible-study-2017-1/
LOCATION:Granada Hills Community Church\, 11263 Balboa Blvd\, Granada Hills\, CA\, 91344\, United States
CATEGORIES:Bible Study
ATTACH;FMTTYPE=image/jpeg:https://www.ghcc4u.org/wp-content/uploads/2017/08/jen-wilkin.jpg
END:VEVENT
BEGIN:VEVENT
DTSTART;TZID=America/Los_Angeles:20170802T183000
DTEND;TZID=America/Los_Angeles:20170802T200000
DTSTAMP:20260424T015512
CREATED:20170629T004306Z
LAST-MODIFIED:20170629T004323Z
UID:27461-1501698600-1501704000@www.ghcc4u.org
SUMMARY:Wednesday Night Women's Summer Bible Study
DESCRIPTION:If you’re tired of worrying about all the what-ifs in your life and want to experience the calm and contentment promised in Scripture\, “Calm My Anxious Heart” is what you’ve been looking for.\nThis twelve-week study will help you discover what the Bible says about contentment and apply it to your life.
URL:https://www.ghcc4u.org/event/wednesday-night-womens-summer-bible-study-2017-5/
LOCATION:Granada Hills Community Church\, 11263 Balboa Blvd\, Granada Hills\, CA\, 91344\, United States
CATEGORIES:Bible Study
END:VEVENT
BEGIN:VEVENT
DTSTART;TZID=America/Los_Angeles:20170726T183000
DTEND;TZID=America/Los_Angeles:20170726T200000
DTSTAMP:20260424T015512
CREATED:20170621T215634Z
LAST-MODIFIED:20170629T003809Z
UID:27418-1501093800-1501099200@www.ghcc4u.org
SUMMARY:Wednesday Night Women's Summer Bible Study
DESCRIPTION:If you’re tired of worrying about all the what-ifs in your life and want to experience the calm and contentment promised in Scripture\, “Calm My Anxious Heart” is what you’ve been looking for.\nThis twelve-week study will help you discover what the Bible says about contentment and apply it to your life.
URL:https://www.ghcc4u.org/event/wednesday-night-womens-summer-bible-study-2017-4/
LOCATION:Granada Hills Community Church\, 11263 Balboa Blvd\, Granada Hills\, CA\, 91344\, United States
CATEGORIES:Bible Study
END:VEVENT
BEGIN:VEVENT
DTSTART;TZID=America/Los_Angeles:20170719T183000
DTEND;TZID=America/Los_Angeles:20170719T200000
DTSTAMP:20260424T015512
CREATED:20170621T215547Z
LAST-MODIFIED:20170629T003745Z
UID:27416-1500489000-1500494400@www.ghcc4u.org
SUMMARY:Wednesday Night Women's Summer Bible Study
DESCRIPTION:If you’re tired of worrying about all the what-ifs in your life and want to experience the calm and contentment promised in Scripture\, “Calm My Anxious Heart” is what you’ve been looking for.\nThis twelve-week study will help you discover what the Bible says about contentment and apply it to your life.
URL:https://www.ghcc4u.org/event/wednesday-night-womens-summer-bible-study-2017-3/
LOCATION:Granada Hills Community Church\, 11263 Balboa Blvd\, Granada Hills\, CA\, 91344\, United States
CATEGORIES:Bible Study
END:VEVENT
BEGIN:VEVENT
DTSTART;TZID=America/Los_Angeles:20170712T183000
DTEND;TZID=America/Los_Angeles:20170712T200000
DTSTAMP:20260424T015512
CREATED:20170621T215504Z
LAST-MODIFIED:20170629T003716Z
UID:27414-1499884200-1499889600@www.ghcc4u.org
SUMMARY:Wednesday Night Women's Summer Bible Study
DESCRIPTION:If you’re tired of worrying about all the what-ifs in your life and want to experience the calm and contentment promised in Scripture\, “Calm My Anxious Heart” is what you’ve been looking for.\nThis twelve-week study will help you discover what the Bible says about contentment and apply it to your life.
URL:https://www.ghcc4u.org/event/wednesday-night-womens-summer-bible-study-2017-2/
LOCATION:Granada Hills Community Church\, 11263 Balboa Blvd\, Granada Hills\, CA\, 91344\, United States
CATEGORIES:Bible Study
END:VEVENT
BEGIN:VEVENT
DTSTART;TZID=America/Los_Angeles:20170705T183000
DTEND;TZID=America/Los_Angeles:20170705T200000
DTSTAMP:20260424T015512
CREATED:20170621T215131Z
LAST-MODIFIED:20170629T003644Z
UID:27410-1499279400-1499284800@www.ghcc4u.org
SUMMARY:Wednesday Night Women's Summer Bible Study
DESCRIPTION:If you’re tired of worrying about all the what-ifs in your life and want to experience the calm and contentment promised in Scripture\, “Calm My Anxious Heart” is what you’ve been looking for.\nThis twelve-week study will help you discover what the Bible says about contentment and apply it to your life.
URL:https://www.ghcc4u.org/event/wednesday-night-womens-summer-bible-study-2017-1/
LOCATION:Granada Hills Community Church\, 11263 Balboa Blvd\, Granada Hills\, CA\, 91344\, United States
CATEGORIES:Bible Study
END:VEVENT
BEGIN:VEVENT
DTSTART;TZID=America/Los_Angeles:20170621T183000
DTEND;TZID=America/Los_Angeles:20170621T200000
DTSTAMP:20260424T015512
CREATED:20170529T193833Z
LAST-MODIFIED:20170529T193851Z
UID:27333-1498069800-1498075200@www.ghcc4u.org
SUMMARY:Wednesday Night Women's Spring Bible Study
DESCRIPTION:If you’re tired of worrying about all the what-ifs in your life and want to experience the calm and contentment promised in Scripture\, “Calm My Anxious Heart” is what you’ve been looking for.\nThis twelve-week study will help you discover what the Bible says about contentment and apply it to your life.
URL:https://www.ghcc4u.org/event/wednesday-night-womens-spring-bible-study-2017-14/
LOCATION:Granada Hills Community Church\, 11263 Balboa Blvd\, Granada Hills\, CA\, 91344\, United States
CATEGORIES:Bible Study
END:VEVENT
BEGIN:VEVENT
DTSTART;TZID=America/Los_Angeles:20170614T183000
DTEND;TZID=America/Los_Angeles:20170614T200000
DTSTAMP:20260424T015512
CREATED:20170529T193755Z
LAST-MODIFIED:20170529T193811Z
UID:27331-1497465000-1497470400@www.ghcc4u.org
SUMMARY:Wednesday Night Women's Spring Bible Study
DESCRIPTION:If you’re tired of worrying about all the what-ifs in your life and want to experience the calm and contentment promised in Scripture\, “Calm My Anxious Heart” is what you’ve been looking for.\nThis twelve-week study will help you discover what the Bible says about contentment and apply it to your life.
URL:https://www.ghcc4u.org/event/wednesday-night-womens-spring-bible-study-2017-13/
LOCATION:Granada Hills Community Church\, 11263 Balboa Blvd\, Granada Hills\, CA\, 91344\, United States
CATEGORIES:Bible Study
END:VEVENT
BEGIN:VEVENT
DTSTART;TZID=America/Los_Angeles:20170608T093000
DTEND;TZID=America/Los_Angeles:20170608T113000
DTSTAMP:20260424T015512
CREATED:20170529T194114Z
LAST-MODIFIED:20170529T194132Z
UID:27339-1496914200-1496921400@www.ghcc4u.org
SUMMARY:Thursday Morning Women's Spring Bible Study
DESCRIPTION:If you’re tired of worrying about all the what-ifs in your life and want to experience the calm and contentment promised in Scripture\, “Calm My Anxious Heart” is what you’ve been looking for.\nThis twelve-week study will help you discover what the Bible says about contentment and apply it to your life.
URL:https://www.ghcc4u.org/event/thursday-morning-womens-spring-bible-study-2017-11/
LOCATION:Granada Hills Community Church\, 11263 Balboa Blvd\, Granada Hills\, CA\, 91344\, United States
CATEGORIES:Bible Study
END:VEVENT
BEGIN:VEVENT
DTSTART;TZID=America/Los_Angeles:20170607T183000
DTEND;TZID=America/Los_Angeles:20170607T200000
DTSTAMP:20260424T015512
CREATED:20170529T193704Z
LAST-MODIFIED:20170529T193729Z
UID:27329-1496860200-1496865600@www.ghcc4u.org
SUMMARY:Wednesday Night Women's Spring Bible Study
DESCRIPTION:If you’re tired of worrying about all the what-ifs in your life and want to experience the calm and contentment promised in Scripture\, “Calm My Anxious Heart” is what you’ve been looking for.\nThis twelve-week study will help you discover what the Bible says about contentment and apply it to your life.
URL:https://www.ghcc4u.org/event/wednesday-night-womens-spring-bible-study-2017-12/
LOCATION:Granada Hills Community Church\, 11263 Balboa Blvd\, Granada Hills\, CA\, 91344\, United States
CATEGORIES:Bible Study
END:VEVENT
BEGIN:VEVENT
DTSTART;TZID=America/Los_Angeles:20170601T093000
DTEND;TZID=America/Los_Angeles:20170601T113000
DTSTAMP:20260424T015512
CREATED:20170529T194032Z
LAST-MODIFIED:20170529T194052Z
UID:27337-1496309400-1496316600@www.ghcc4u.org
SUMMARY:Thursday Morning Women's Spring Bible Study
DESCRIPTION:If you’re tired of worrying about all the what-ifs in your life and want to experience the calm and contentment promised in Scripture\, “Calm My Anxious Heart” is what you’ve been looking for.\nThis twelve-week study will help you discover what the Bible says about contentment and apply it to your life.
URL:https://www.ghcc4u.org/event/thursday-morning-womens-spring-bible-study-2017-10/
LOCATION:Granada Hills Community Church\, 11263 Balboa Blvd\, Granada Hills\, CA\, 91344\, United States
CATEGORIES:Bible Study
END:VEVENT
BEGIN:VEVENT
DTSTART;TZID=America/Los_Angeles:20170531T183000
DTEND;TZID=America/Los_Angeles:20170531T200000
DTSTAMP:20260424T015512
CREATED:20170511T003845Z
LAST-MODIFIED:20170511T003901Z
UID:27311-1496255400-1496260800@www.ghcc4u.org
SUMMARY:Wednesday Night Women's Spring Bible Study
DESCRIPTION:If you’re tired of worrying about all the what-ifs in your life and want to experience the calm and contentment promised in Scripture\, “Calm My Anxious Heart” is what you’ve been looking for.\nThis twelve-week study will help you discover what the Bible says about contentment and apply it to your life.
URL:https://www.ghcc4u.org/event/wednesday-night-womens-spring-bible-study-2017-11/
LOCATION:Granada Hills Community Church\, 11263 Balboa Blvd\, Granada Hills\, CA\, 91344\, United States
CATEGORIES:Bible Study
END:VEVENT
BEGIN:VEVENT
DTSTART;TZID=America/Los_Angeles:20170518T093000
DTEND;TZID=America/Los_Angeles:20170518T113000
DTSTAMP:20260424T015512
CREATED:20170417T212804Z
LAST-MODIFIED:20170417T212820Z
UID:27260-1495099800-1495107000@www.ghcc4u.org
SUMMARY:Thursday Morning Women's Spring Bible Study
DESCRIPTION:If you’re tired of worrying about all the what-ifs in your life and want to experience the calm and contentment promised in Scripture\, “Calm My Anxious Heart” is what you’ve been looking for.\nThis twelve-week study will help you discover what the Bible says about contentment and apply it to your life.
URL:https://www.ghcc4u.org/event/thursday-morning-womens-spring-bible-study-2017-9/
LOCATION:Granada Hills Community Church\, 11263 Balboa Blvd\, Granada Hills\, CA\, 91344\, United States
CATEGORIES:Bible Study
END:VEVENT
BEGIN:VEVENT
DTSTART;TZID=America/Los_Angeles:20170517T183000
DTEND;TZID=America/Los_Angeles:20170517T200000
DTSTAMP:20260424T015512
CREATED:20170511T003717Z
LAST-MODIFIED:20170511T003736Z
UID:27309-1495045800-1495051200@www.ghcc4u.org
SUMMARY:Wednesday Night Women's Spring Bible Study
DESCRIPTION:If you’re tired of worrying about all the what-ifs in your life and want to experience the calm and contentment promised in Scripture\, “Calm My Anxious Heart” is what you’ve been looking for.\nThis twelve-week study will help you discover what the Bible says about contentment and apply it to your life.
URL:https://www.ghcc4u.org/event/wednesday-night-womens-spring-bible-study-2017-10/
LOCATION:Granada Hills Community Church\, 11263 Balboa Blvd\, Granada Hills\, CA\, 91344\, United States
CATEGORIES:Bible Study
END:VEVENT
BEGIN:VEVENT
DTSTART;TZID=America/Los_Angeles:20170511T093000
DTEND;TZID=America/Los_Angeles:20170511T113000
DTSTAMP:20260424T015512
CREATED:20170417T212725Z
LAST-MODIFIED:20170417T212746Z
UID:27258-1494495000-1494502200@www.ghcc4u.org
SUMMARY:Thursday Morning Women's Spring Bible Study
DESCRIPTION:If you’re tired of worrying about all the what-ifs in your life and want to experience the calm and contentment promised in Scripture\, “Calm My Anxious Heart” is what you’ve been looking for.\nThis twelve-week study will help you discover what the Bible says about contentment and apply it to your life.
URL:https://www.ghcc4u.org/event/thursday-morning-womens-spring-bible-study-2017-8/
LOCATION:Granada Hills Community Church\, 11263 Balboa Blvd\, Granada Hills\, CA\, 91344\, United States
CATEGORIES:Bible Study
END:VEVENT
BEGIN:VEVENT
DTSTART;TZID=America/Los_Angeles:20170510T183000
DTEND;TZID=America/Los_Angeles:20170510T200000
DTSTAMP:20260424T015512
CREATED:20170511T003544Z
LAST-MODIFIED:20170511T003620Z
UID:27307-1494441000-1494446400@www.ghcc4u.org
SUMMARY:Wednesday Night Women's Spring Bible Study
DESCRIPTION:If you’re tired of worrying about all the what-ifs in your life and want to experience the calm and contentment promised in Scripture\, “Calm My Anxious Heart” is what you’ve been looking for.\nThis twelve-week study will help you discover what the Bible says about contentment and apply it to your life.
URL:https://www.ghcc4u.org/event/wednesday-night-womens-spring-bible-study-2017-9/
LOCATION:Granada Hills Community Church\, 11263 Balboa Blvd\, Granada Hills\, CA\, 91344\, United States
CATEGORIES:Bible Study
END:VEVENT
BEGIN:VEVENT
DTSTART;TZID=America/Los_Angeles:20170504T093000
DTEND;TZID=America/Los_Angeles:20170504T113000
DTSTAMP:20260424T015512
CREATED:20170417T212622Z
LAST-MODIFIED:20170417T212702Z
UID:27256-1493890200-1493897400@www.ghcc4u.org
SUMMARY:Thursday Morning Women's Spring Bible Study
DESCRIPTION:If you’re tired of worrying about all the what-ifs in your life and want to experience the calm and contentment promised in Scripture\, “Calm My Anxious Heart” is what you’ve been looking for.\nThis twelve-week study will help you discover what the Bible says about contentment and apply it to your life.
URL:https://www.ghcc4u.org/event/thursday-morning-womens-spring-bible-study-2017-7/
LOCATION:Granada Hills Community Church\, 11263 Balboa Blvd\, Granada Hills\, CA\, 91344\, United States
CATEGORIES:Bible Study
END:VEVENT
BEGIN:VEVENT
DTSTART;TZID=America/Los_Angeles:20170503T183000
DTEND;TZID=America/Los_Angeles:20170503T200000
DTSTAMP:20260424T015512
CREATED:20170417T212016Z
LAST-MODIFIED:20170417T212036Z
UID:27248-1493836200-1493841600@www.ghcc4u.org
SUMMARY:Wednesday Night Women's Spring Bible Study
DESCRIPTION:The city of Corinth was much like the cities of today–full of lots of struggling people. Paul wrote to encourage the early church to share the gospel in spite of their own hardships\, pain\, and struggles. He reminded the new believers that Christ makes all things new!\nIn this eight week study we will enjoy in-depth teaching in our homework and in Kelly’s DVD teaching sessions.
URL:https://www.ghcc4u.org/event/wednesday-night-womens-spring-bible-study-2017-8/
LOCATION:Granada Hills Community Church\, 11263 Balboa Blvd\, Granada Hills\, CA\, 91344\, United States
CATEGORIES:Bible Study
END:VEVENT
BEGIN:VEVENT
DTSTART;TZID=America/Los_Angeles:20170427T093000
DTEND;TZID=America/Los_Angeles:20170427T113000
DTSTAMP:20260424T015512
CREATED:20170327T191917Z
LAST-MODIFIED:20170403T220350Z
UID:27197-1493285400-1493292600@www.ghcc4u.org
SUMMARY:Thursday Morning Women's Spring Bible Study
DESCRIPTION:If you’re tired of worrying about all the what-ifs in your life and want to experience the calm and contentment promised in Scripture\, “Calm My Anxious Heart” is what you’ve been looking for.\nThis twelve-week study will help you discover what the Bible says about contentment and apply it to your life.
URL:https://www.ghcc4u.org/event/thursday-morning-womens-spring-bible-study-2017-6/
LOCATION:Granada Hills Community Church\, 11263 Balboa Blvd\, Granada Hills\, CA\, 91344\, United States
CATEGORIES:Bible Study
END:VEVENT
BEGIN:VEVENT
DTSTART;TZID=America/Los_Angeles:20170426T183000
DTEND;TZID=America/Los_Angeles:20170426T200000
DTSTAMP:20260424T015512
CREATED:20170327T191556Z
LAST-MODIFIED:20170403T215259Z
UID:27189-1493231400-1493236800@www.ghcc4u.org
SUMMARY:Wednesday Night Women's Spring Bible Study
DESCRIPTION:The city of Corinth was much like the cities of today–full of lots of struggling people. Paul wrote to encourage the early church to share the gospel in spite of their own hardships\, pain\, and struggles. He reminded the new believers that Christ makes all things new!\nIn this eight week study we will enjoy in-depth teaching in our homework and in Kelly’s DVD teaching sessions.
URL:https://www.ghcc4u.org/event/wednesday-night-womens-spring-bible-study-2017-7/
LOCATION:Granada Hills Community Church\, 11263 Balboa Blvd\, Granada Hills\, CA\, 91344\, United States
CATEGORIES:Bible Study
END:VEVENT
BEGIN:VEVENT
DTSTART;TZID=America/Los_Angeles:20170420T093000
DTEND;TZID=America/Los_Angeles:20170420T113000
DTSTAMP:20260424T015512
CREATED:20170327T191834Z
LAST-MODIFIED:20170403T215401Z
UID:27195-1492680600-1492687800@www.ghcc4u.org
SUMMARY:Thursday Morning Women's Spring Bible Study
DESCRIPTION:If you’re tired of worrying about all the what-ifs in your life and want to experience the calm and contentment promised in Scripture\, “Calm My Anxious Heart” is what you’ve been looking for.\nThis twelve-week study will help you discover what the Bible says about contentment and apply it to your life.
URL:https://www.ghcc4u.org/event/thursday-morning-womens-spring-bible-study-2017-5/
LOCATION:Granada Hills Community Church\, 11263 Balboa Blvd\, Granada Hills\, CA\, 91344\, United States
CATEGORIES:Bible Study
END:VEVENT
BEGIN:VEVENT
DTSTART;TZID=America/Los_Angeles:20170419T183000
DTEND;TZID=America/Los_Angeles:20170419T200000
DTSTAMP:20260424T015512
CREATED:20170327T191509Z
LAST-MODIFIED:20170403T215229Z
UID:27187-1492626600-1492632000@www.ghcc4u.org
SUMMARY:Wednesday Night Women's Spring Bible Study
DESCRIPTION:The city of Corinth was much like the cities of today–full of lots of struggling people. Paul wrote to encourage the early church to share the gospel in spite of their own hardships\, pain\, and struggles. He reminded the new believers that Christ makes all things new!\nIn this eight week study we will enjoy in-depth teaching in our homework and in Kelly’s DVD teaching sessions.
URL:https://www.ghcc4u.org/event/wednesday-night-womens-spring-bible-study-2017-6/
LOCATION:Granada Hills Community Church\, 11263 Balboa Blvd\, Granada Hills\, CA\, 91344\, United States
CATEGORIES:Bible Study
END:VEVENT
BEGIN:VEVENT
DTSTART;TZID=America/Los_Angeles:20170406T093000
DTEND;TZID=America/Los_Angeles:20170406T113000
DTSTAMP:20260424T015512
CREATED:20170327T191719Z
LAST-MODIFIED:20170327T191735Z
UID:27191-1491471000-1491478200@www.ghcc4u.org
SUMMARY:Thursday Morning Women's Spring Bible Study
DESCRIPTION:If you’re tired of worrying about all the what-ifs in your life and want to experience the calm and contentment promised in Scripture\, “Calm My Anxious Heart” is what you’ve been looking for.\nThis twelve-week study will help you discover what the Bible says about contentment and apply it to your life.
URL:https://www.ghcc4u.org/event/thursday-morning-womens-spring-bible-study-2017-4/
LOCATION:Granada Hills Community Church\, 11263 Balboa Blvd\, Granada Hills\, CA\, 91344\, United States
CATEGORIES:Bible Study
END:VEVENT
BEGIN:VEVENT
DTSTART;TZID=America/Los_Angeles:20170405T183000
DTEND;TZID=America/Los_Angeles:20170405T200000
DTSTAMP:20260424T015512
CREATED:20170327T191337Z
LAST-MODIFIED:20170327T191359Z
UID:27183-1491417000-1491422400@www.ghcc4u.org
SUMMARY:Wednesday Night Women's Spring Bible Study
DESCRIPTION:The city of Corinth was much like the cities of today–full of lots of struggling people. Paul wrote to encourage the early church to share the gospel in spite of their own hardships\, pain\, and struggles. He reminded the new believers that Christ makes all things new!\nIn this eight week study we will enjoy in-depth teaching in our homework and in Kelly’s DVD teaching sessions.
URL:https://www.ghcc4u.org/event/wednesday-night-womens-spring-bible-study-2017-5/
LOCATION:Granada Hills Community Church\, 11263 Balboa Blvd\, Granada Hills\, CA\, 91344\, United States
CATEGORIES:Bible Study
END:VEVENT
BEGIN:VEVENT
DTSTART;TZID=America/Los_Angeles:20170330T093000
DTEND;TZID=America/Los_Angeles:20170330T113000
DTSTAMP:20260424T015512
CREATED:20170301T185520Z
LAST-MODIFIED:20170303T005009Z
UID:27112-1490866200-1490873400@www.ghcc4u.org
SUMMARY:Thursday Morning Women's Spring Bible Study
DESCRIPTION:If you’re tired of worrying about all the what-ifs in your life and want to experience the calm and contentment promised in Scripture\, “Calm My Anxious Heart” is what you’ve been looking for.\nThis twelve-week study will help you discover what the Bible says about contentment and apply it to your life.
URL:https://www.ghcc4u.org/event/thursday-morning-womens-spring-bible-study-2017-3/
LOCATION:Granada Hills Community Church\, 11263 Balboa Blvd\, Granada Hills\, CA\, 91344\, United States
CATEGORIES:Bible Study
END:VEVENT
END:VCALENDAR