BEGIN:VCALENDAR
VERSION:2.0
PRODID:-//Granada Hills Community Church - ECPv6.15.20//NONSGML v1.0//EN
CALSCALE:GREGORIAN
METHOD:PUBLISH
X-ORIGINAL-URL:https://www.ghcc4u.org
X-WR-CALDESC:Events for Granada Hills Community Church
REFRESH-INTERVAL;VALUE=DURATION:PT1H
X-Robots-Tag:noindex
X-PUBLISHED-TTL:PT1H
BEGIN:VTIMEZONE
TZID:America/Los_Angeles
BEGIN:DAYLIGHT
TZOFFSETFROM:-0800
TZOFFSETTO:-0700
TZNAME:PDT
DTSTART:20160313T100000
END:DAYLIGHT
BEGIN:STANDARD
TZOFFSETFROM:-0700
TZOFFSETTO:-0800
TZNAME:PST
DTSTART:20161106T090000
END:STANDARD
BEGIN:DAYLIGHT
TZOFFSETFROM:-0800
TZOFFSETTO:-0700
TZNAME:PDT
DTSTART:20170312T100000
END:DAYLIGHT
BEGIN:STANDARD
TZOFFSETFROM:-0700
TZOFFSETTO:-0800
TZNAME:PST
DTSTART:20171105T090000
END:STANDARD
BEGIN:DAYLIGHT
TZOFFSETFROM:-0800
TZOFFSETTO:-0700
TZNAME:PDT
DTSTART:20180311T100000
END:DAYLIGHT
BEGIN:STANDARD
TZOFFSETFROM:-0700
TZOFFSETTO:-0800
TZNAME:PST
DTSTART:20181104T090000
END:STANDARD
END:VTIMEZONE
BEGIN:VTIMEZONE
TZID:America/Denver
BEGIN:DAYLIGHT
TZOFFSETFROM:-0700
TZOFFSETTO:-0600
TZNAME:MDT
DTSTART:20150308T090000
END:DAYLIGHT
BEGIN:STANDARD
TZOFFSETFROM:-0600
TZOFFSETTO:-0700
TZNAME:MST
DTSTART:20151101T080000
END:STANDARD
BEGIN:DAYLIGHT
TZOFFSETFROM:-0700
TZOFFSETTO:-0600
TZNAME:MDT
DTSTART:20160313T090000
END:DAYLIGHT
BEGIN:STANDARD
TZOFFSETFROM:-0600
TZOFFSETTO:-0700
TZNAME:MST
DTSTART:20161106T080000
END:STANDARD
BEGIN:DAYLIGHT
TZOFFSETFROM:-0700
TZOFFSETTO:-0600
TZNAME:MDT
DTSTART:20170312T090000
END:DAYLIGHT
BEGIN:STANDARD
TZOFFSETFROM:-0600
TZOFFSETTO:-0700
TZNAME:MST
DTSTART:20171105T080000
END:STANDARD
END:VTIMEZONE
BEGIN:VEVENT
DTSTART;TZID=America/Los_Angeles:20170129T090000
DTEND;TZID=America/Los_Angeles:20170129T100000
DTSTAMP:20260424T102639
CREATED:20161230T030913Z
LAST-MODIFIED:20161230T030931Z
UID:26766-1485680400-1485684000@www.ghcc4u.org
SUMMARY:Sunday Morning Women's Winter Bible Study
DESCRIPTION:
URL:https://www.ghcc4u.org/event/sunday-morning-womens-winter-bible-study-2017-3/
LOCATION:Granada Hills Community Church\, 11263 Balboa Blvd\, Granada Hills\, CA\, 91344\, United States
CATEGORIES:Bible Study
END:VEVENT
BEGIN:VEVENT
DTSTART;TZID=America/Los_Angeles:20170126T093000
DTEND;TZID=America/Los_Angeles:20170126T113000
DTSTAMP:20260424T102639
CREATED:20161230T025708Z
LAST-MODIFIED:20161230T025729Z
UID:26760-1485423000-1485430200@www.ghcc4u.org
SUMMARY:Thursday Morning Women's Winter Bible Study
DESCRIPTION:
URL:https://www.ghcc4u.org/event/thursday-morning-womens-winter-bible-study-2017-3/
LOCATION:Granada Hills Community Church\, 11263 Balboa Blvd\, Granada Hills\, CA\, 91344\, United States
CATEGORIES:Bible Study
END:VEVENT
BEGIN:VEVENT
DTSTART;TZID=America/Los_Angeles:20170125T183000
DTEND;TZID=America/Los_Angeles:20170125T200000
DTSTAMP:20260424T102639
CREATED:20161230T025208Z
LAST-MODIFIED:20161230T025230Z
UID:26754-1485369000-1485374400@www.ghcc4u.org
SUMMARY:Wednesday Night Women's Winter Bible Study
DESCRIPTION:
URL:https://www.ghcc4u.org/event/wednesday-night-womens-winter-bible-study-2017-3/
LOCATION:Granada Hills Community Church\, 11263 Balboa Blvd\, Granada Hills\, CA\, 91344\, United States
CATEGORIES:Bible Study
END:VEVENT
BEGIN:VEVENT
DTSTART;TZID=America/Los_Angeles:20170122T090000
DTEND;TZID=America/Los_Angeles:20170122T100000
DTSTAMP:20260424T102639
CREATED:20161230T030756Z
LAST-MODIFIED:20161230T030820Z
UID:26764-1485075600-1485079200@www.ghcc4u.org
SUMMARY:Sunday Morning Women's Winter Bible Study
DESCRIPTION:
URL:https://www.ghcc4u.org/event/sunday-morning-womens-winter-bible-study-2017-2/
LOCATION:Granada Hills Community Church\, 11263 Balboa Blvd\, Granada Hills\, CA\, 91344\, United States
CATEGORIES:Bible Study
END:VEVENT
BEGIN:VEVENT
DTSTART;TZID=America/Los_Angeles:20170119T093000
DTEND;TZID=America/Los_Angeles:20170119T113000
DTSTAMP:20260424T102639
CREATED:20161230T025558Z
LAST-MODIFIED:20161230T025620Z
UID:26758-1484818200-1484825400@www.ghcc4u.org
SUMMARY:Thursday Morning Women's Winter Bible Study
DESCRIPTION:
URL:https://www.ghcc4u.org/event/thursday-morning-womens-winter-bible-study-2017-2/
LOCATION:Granada Hills Community Church\, 11263 Balboa Blvd\, Granada Hills\, CA\, 91344\, United States
CATEGORIES:Bible Study
END:VEVENT
BEGIN:VEVENT
DTSTART;TZID=America/Los_Angeles:20170118T183000
DTEND;TZID=America/Los_Angeles:20170118T200000
DTSTAMP:20260424T102639
CREATED:20161230T025056Z
LAST-MODIFIED:20161230T025118Z
UID:26752-1484764200-1484769600@www.ghcc4u.org
SUMMARY:Wednesday Night Women's Winter Bible Study
DESCRIPTION:
URL:https://www.ghcc4u.org/event/wednesday-night-womens-winter-bible-study-2017-2/
LOCATION:Granada Hills Community Church\, 11263 Balboa Blvd\, Granada Hills\, CA\, 91344\, United States
CATEGORIES:Bible Study
END:VEVENT
BEGIN:VEVENT
DTSTART;TZID=America/Los_Angeles:20170115T090000
DTEND;TZID=America/Los_Angeles:20170115T100000
DTSTAMP:20260424T102639
CREATED:20161230T030612Z
LAST-MODIFIED:20161230T030643Z
UID:26762-1484470800-1484474400@www.ghcc4u.org
SUMMARY:Sunday Morning Women's Winter Bible Study
DESCRIPTION:
URL:https://www.ghcc4u.org/event/sunday-morning-womens-winter-bible-study-2017-1/
LOCATION:Granada Hills Community Church\, 11263 Balboa Blvd\, Granada Hills\, CA\, 91344\, United States
CATEGORIES:Bible Study
END:VEVENT
BEGIN:VEVENT
DTSTART;TZID=America/Los_Angeles:20170112T093000
DTEND;TZID=America/Los_Angeles:20170112T113000
DTSTAMP:20260424T102639
CREATED:20161230T025404Z
LAST-MODIFIED:20161230T025438Z
UID:26756-1484213400-1484220600@www.ghcc4u.org
SUMMARY:Thursday Morning Women's Winter Bible Study
DESCRIPTION:
URL:https://www.ghcc4u.org/event/thursday-morning-womens-winter-bible-study-2017-1/
LOCATION:Granada Hills Community Church\, 11263 Balboa Blvd\, Granada Hills\, CA\, 91344\, United States
CATEGORIES:Bible Study
END:VEVENT
BEGIN:VEVENT
DTSTART;TZID=America/Los_Angeles:20170111T183000
DTEND;TZID=America/Los_Angeles:20170111T200000
DTSTAMP:20260424T102639
CREATED:20161230T024235Z
LAST-MODIFIED:20161230T024934Z
UID:26746-1484159400-1484164800@www.ghcc4u.org
SUMMARY:Wednesday Night Women's Winter Bible Study
DESCRIPTION:
URL:https://www.ghcc4u.org/event/wednesday-night-womens-winter-bible-study-2017-1/
LOCATION:Granada Hills Community Church\, 11263 Balboa Blvd\, Granada Hills\, CA\, 91344\, United States
CATEGORIES:Bible Study
END:VEVENT
BEGIN:VEVENT
DTSTART;TZID=America/Denver:20161103T093000
DTEND;TZID=America/Denver:20161103T113000
DTSTAMP:20260424T102639
CREATED:20161014T000148Z
LAST-MODIFIED:20161014T000148Z
UID:26555-1478165400-1478172600@www.ghcc4u.org
SUMMARY:Women's Thursday Morning Bible Study
DESCRIPTION:\n				Please click here if you would like to download a copy of the flier in .pdf format.
URL:https://www.ghcc4u.org/event/womens-bible-study-7-2-2-2-2/
LOCATION:Granada Hills Community Church\, 11263 Balboa Blvd\, Granada Hills\, CA\, 91344\, United States
CATEGORIES:Bible Study
END:VEVENT
BEGIN:VEVENT
DTSTART;TZID=America/Denver:20161102T183000
DTEND;TZID=America/Denver:20161102T200000
DTSTAMP:20260424T102639
CREATED:20161013T234856Z
LAST-MODIFIED:20161013T234856Z
UID:26542-1478111400-1478116800@www.ghcc4u.org
SUMMARY:Women's Wednesday Night Bible Study
DESCRIPTION:\n				Please click here if you would like to download a copy of the flier in .pdf format.
URL:https://www.ghcc4u.org/event/womens-bible-study-5-2-2-2-2-2/
LOCATION:Granada Hills Community Church\, 11263 Balboa Blvd\, Granada Hills\, CA\, 91344\, United States
CATEGORIES:Bible Study
END:VEVENT
BEGIN:VEVENT
DTSTART;TZID=America/Denver:20161027T093000
DTEND;TZID=America/Denver:20161027T113000
DTSTAMP:20260424T102639
CREATED:20161014T000041Z
LAST-MODIFIED:20161014T000041Z
UID:26553-1477560600-1477567800@www.ghcc4u.org
SUMMARY:Women's Thursday Morning Bible Study
DESCRIPTION:\n				Please click here if you would like to download a copy of the flier in .pdf format.
URL:https://www.ghcc4u.org/event/womens-bible-study-7-2-2-2/
LOCATION:Granada Hills Community Church\, 11263 Balboa Blvd\, Granada Hills\, CA\, 91344\, United States
CATEGORIES:Bible Study
END:VEVENT
BEGIN:VEVENT
DTSTART;TZID=America/Denver:20161026T183000
DTEND;TZID=America/Denver:20161026T200000
DTSTAMP:20260424T102639
CREATED:20161013T234826Z
LAST-MODIFIED:20161013T234826Z
UID:26540-1477506600-1477512000@www.ghcc4u.org
SUMMARY:Women's Wednesday Night Bible Study
DESCRIPTION:\n				Please click here if you would like to download a copy of the flier in .pdf format.
URL:https://www.ghcc4u.org/event/womens-bible-study-5-2-2-2-2/
LOCATION:Granada Hills Community Church\, 11263 Balboa Blvd\, Granada Hills\, CA\, 91344\, United States
CATEGORIES:Bible Study
END:VEVENT
BEGIN:VEVENT
DTSTART;TZID=America/Denver:20161020T093000
DTEND;TZID=America/Denver:20161020T113000
DTSTAMP:20260424T102639
CREATED:20161014T000007Z
LAST-MODIFIED:20161014T000007Z
UID:26551-1476955800-1476963000@www.ghcc4u.org
SUMMARY:Women's Thursday Morning Bible Study
DESCRIPTION:\n				Please click here if you would like to download a copy of the flier in .pdf format.
URL:https://www.ghcc4u.org/event/womens-bible-study-7-2-2/
LOCATION:Granada Hills Community Church\, 11263 Balboa Blvd\, Granada Hills\, CA\, 91344\, United States
CATEGORIES:Bible Study
END:VEVENT
BEGIN:VEVENT
DTSTART;TZID=America/Denver:20161019T183000
DTEND;TZID=America/Denver:20161019T200000
DTSTAMP:20260424T102639
CREATED:20161013T234616Z
LAST-MODIFIED:20161013T234616Z
UID:26538-1476901800-1476907200@www.ghcc4u.org
SUMMARY:Women's Wednesday Night Bible Study
DESCRIPTION:\n				Please click here if you would like to download a copy of the flier in .pdf format.
URL:https://www.ghcc4u.org/event/womens-bible-study-5-2-2-2/
LOCATION:Granada Hills Community Church\, 11263 Balboa Blvd\, Granada Hills\, CA\, 91344\, United States
CATEGORIES:Bible Study
END:VEVENT
BEGIN:VEVENT
DTSTART;TZID=America/Denver:20161013T093000
DTEND;TZID=America/Denver:20161013T113000
DTSTAMP:20260424T102639
CREATED:20161013T235935Z
LAST-MODIFIED:20161013T235935Z
UID:26549-1476351000-1476358200@www.ghcc4u.org
SUMMARY:Women's Thursday Morning Bible Study
DESCRIPTION:\n				Please click here if you would like to download a copy of the flier in .pdf format.
URL:https://www.ghcc4u.org/event/womens-bible-study-7-2/
LOCATION:Granada Hills Community Church\, 11263 Balboa Blvd\, Granada Hills\, CA\, 91344\, United States
CATEGORIES:Bible Study
END:VEVENT
BEGIN:VEVENT
DTSTART;TZID=America/Denver:20161012T183000
DTEND;TZID=America/Denver:20161012T200000
DTSTAMP:20260424T102639
CREATED:20161013T234542Z
LAST-MODIFIED:20161013T234542Z
UID:26536-1476297000-1476302400@www.ghcc4u.org
SUMMARY:Women's Wednesday Night Bible Study
DESCRIPTION:\n				Please click here if you would like to download a copy of the flier in .pdf format.
URL:https://www.ghcc4u.org/event/womens-bible-study-5-2-2/
LOCATION:Granada Hills Community Church\, 11263 Balboa Blvd\, Granada Hills\, CA\, 91344\, United States
CATEGORIES:Bible Study
END:VEVENT
BEGIN:VEVENT
DTSTART;TZID=America/Denver:20161006T093000
DTEND;TZID=America/Denver:20161006T113000
DTSTAMP:20260424T102639
CREATED:20160908T181442Z
LAST-MODIFIED:20161013T235540Z
UID:26505-1475746200-1475753400@www.ghcc4u.org
SUMMARY:Women's Thursday Morning Bible Study
DESCRIPTION:\n				Please click here if you would like to download a copy of the flier in .pdf format.
URL:https://www.ghcc4u.org/event/womens-bible-study-7/
LOCATION:Granada Hills Community Church\, 11263 Balboa Blvd\, Granada Hills\, CA\, 91344\, United States
CATEGORIES:Bible Study
END:VEVENT
BEGIN:VEVENT
DTSTART;TZID=America/Denver:20161005T183000
DTEND;TZID=America/Denver:20161005T200000
DTSTAMP:20260424T102639
CREATED:20161013T234454Z
LAST-MODIFIED:20161013T234454Z
UID:26534-1475692200-1475697600@www.ghcc4u.org
SUMMARY:Women's Wednesday Night Bible Study
DESCRIPTION:\n				Please click here if you would like to download a copy of the flier in .pdf format.
URL:https://www.ghcc4u.org/event/womens-bible-study-5-2/
LOCATION:Granada Hills Community Church\, 11263 Balboa Blvd\, Granada Hills\, CA\, 91344\, United States
CATEGORIES:Bible Study
END:VEVENT
BEGIN:VEVENT
DTSTART;TZID=America/Denver:20160929T093000
DTEND;TZID=America/Denver:20160929T113000
DTSTAMP:20260424T102639
CREATED:20160830T222811Z
LAST-MODIFIED:20161013T234213Z
UID:26487-1475141400-1475148600@www.ghcc4u.org
SUMMARY:Women's Thursday Morning Bible Study
DESCRIPTION:\n				Please click here if you would like to download a copy of the flier in .pdf format.
URL:https://www.ghcc4u.org/event/womens-bible-study-6/
LOCATION:Granada Hills Community Church\, 11263 Balboa Blvd\, Granada Hills\, CA\, 91344\, United States
CATEGORIES:Bible Study
END:VEVENT
BEGIN:VEVENT
DTSTART;TZID=America/Denver:20160928T183000
DTEND;TZID=America/Denver:20160928T200000
DTSTAMP:20260424T102639
CREATED:20160830T222739Z
LAST-MODIFIED:20161013T234135Z
UID:26485-1475087400-1475092800@www.ghcc4u.org
SUMMARY:Women's Wednesday Night Bible Study
DESCRIPTION:\n				Please click here if you would like to download a copy of the flier in .pdf format.
URL:https://www.ghcc4u.org/event/womens-bible-study-5/
LOCATION:Granada Hills Community Church\, 11263 Balboa Blvd\, Granada Hills\, CA\, 91344\, United States
CATEGORIES:Bible Study
END:VEVENT
BEGIN:VEVENT
DTSTART;TZID=America/Denver:20160922T093000
DTEND;TZID=America/Denver:20160922T113000
DTSTAMP:20260424T102639
CREATED:20160830T222704Z
LAST-MODIFIED:20161013T235329Z
UID:26483-1474536600-1474543800@www.ghcc4u.org
SUMMARY:Women's Thursday Morning Bible Study
DESCRIPTION:\n				Please click here if you would like to download a copy of the flier in .pdf format.
URL:https://www.ghcc4u.org/event/womens-bible-study-4/
LOCATION:Granada Hills Community Church\, 11263 Balboa Blvd\, Granada Hills\, CA\, 91344\, United States
CATEGORIES:Bible Study
END:VEVENT
BEGIN:VEVENT
DTSTART;TZID=America/Denver:20160921T183000
DTEND;TZID=America/Denver:20160921T200000
DTSTAMP:20260424T102639
CREATED:20160830T222631Z
LAST-MODIFIED:20161013T235253Z
UID:26481-1474482600-1474488000@www.ghcc4u.org
SUMMARY:Women's Wednesday Night Bible Study
DESCRIPTION:\n				Please click here if you would like to download a copy of the flier in .pdf format.
URL:https://www.ghcc4u.org/event/womens-bible-study-3/
LOCATION:Granada Hills Community Church\, 11263 Balboa Blvd\, Granada Hills\, CA\, 91344\, United States
CATEGORIES:Bible Study
END:VEVENT
BEGIN:VEVENT
DTSTART;TZID=America/Denver:20160915T093000
DTEND;TZID=America/Denver:20160915T113000
DTSTAMP:20260424T102639
CREATED:20160830T222532Z
LAST-MODIFIED:20161013T235158Z
UID:26479-1473931800-1473939000@www.ghcc4u.org
SUMMARY:Women's Thursday Morning Bible Study
DESCRIPTION:\n				Please click here if you would like to download a copy of the flier in .pdf format.
URL:https://www.ghcc4u.org/event/womens-bible-study-2/
LOCATION:Granada Hills Community Church\, 11263 Balboa Blvd\, Granada Hills\, CA\, 91344\, United States
CATEGORIES:Bible Study
END:VEVENT
BEGIN:VEVENT
DTSTART;TZID=America/Denver:20160914T183000
DTEND;TZID=America/Denver:20160914T200000
DTSTAMP:20260424T102639
CREATED:20160830T222232Z
LAST-MODIFIED:20161013T235108Z
UID:26474-1473877800-1473883200@www.ghcc4u.org
SUMMARY:Women's Wednesday Night Bible Study
DESCRIPTION:\n				Please click here if you would like to download a copy of the flier in .pdf format.
URL:https://www.ghcc4u.org/event/womens-bible-study/
LOCATION:Granada Hills Community Church\, 11263 Balboa Blvd\, Granada Hills\, CA\, 91344\, United States
CATEGORIES:Bible Study
END:VEVENT
BEGIN:VEVENT
DTSTART;TZID=America/Denver:20160831T183000
DTEND;TZID=America/Denver:20160831T200000
DTSTAMP:20260424T102639
CREATED:20160815T191645Z
LAST-MODIFIED:20160815T191645Z
UID:26460-1472668200-1472673600@www.ghcc4u.org
SUMMARY:Women's Summer Bible Study
DESCRIPTION:\n				Please click here if you would like to download a copy of the flier in .pdf format.
URL:https://www.ghcc4u.org/event/womens-summer-bible-study-6/
LOCATION:Granada Hills Community Church\, 11263 Balboa Blvd\, Granada Hills\, CA\, 91344\, United States
CATEGORIES:Bible Study
END:VEVENT
BEGIN:VEVENT
DTSTART;TZID=America/Denver:20160824T183000
DTEND;TZID=America/Denver:20160824T200000
DTSTAMP:20260424T102639
CREATED:20160804T000336Z
LAST-MODIFIED:20160804T012152Z
UID:26402-1472063400-1472068800@www.ghcc4u.org
SUMMARY:Women's Summer Bible Study
DESCRIPTION:\n				Please click here if you would like to download a copy of the flier in .pdf format.
URL:https://www.ghcc4u.org/event/womens-summer-bible-study-5/
LOCATION:Granada Hills Community Church\, 11263 Balboa Blvd\, Granada Hills\, CA\, 91344\, United States
CATEGORIES:Bible Study
END:VEVENT
BEGIN:VEVENT
DTSTART;TZID=America/Denver:20160817T183000
DTEND;TZID=America/Denver:20160817T200000
DTSTAMP:20260424T102639
CREATED:20160804T000122Z
LAST-MODIFIED:20160804T012127Z
UID:26400-1471458600-1471464000@www.ghcc4u.org
SUMMARY:Women's Summer Bible Study
DESCRIPTION:\n				Please click here if you would like to download a copy of the flier in .pdf format.
URL:https://www.ghcc4u.org/event/womens-summer-bible-study-4/
LOCATION:Granada Hills Community Church\, 11263 Balboa Blvd\, Granada Hills\, CA\, 91344\, United States
CATEGORIES:Bible Study
END:VEVENT
BEGIN:VEVENT
DTSTART;TZID=America/Denver:20160810T183000
DTEND;TZID=America/Denver:20160810T200000
DTSTAMP:20260424T102639
CREATED:20160730T111831Z
LAST-MODIFIED:20160804T012101Z
UID:26011-1470853800-1470859200@www.ghcc4u.org
SUMMARY:Women's Summer Bible Study
DESCRIPTION:\n				Please click here if you would like to download a copy of the flier in .pdf format.
URL:https://www.ghcc4u.org/event/womens-summer-bible-study-3/
LOCATION:Granada Hills Community Church\, 11263 Balboa Blvd\, Granada Hills\, CA\, 91344\, United States
CATEGORIES:Bible Study
END:VEVENT
BEGIN:VEVENT
DTSTART;TZID=America/Denver:20160803T183000
DTEND;TZID=America/Denver:20160803T200000
DTSTAMP:20260424T102639
CREATED:20160724T081418Z
LAST-MODIFIED:20160804T012034Z
UID:24906-1470249000-1470254400@www.ghcc4u.org
SUMMARY:Women's Summer Bible Study
DESCRIPTION:\n				Please click here if you would like to download a copy of the flier in .pdf format.
URL:https://www.ghcc4u.org/event/womens-summer-bible-study-2/
LOCATION:Granada Hills Community Church\, 11263 Balboa Blvd\, Granada Hills\, CA\, 91344\, United States
CATEGORIES:Bible Study
END:VEVENT
END:VCALENDAR