BEGIN:VCALENDAR
VERSION:2.0
PRODID:-//Granada Hills Community Church - ECPv6.15.20//NONSGML v1.0//EN
CALSCALE:GREGORIAN
METHOD:PUBLISH
X-ORIGINAL-URL:https://www.ghcc4u.org
X-WR-CALDESC:Events for Granada Hills Community Church
REFRESH-INTERVAL;VALUE=DURATION:PT1H
X-Robots-Tag:noindex
X-PUBLISHED-TTL:PT1H
BEGIN:VTIMEZONE
TZID:America/Los_Angeles
BEGIN:DAYLIGHT
TZOFFSETFROM:-0800
TZOFFSETTO:-0700
TZNAME:PDT
DTSTART:20180311T100000
END:DAYLIGHT
BEGIN:STANDARD
TZOFFSETFROM:-0700
TZOFFSETTO:-0800
TZNAME:PST
DTSTART:20181104T090000
END:STANDARD
BEGIN:DAYLIGHT
TZOFFSETFROM:-0800
TZOFFSETTO:-0700
TZNAME:PDT
DTSTART:20190310T100000
END:DAYLIGHT
BEGIN:STANDARD
TZOFFSETFROM:-0700
TZOFFSETTO:-0800
TZNAME:PST
DTSTART:20191103T090000
END:STANDARD
BEGIN:DAYLIGHT
TZOFFSETFROM:-0800
TZOFFSETTO:-0700
TZNAME:PDT
DTSTART:20200308T100000
END:DAYLIGHT
BEGIN:STANDARD
TZOFFSETFROM:-0700
TZOFFSETTO:-0800
TZNAME:PST
DTSTART:20201101T090000
END:STANDARD
BEGIN:DAYLIGHT
TZOFFSETFROM:-0800
TZOFFSETTO:-0700
TZNAME:PDT
DTSTART:20210314T100000
END:DAYLIGHT
BEGIN:STANDARD
TZOFFSETFROM:-0700
TZOFFSETTO:-0800
TZNAME:PST
DTSTART:20211107T090000
END:STANDARD
BEGIN:DAYLIGHT
TZOFFSETFROM:-0800
TZOFFSETTO:-0700
TZNAME:PDT
DTSTART:20220313T100000
END:DAYLIGHT
BEGIN:STANDARD
TZOFFSETFROM:-0700
TZOFFSETTO:-0800
TZNAME:PST
DTSTART:20221106T090000
END:STANDARD
BEGIN:DAYLIGHT
TZOFFSETFROM:-0800
TZOFFSETTO:-0700
TZNAME:PDT
DTSTART:20230312T100000
END:DAYLIGHT
BEGIN:STANDARD
TZOFFSETFROM:-0700
TZOFFSETTO:-0800
TZNAME:PST
DTSTART:20231105T090000
END:STANDARD
BEGIN:DAYLIGHT
TZOFFSETFROM:-0800
TZOFFSETTO:-0700
TZNAME:PDT
DTSTART:20240310T100000
END:DAYLIGHT
BEGIN:STANDARD
TZOFFSETFROM:-0700
TZOFFSETTO:-0800
TZNAME:PST
DTSTART:20241103T090000
END:STANDARD
BEGIN:DAYLIGHT
TZOFFSETFROM:-0800
TZOFFSETTO:-0700
TZNAME:PDT
DTSTART:20250309T100000
END:DAYLIGHT
BEGIN:STANDARD
TZOFFSETFROM:-0700
TZOFFSETTO:-0800
TZNAME:PST
DTSTART:20251102T090000
END:STANDARD
END:VTIMEZONE
BEGIN:VEVENT
DTSTART;TZID=America/Los_Angeles:20241013T150000
DTEND;TZID=America/Los_Angeles:20241013T170000
DTSTAMP:20260423T203138
CREATED:20240930T191718Z
LAST-MODIFIED:20240930T191718Z
UID:30788-1728831600-1728838800@www.ghcc4u.org
SUMMARY:Baptism Celebration
DESCRIPTION:Please join us in celebrating what God has done in the lives of new believers who have committed their lives to Christ in the waters of baptism.\nA potluck BBQ will follow the baptism.
URL:https://www.ghcc4u.org/event/baptism-celebration-2024-1/
LOCATION:Pastor Ron & Kathy Seidel’s Home\, 25201 Keats Ln\, Stevenson Ranch\, CA\, 91381\, United States
CATEGORIES:Baptism
ATTACH;FMTTYPE=image/jpeg:https://www.ghcc4u.org/wp-content/uploads/2019/09/baptism.jpg
END:VEVENT
BEGIN:VEVENT
DTSTART;TZID=America/Los_Angeles:20221009T150000
DTEND;TZID=America/Los_Angeles:20221009T170000
DTSTAMP:20260423T203138
CREATED:20220919T190112Z
LAST-MODIFIED:20220919T190252Z
UID:29918-1665327600-1665334800@www.ghcc4u.org
SUMMARY:Baptism Celebration
DESCRIPTION:Please join us in celebrating what God has done in the lives of new believers who have committed their lives to Christ in the waters of baptism.\nA potluck BBQ will follow the baptism.
URL:https://www.ghcc4u.org/event/baptism-celebration-2022-1/
LOCATION:Pastor Ron & Kathy Seidel’s Home\, 25201 Keats Ln\, Stevenson Ranch\, CA\, 91381\, United States
CATEGORIES:Baptism
ATTACH;FMTTYPE=image/jpeg:https://www.ghcc4u.org/wp-content/uploads/2019/09/baptism.jpg
END:VEVENT
BEGIN:VEVENT
DTSTART;TZID=America/Los_Angeles:20191006T150000
DTEND;TZID=America/Los_Angeles:20191006T170000
DTSTAMP:20260423T203138
CREATED:20190930T200354Z
LAST-MODIFIED:20190930T200420Z
UID:29132-1570374000-1570381200@www.ghcc4u.org
SUMMARY:Baptism Service
DESCRIPTION:Please join us in celebrating what God has done in the lives of new believers who have committed their lives to Christ in the waters of baptism.\nA potluck BBQ will follow the service.
URL:https://www.ghcc4u.org/event/baptism-service-2019-1/
LOCATION:Pastor Ron & Kathy Seidel’s Home\, 25201 Keats Ln\, Stevenson Ranch\, CA\, 91381\, United States
CATEGORIES:Baptism
ATTACH;FMTTYPE=image/jpeg:https://www.ghcc4u.org/wp-content/uploads/2019/09/baptism.jpg
END:VEVENT
END:VCALENDAR