BEGIN:VCALENDAR
VERSION:2.0
PRODID:-//Granada Hills Community Church - ECPv6.15.20//NONSGML v1.0//EN
CALSCALE:GREGORIAN
METHOD:PUBLISH
X-ORIGINAL-URL:https://www.ghcc4u.org
X-WR-CALDESC:Events for Granada Hills Community Church
REFRESH-INTERVAL;VALUE=DURATION:PT1H
X-Robots-Tag:noindex
X-PUBLISHED-TTL:PT1H
BEGIN:VTIMEZONE
TZID:America/Denver
BEGIN:DAYLIGHT
TZOFFSETFROM:-0700
TZOFFSETTO:-0600
TZNAME:MDT
DTSTART:20240310T090000
END:DAYLIGHT
BEGIN:STANDARD
TZOFFSETFROM:-0600
TZOFFSETTO:-0700
TZNAME:MST
DTSTART:20241103T080000
END:STANDARD
BEGIN:DAYLIGHT
TZOFFSETFROM:-0700
TZOFFSETTO:-0600
TZNAME:MDT
DTSTART:20250309T090000
END:DAYLIGHT
BEGIN:STANDARD
TZOFFSETFROM:-0600
TZOFFSETTO:-0700
TZNAME:MST
DTSTART:20251102T080000
END:STANDARD
BEGIN:DAYLIGHT
TZOFFSETFROM:-0700
TZOFFSETTO:-0600
TZNAME:MDT
DTSTART:20260308T090000
END:DAYLIGHT
BEGIN:STANDARD
TZOFFSETFROM:-0600
TZOFFSETTO:-0700
TZNAME:MST
DTSTART:20261101T080000
END:STANDARD
END:VTIMEZONE
BEGIN:VEVENT
DTSTART;TZID=America/Denver:20251125T190000
DTEND;TZID=America/Denver:20251125T203000
DTSTAMP:20260423T171555
CREATED:20251103T201718Z
LAST-MODIFIED:20251103T201802Z
UID:31488-1764097200-1764102600@www.ghcc4u.org
SUMMARY:Thanksgiving Celebration
DESCRIPTION:Please come join us for communion and thanksgiving as we worship together as a church family.
URL:https://www.ghcc4u.org/event/thanksgiving-celebration-2025-1/
LOCATION:Granada Hills Community Church\, 11263 Balboa Blvd\, Granada Hills\, CA\, 91344\, United States
CATEGORIES:Service
ATTACH;FMTTYPE=image/jpeg:https://www.ghcc4u.org/wp-content/uploads/2019/02/thanksgiving-service.jpg
END:VEVENT
END:VCALENDAR