BEGIN:VCALENDAR
VERSION:2.0
PRODID:-//Granada Hills Community Church - ECPv6.15.20//NONSGML v1.0//EN
CALSCALE:GREGORIAN
METHOD:PUBLISH
X-ORIGINAL-URL:https://www.ghcc4u.org
X-WR-CALDESC:Events for Granada Hills Community Church
REFRESH-INTERVAL;VALUE=DURATION:PT1H
X-Robots-Tag:noindex
X-PUBLISHED-TTL:PT1H
BEGIN:VTIMEZONE
TZID:America/Los_Angeles
BEGIN:DAYLIGHT
TZOFFSETFROM:-0800
TZOFFSETTO:-0700
TZNAME:PDT
DTSTART:20240310T100000
END:DAYLIGHT
BEGIN:STANDARD
TZOFFSETFROM:-0700
TZOFFSETTO:-0800
TZNAME:PST
DTSTART:20241103T090000
END:STANDARD
BEGIN:DAYLIGHT
TZOFFSETFROM:-0800
TZOFFSETTO:-0700
TZNAME:PDT
DTSTART:20250309T100000
END:DAYLIGHT
BEGIN:STANDARD
TZOFFSETFROM:-0700
TZOFFSETTO:-0800
TZNAME:PST
DTSTART:20251102T090000
END:STANDARD
BEGIN:DAYLIGHT
TZOFFSETFROM:-0800
TZOFFSETTO:-0700
TZNAME:PDT
DTSTART:20260308T100000
END:DAYLIGHT
BEGIN:STANDARD
TZOFFSETFROM:-0700
TZOFFSETTO:-0800
TZNAME:PST
DTSTART:20261101T090000
END:STANDARD
END:VTIMEZONE
BEGIN:VEVENT
DTSTART;TZID=America/Los_Angeles:20250723T183000
DTEND;TZID=America/Los_Angeles:20250723T200000
DTSTAMP:20260423T233751
CREATED:20250602T182342Z
LAST-MODIFIED:20250602T182356Z
UID:31136-1753295400-1753300800@www.ghcc4u.org
SUMMARY:Summer Fundamentals
DESCRIPTION:“But grow in the grace and knowledge of our Lord and Savior Jesus Christ. To him be the glory both now and to the day of eternity. Amen.” –2 Peter 3:18\nChristians are commanded to grow in the grace and knowledge of our Savior. Whether you are new to the faith or have been in church all your life\, grasping the basic truths of Christianity reflects a commitment to grow. It takes discipline to be a disciple\, and Summer Fundamentals is designed to engage you in the process of maturing in your faith.\nThis ten-week course is designed to help ground you in basic doctrines of the Christian faith\, including the nature of divine revelation\, the origin\, structure\, and dependability of the Scriptures\, the character of our triune God\, the Person and work of Christ particularly in salvation\, the indwelling work of the Holy Spirit\, and the nature of the church and spiritual gifts.
URL:https://www.ghcc4u.org/event/summer-fundamentals-2025-07/
LOCATION:Granada Hills Community Church\, 11263 Balboa Blvd\, Granada Hills\, CA\, 91344\, United States
CATEGORIES:Bible Study
ATTACH;FMTTYPE=image/jpeg:https://www.ghcc4u.org/wp-content/uploads/2019/05/fundamentals.jpg
END:VEVENT
END:VCALENDAR